BEGIN:VCALENDAR
VERSION:2.0
PRODID:-//RSDO - ECPv6.15.20//NONSGML v1.0//EN
CALSCALE:GREGORIAN
METHOD:PUBLISH
X-WR-CALNAME:RSDO
X-ORIGINAL-URL:https://www.rsdo.org
X-WR-CALDESC:Évènements pour RSDO
REFRESH-INTERVAL;VALUE=DURATION:PT1H
X-Robots-Tag:noindex
X-PUBLISHED-TTL:PT1H
BEGIN:VTIMEZONE
TZID:America/New_York
BEGIN:DAYLIGHT
TZOFFSETFROM:-0500
TZOFFSETTO:-0400
TZNAME:EDT
DTSTART:20210314T070000
END:DAYLIGHT
BEGIN:STANDARD
TZOFFSETFROM:-0400
TZOFFSETTO:-0500
TZNAME:EST
DTSTART:20211107T060000
END:STANDARD
BEGIN:DAYLIGHT
TZOFFSETFROM:-0500
TZOFFSETTO:-0400
TZNAME:EDT
DTSTART:20220313T070000
END:DAYLIGHT
BEGIN:STANDARD
TZOFFSETFROM:-0400
TZOFFSETTO:-0500
TZNAME:EST
DTSTART:20221106T060000
END:STANDARD
BEGIN:DAYLIGHT
TZOFFSETFROM:-0500
TZOFFSETTO:-0400
TZNAME:EDT
DTSTART:20230312T070000
END:DAYLIGHT
BEGIN:STANDARD
TZOFFSETFROM:-0400
TZOFFSETTO:-0500
TZNAME:EST
DTSTART:20231105T060000
END:STANDARD
END:VTIMEZONE
BEGIN:VEVENT
DTSTART;TZID=America/New_York:20221218T110000
DTEND;TZID=America/New_York:20221218T130000
DTSTAMP:20260419T152019
CREATED:20220826T043819Z
LAST-MODIFIED:20220826T044059Z
UID:10000721-1671361200-1671368400@www.rsdo.org
SUMMARY:BRUNCH - Brasserie Le Manoir Lachine
DESCRIPTION:Ne restez pas seul !  \nVenez déjeuner en bonne compagnie ! \nCet automne\, nous tiendrons un brunch toutes les deux semaines et ce\, jusqu’au mois de décembre. \nPour informations et réservation\, veuillez communiquer avec Michel Verreault au 514-567-4623.
URL:https://www.rsdo.org/evenements/brunch-2/2022-12-18/
LOCATION:Brasserie le Manoir de Lachine\, 625 32e Avenue\, Lachine\, Quebec\, H8T 3G6\, Canada
CATEGORIES:Soutien émotionnel
ATTACH;FMTTYPE=image/png:https://www.rsdo.org/wp-content/uploads/2022/08/BRUNCHS.png
GEO:45.4397442;-73.6924252
X-APPLE-STRUCTURED-LOCATION;VALUE=URI;X-ADDRESS=Brasserie le Manoir de Lachine 625 32e Avenue Lachine Quebec H8T 3G6 Canada;X-APPLE-RADIUS=500;X-TITLE=625 32e Avenue:geo:-73.6924252,45.4397442
END:VEVENT
END:VCALENDAR