BEGIN:VCALENDAR
VERSION:2.0
PRODID:-//RSDO - ECPv6.15.20//NONSGML v1.0//EN
CALSCALE:GREGORIAN
METHOD:PUBLISH
X-ORIGINAL-URL:https://www.rsdo.org
X-WR-CALDESC:Évènements pour RSDO
REFRESH-INTERVAL;VALUE=DURATION:PT1H
X-Robots-Tag:noindex
X-PUBLISHED-TTL:PT1H
BEGIN:VTIMEZONE
TZID:America/New_York
BEGIN:DAYLIGHT
TZOFFSETFROM:-0500
TZOFFSETTO:-0400
TZNAME:EDT
DTSTART:20210314T070000
END:DAYLIGHT
BEGIN:STANDARD
TZOFFSETFROM:-0400
TZOFFSETTO:-0500
TZNAME:EST
DTSTART:20211107T060000
END:STANDARD
BEGIN:DAYLIGHT
TZOFFSETFROM:-0500
TZOFFSETTO:-0400
TZNAME:EDT
DTSTART:20220313T070000
END:DAYLIGHT
BEGIN:STANDARD
TZOFFSETFROM:-0400
TZOFFSETTO:-0500
TZNAME:EST
DTSTART:20221106T060000
END:STANDARD
BEGIN:DAYLIGHT
TZOFFSETFROM:-0500
TZOFFSETTO:-0400
TZNAME:EDT
DTSTART:20230312T070000
END:DAYLIGHT
BEGIN:STANDARD
TZOFFSETFROM:-0400
TZOFFSETTO:-0500
TZNAME:EST
DTSTART:20231105T060000
END:STANDARD
END:VTIMEZONE
BEGIN:VEVENT
DTSTART;TZID=America/New_York:20221208T093000
DTEND;TZID=America/New_York:20221208T093000
DTSTAMP:20260419T201913
CREATED:20220831T004735Z
LAST-MODIFIED:20220831T010609Z
UID:10002233-1670491800-1670491800@www.rsdo.org
SUMMARY:Marches hebdomadaires (L'Île-Bizard)
DESCRIPTION:Activité gratuite ouverte à tous (non-membres bienvenus) \nLe RSDO a deux points de rencontre (Vaudreuil-Dorion et Île-Bizard) pour les marches hebdomadaires qui sont ouvertes à toutes et à tous\, quel que soit votre niveau d’activité. \nLes responsables pour chacun des groupes communiquent avec les participants lors de changements ou d’annulations de l’activité. \nLes marches sont d’une durée de 60 à 90 minutes et nous demandons aux marcheurs de se présenter au point de rencontre au moins 10 minutes avant le départ. \nLes marches du Groupe Vaudreuil-Dorion se terminent souvent par une rencontre amicale au restaurant ou dans un café. \nPour informations générales\, veuillez communiquer avec Pauline Debonville à sociale@rsdo.org ou par téléphone au 514-830-1166 ou au 450‑510‑1931. \n  \n\n\n\nGroupe de l’Île-Bizard                                                                Les lundis et jeudis à 9 h 30 \nPoint de rencontre     Complexe sportif Saint-Raphaël\, au stationnement près de l’entrée du parc \n750\, boulevard Jacques-Bizard \nStationnement            Au complexe sportif\, près du boulevard Jacques-Bizard \nResponsables             Carole Larivière (514-626-9306) et \nGisèle Talbot (514-620-6652)\n\n\n\n\n\n\nGroupe de Vaudreuil-Dorion                                           Les mardis et jeudis à 10 h 30 * \nPoint de rencontre     Dans le stationnement de la rue Dumont\, derrière la Tour d’eau\, \nà côté de l’Opti-Centre Saint-Jean-Baptiste sis au 145\, boulevard Hardwood \nStationnement            Dans les stationnements voisins de la Tour d’eau \nResponsable               Pauline Debonville (450-510-1931) \n*   Plus tard à l’automne\, les marches débuteront à 13 h 30 et les participants en seront informés par courriel.
URL:https://www.rsdo.org/evenements/marches-hebdomadaires-ile-bizard-2/2022-12-08/
LOCATION:Québec
CATEGORIES:Ateliers
ATTACH;FMTTYPE=image/jpeg:https://www.rsdo.org/wp-content/uploads/2022/08/Marches-Automne-2022.jpg
END:VEVENT
BEGIN:VEVENT
DTSTART;TZID=America/New_York:20221208T093000
DTEND;TZID=America/New_York:20221208T120000
DTSTAMP:20260419T201913
CREATED:20220831T004225Z
LAST-MODIFIED:20220831T010424Z
UID:10002203-1670491800-1670500800@www.rsdo.org
SUMMARY:Marches hebdomadaires (Vaudreuil-Dorion)
DESCRIPTION:Activité gratuite ouverte à tous (non-membres bienvenus) \nLe RSDO a deux points de rencontre (Vaudreuil-Dorion et Île-Bizard) pour les marches hebdomadaires qui sont ouvertes à toutes et à tous\, quel que soit votre niveau d’activité. \nLes responsables pour chacun des groupes communiquent avec les participants lors de changements ou d’annulations de l’activité. \nLes marches sont d’une durée de 60 à 90 minutes et nous demandons aux marcheurs de se présenter au point de rencontre au moins 10 minutes avant le départ. \nLes marches du Groupe Vaudreuil-Dorion se terminent souvent par une rencontre amicale au restaurant ou dans un café. \nPour informations générales\, veuillez communiquer avec Pauline Debonville à sociale@rsdo.org ou par téléphone au 514-830-1166 ou au 450‑510‑1931. \n\n\n\nGroupe de Vaudreuil-Dorion                                           Les mardis et jeudis à 10 h 30 * \nPoint de rencontre     Dans le stationnement de la rue Dumont\, derrière la Tour d’eau\, \nà côté de l’Opti-Centre Saint-Jean-Baptiste sis au 145\, boulevard Hardwood \nStationnement            Dans les stationnements voisins de la Tour d’eau \nResponsable               Pauline Debonville (450-510-1931) \n*   Plus tard à l’automne\, les marches débuteront à 13 h 30 et les participants en seront informés par courriel.\n\n\n\n\n\n\nGroupe de l’Île-Bizard                                                                Les lundis et jeudis à 9 h 30 \nPoint de rencontre     Complexe sportif Saint-Raphaël\, au stationnement près de l’entrée du parc \n750\, boulevard Jacques-Bizard \nStationnement            Au complexe sportif\, près du boulevard Jacques-Bizard \nResponsables             Carole Larivière (514-626-9306) et \nGisèle Talbot (514-620-6652)\n\n\n\n 
URL:https://www.rsdo.org/evenements/marches-hebdomadaires-vaudreuil-dorion-2/2022-12-08/
LOCATION:Québec
CATEGORIES:Ateliers
ATTACH;FMTTYPE=image/jpeg:https://www.rsdo.org/wp-content/uploads/2022/08/Marches-Automne-2022.jpg
END:VEVENT
BEGIN:VEVENT
DTSTART;TZID=America/New_York:20221208T193000
DTEND;TZID=America/New_York:20221208T210000
DTSTAMP:20260419T201913
CREATED:20220831T001138Z
LAST-MODIFIED:20220831T001243Z
UID:10000718-1670527800-1670533200@www.rsdo.org
SUMMARY:Serge Lanoue       	L’hypnose dans tous ses états
DESCRIPTION:Gratuit pour les membres | 5 $ pour les non-membres \nBien qu’il ait une formation académique en administration\, Serge Lanoue est avant tout un autodidacte qui consacre quelques semaines par année à son développement personnel et cette démarche l’a amené à suivre plusieurs cours intensifs à l’étranger et au Canada. Grâce à sa riche expérience de la formation\, Serge a été invité à dispenser une variété de programmes centrés sur les multiples aspects du potentiel humain. Depuis plus de 15 ans\, il s’est formé pour offrir en privé des services de coaching\, lecture de tarot et hypnothérapie\, en plus de donner des conférences. https://sergelanoue.ca/ \nAu cours de sa conférence\, Serge vous entretiendra : \n\ndes différentes facettes ou dimensions de l’hypnose\ndu potentiel de l’hypnose pour réaliser vos désirs\ndu lien entre l’hypnose et vos croyances\ndu rôle de l’estime de soi dans l’hypnose\ndes différentes techniques de l’autohypnose\ndu rôle des émotions dans l’efficacité de l’hypnose\nde la pertinence de l’hypnose dans le monde d’aujourd’hui
URL:https://www.rsdo.org/evenements/serge-lanoue-lhypnose-etats/
LOCATION:Centre communautaire Marcel Morin\, 14068\, boulevard Gouin Ouest\, Pierrefonds\, Québec\, H8Z 1Y1\, Canada
CATEGORIES:Conférences
ATTACH;FMTTYPE=image/jpeg:https://www.rsdo.org/wp-content/uploads/2022/08/Serge-Lanoue-Hypnose-2022.12.08--e1661908338822.jpg
GEO:45.4956281;-73.8506691
X-APPLE-STRUCTURED-LOCATION;VALUE=URI;X-ADDRESS=Centre communautaire Marcel Morin 14068 boulevard Gouin Ouest Pierrefonds Québec H8Z 1Y1 Canada;X-APPLE-RADIUS=500;X-TITLE=14068\, boulevard Gouin Ouest:geo:-73.8506691,45.4956281
END:VEVENT
END:VCALENDAR