BEGIN:VCALENDAR
VERSION:2.0
PRODID:-//RSDO - ECPv6.15.20//NONSGML v1.0//EN
CALSCALE:GREGORIAN
METHOD:PUBLISH
X-WR-CALNAME:RSDO
X-ORIGINAL-URL:https://www.rsdo.org
X-WR-CALDESC:Évènements pour RSDO
REFRESH-INTERVAL;VALUE=DURATION:PT1H
X-Robots-Tag:noindex
X-PUBLISHED-TTL:PT1H
BEGIN:VTIMEZONE
TZID:America/New_York
BEGIN:DAYLIGHT
TZOFFSETFROM:-0500
TZOFFSETTO:-0400
TZNAME:EDT
DTSTART:20210314T070000
END:DAYLIGHT
BEGIN:STANDARD
TZOFFSETFROM:-0400
TZOFFSETTO:-0500
TZNAME:EST
DTSTART:20211107T060000
END:STANDARD
BEGIN:DAYLIGHT
TZOFFSETFROM:-0500
TZOFFSETTO:-0400
TZNAME:EDT
DTSTART:20220313T070000
END:DAYLIGHT
BEGIN:STANDARD
TZOFFSETFROM:-0400
TZOFFSETTO:-0500
TZNAME:EST
DTSTART:20221106T060000
END:STANDARD
BEGIN:DAYLIGHT
TZOFFSETFROM:-0500
TZOFFSETTO:-0400
TZNAME:EDT
DTSTART:20230312T070000
END:DAYLIGHT
BEGIN:STANDARD
TZOFFSETFROM:-0400
TZOFFSETTO:-0500
TZNAME:EST
DTSTART:20231105T060000
END:STANDARD
END:VTIMEZONE
BEGIN:VEVENT
DTSTART;TZID=America/New_York:20221128T093000
DTEND;TZID=America/New_York:20221128T093000
DTSTAMP:20260419T221012
CREATED:20220831T004735Z
LAST-MODIFIED:20220831T010609Z
UID:10002230-1669627800-1669627800@www.rsdo.org
SUMMARY:Marches hebdomadaires (L'Île-Bizard)
DESCRIPTION:Activité gratuite ouverte à tous (non-membres bienvenus) \nLe RSDO a deux points de rencontre (Vaudreuil-Dorion et Île-Bizard) pour les marches hebdomadaires qui sont ouvertes à toutes et à tous\, quel que soit votre niveau d’activité. \nLes responsables pour chacun des groupes communiquent avec les participants lors de changements ou d’annulations de l’activité. \nLes marches sont d’une durée de 60 à 90 minutes et nous demandons aux marcheurs de se présenter au point de rencontre au moins 10 minutes avant le départ. \nLes marches du Groupe Vaudreuil-Dorion se terminent souvent par une rencontre amicale au restaurant ou dans un café. \nPour informations générales\, veuillez communiquer avec Pauline Debonville à sociale@rsdo.org ou par téléphone au 514-830-1166 ou au 450‑510‑1931. \n  \n\n\n\nGroupe de l’Île-Bizard                                                                Les lundis et jeudis à 9 h 30 \nPoint de rencontre     Complexe sportif Saint-Raphaël\, au stationnement près de l’entrée du parc \n750\, boulevard Jacques-Bizard \nStationnement            Au complexe sportif\, près du boulevard Jacques-Bizard \nResponsables             Carole Larivière (514-626-9306) et \nGisèle Talbot (514-620-6652)\n\n\n\n\n\n\nGroupe de Vaudreuil-Dorion                                           Les mardis et jeudis à 10 h 30 * \nPoint de rencontre     Dans le stationnement de la rue Dumont\, derrière la Tour d’eau\, \nà côté de l’Opti-Centre Saint-Jean-Baptiste sis au 145\, boulevard Hardwood \nStationnement            Dans les stationnements voisins de la Tour d’eau \nResponsable               Pauline Debonville (450-510-1931) \n*   Plus tard à l’automne\, les marches débuteront à 13 h 30 et les participants en seront informés par courriel.
URL:https://www.rsdo.org/evenements/marches-hebdomadaires-ile-bizard-2/2022-11-28/
LOCATION:Québec
CATEGORIES:Ateliers
ATTACH;FMTTYPE=image/jpeg:https://www.rsdo.org/wp-content/uploads/2022/08/Marches-Automne-2022.jpg
END:VEVENT
BEGIN:VEVENT
DTSTART;TZID=America/New_York:20221128T103000
DTEND;TZID=America/New_York:20221128T114500
DTSTAMP:20260419T221012
CREATED:20220906T211625Z
LAST-MODIFIED:20220906T222547Z
UID:10002282-1669631400-1669635900@www.rsdo.org
SUMMARY:Étirement et alignement postural avec chaise
DESCRIPTION:Activité gratuite exclusive aux membres \nEssai gratuit d’une séance pour les non-membres \nRespirez tout simplement et soyez Zen !  \nLe RSDO est heureux de vous offrir cette nouvelle activité virtuelle animée par Chantal Bardier qui possède plus de 21 ans d’expérience en conditionnement physique avec la clientèle des 50 ans et plus. \nVous pouvez en apprendre plus sur le cheminement et les expériences professionnelles de Chantal en consultant : \n\n            son site web :  https://chantalbardier.weebly.com\n            sa chaîne YouTube : http://www.youtube.com/user/SingingTrainer\n            ses groupes Facebook : https://chantalbardier.weebly.com/groupes-facebook.html\n\nLes séances consisteront en exercices d’étirement et d’alignement postural avec chaise combinant étirements posturaux et de détente\, en position assise et debout\, le tout dans le respect des limites de chacun. \nLes exercices pratiqués améliorent la souplesse générale et la mobilité\, dénouent les tensions\, aident à prévenir les blessures\, apprennent à mieux respirer et à réduire l’anxiété.  Pour profiter au maximum des bénéfices qu’ils apportent\, nous vous recommandons d’éviter les repas lourds avant les séances\, de vous vêtir de vêtements confortables et d’espadrilles ou chaussettes antidérapantes et de vous munir d’une bouteille d’eau. \nDates                        Du 12 septembre au 19 décembre (15 semaines) \nComment                 Virtuellement avec la plateforme Zoom \n                                  Un hyperlien sera envoyé à tous les membres \nMatériel requis         \n\nChaise sans accoudoirs\nSangle\, ceinture ou cravate\n\nPour informations veuillez communiquer avec Sylvie Beaupré à sbeaupre01@hotmail.com ou directement auprès de Chantal Bardier à cbardier@sympatico.ca
URL:https://www.rsdo.org/evenements/etirement-alignement-postural-chaise/2022-11-28/
LOCATION:Québec
CATEGORIES:Cours
ATTACH;FMTTYPE=image/png:https://www.rsdo.org/wp-content/uploads/2022/08/Étirement-et-Alignment-Postural-avec-Chaise-Automne-2022-e1662506710785.png
END:VEVENT
BEGIN:VEVENT
DTSTART;TZID=America/New_York:20221128T190000
DTEND;TZID=America/New_York:20221128T210000
DTSTAMP:20260419T221012
CREATED:20220831T005252Z
LAST-MODIFIED:20220906T200128Z
UID:10002246-1669662000-1669669200@www.rsdo.org
SUMMARY:CHORALE
DESCRIPTION:Activité gratuite exclusive aux membres.  Essai gratuit d’une séance pour les non-membres. Inscription requise \nC’est enfin le retour de la chorale en présentiel !!! \nAu RSDO\, on peut briser l’isolement en participant à un réseau d’entraide ainsi qu’à des cours et ateliers enrichissants qui nous font sortir de notre zone de confort et nous apportent joie et bonheur. \nChanter dans une chorale apporte des bienfaits sur les plans social\, spirituel\, physique\, émotionnel et intellectuel (acquisition de connaissances et stimulation cognitive)\, \nCet automne\, avec Jocelyn Bigras notre chef de chœur\, nous tiendrons 12 sessions de pratique et offrirons quatre concerts dans des CHSLD au cours du mois de décembre. \nDates       Du 12 septembre au 5 décembre. Relâche le 10 octobre. (12 semaines).\n \nQuatre concerts seront aussi offerts dans les CHSLD au mois de décembre ! \nEndroit     \nCentre communautaire Gerry Robertson (NOUVEAU LOCAL) \n9665 Boul Gouin O\,  \nPierrefonds\, QC  \nH8Y 1R4 \n\n\n\nPour informations et inscription\, veuillez communiquer avec Sylvie Beaupré à \nsbeaupre01@hotmail.com ou par téléphone au 514-865-4377\n\n\n\n 
URL:https://www.rsdo.org/evenements/chorale/2022-11-28/
LOCATION:Centre communautaire Gerry-Robertson\, 9665\, boulevard Gouin Ouest\, Pierrefonds\, Québec\, QH8Y 1R4\, Canada
CATEGORIES:Ateliers
ATTACH;FMTTYPE=image/jpeg:https://www.rsdo.org/wp-content/uploads/2022/08/Chorale-Automne-2022.jpg
GEO:45.5048919;-73.7843098
X-APPLE-STRUCTURED-LOCATION;VALUE=URI;X-ADDRESS=Centre communautaire Gerry-Robertson 9665 boulevard Gouin Ouest Pierrefonds Québec QH8Y 1R4 Canada;X-APPLE-RADIUS=500;X-TITLE=9665\, boulevard Gouin Ouest:geo:-73.7843098,45.5048919
END:VEVENT
END:VCALENDAR