BEGIN:VCALENDAR
VERSION:2.0
PRODID:-//RSDO - ECPv6.15.20//NONSGML v1.0//EN
CALSCALE:GREGORIAN
METHOD:PUBLISH
X-ORIGINAL-URL:https://www.rsdo.org
X-WR-CALDESC:Évènements pour RSDO
REFRESH-INTERVAL;VALUE=DURATION:PT1H
X-Robots-Tag:noindex
X-PUBLISHED-TTL:PT1H
BEGIN:VTIMEZONE
TZID:America/New_York
BEGIN:DAYLIGHT
TZOFFSETFROM:-0500
TZOFFSETTO:-0400
TZNAME:EDT
DTSTART:20210314T070000
END:DAYLIGHT
BEGIN:STANDARD
TZOFFSETFROM:-0400
TZOFFSETTO:-0500
TZNAME:EST
DTSTART:20211107T060000
END:STANDARD
BEGIN:DAYLIGHT
TZOFFSETFROM:-0500
TZOFFSETTO:-0400
TZNAME:EDT
DTSTART:20220313T070000
END:DAYLIGHT
BEGIN:STANDARD
TZOFFSETFROM:-0400
TZOFFSETTO:-0500
TZNAME:EST
DTSTART:20221106T060000
END:STANDARD
BEGIN:DAYLIGHT
TZOFFSETFROM:-0500
TZOFFSETTO:-0400
TZNAME:EDT
DTSTART:20230312T070000
END:DAYLIGHT
BEGIN:STANDARD
TZOFFSETFROM:-0400
TZOFFSETTO:-0500
TZNAME:EST
DTSTART:20231105T060000
END:STANDARD
END:VTIMEZONE
BEGIN:VEVENT
DTSTART;TZID=America/New_York:20220922T093000
DTEND;TZID=America/New_York:20220922T093000
DTSTAMP:20260420T103639
CREATED:20220831T004735Z
LAST-MODIFIED:20220831T010609Z
UID:10002211-1663839000-1663839000@www.rsdo.org
SUMMARY:Marches hebdomadaires (L'Île-Bizard)
DESCRIPTION:Activité gratuite ouverte à tous (non-membres bienvenus) \nLe RSDO a deux points de rencontre (Vaudreuil-Dorion et Île-Bizard) pour les marches hebdomadaires qui sont ouvertes à toutes et à tous\, quel que soit votre niveau d’activité. \nLes responsables pour chacun des groupes communiquent avec les participants lors de changements ou d’annulations de l’activité. \nLes marches sont d’une durée de 60 à 90 minutes et nous demandons aux marcheurs de se présenter au point de rencontre au moins 10 minutes avant le départ. \nLes marches du Groupe Vaudreuil-Dorion se terminent souvent par une rencontre amicale au restaurant ou dans un café. \nPour informations générales\, veuillez communiquer avec Pauline Debonville à sociale@rsdo.org ou par téléphone au 514-830-1166 ou au 450‑510‑1931. \n  \n\n\n\nGroupe de l’Île-Bizard                                                                Les lundis et jeudis à 9 h 30 \nPoint de rencontre     Complexe sportif Saint-Raphaël\, au stationnement près de l’entrée du parc \n750\, boulevard Jacques-Bizard \nStationnement            Au complexe sportif\, près du boulevard Jacques-Bizard \nResponsables             Carole Larivière (514-626-9306) et \nGisèle Talbot (514-620-6652)\n\n\n\n\n\n\nGroupe de Vaudreuil-Dorion                                           Les mardis et jeudis à 10 h 30 * \nPoint de rencontre     Dans le stationnement de la rue Dumont\, derrière la Tour d’eau\, \nà côté de l’Opti-Centre Saint-Jean-Baptiste sis au 145\, boulevard Hardwood \nStationnement            Dans les stationnements voisins de la Tour d’eau \nResponsable               Pauline Debonville (450-510-1931) \n*   Plus tard à l’automne\, les marches débuteront à 13 h 30 et les participants en seront informés par courriel.
URL:https://www.rsdo.org/evenements/marches-hebdomadaires-ile-bizard-2/2022-09-22/
LOCATION:Québec
CATEGORIES:Ateliers
ATTACH;FMTTYPE=image/jpeg:https://www.rsdo.org/wp-content/uploads/2022/08/Marches-Automne-2022.jpg
END:VEVENT
BEGIN:VEVENT
DTSTART;TZID=America/New_York:20220922T093000
DTEND;TZID=America/New_York:20220922T120000
DTSTAMP:20260420T103639
CREATED:20220831T004225Z
LAST-MODIFIED:20220831T010424Z
UID:10002181-1663839000-1663848000@www.rsdo.org
SUMMARY:Marches hebdomadaires (Vaudreuil-Dorion)
DESCRIPTION:Activité gratuite ouverte à tous (non-membres bienvenus) \nLe RSDO a deux points de rencontre (Vaudreuil-Dorion et Île-Bizard) pour les marches hebdomadaires qui sont ouvertes à toutes et à tous\, quel que soit votre niveau d’activité. \nLes responsables pour chacun des groupes communiquent avec les participants lors de changements ou d’annulations de l’activité. \nLes marches sont d’une durée de 60 à 90 minutes et nous demandons aux marcheurs de se présenter au point de rencontre au moins 10 minutes avant le départ. \nLes marches du Groupe Vaudreuil-Dorion se terminent souvent par une rencontre amicale au restaurant ou dans un café. \nPour informations générales\, veuillez communiquer avec Pauline Debonville à sociale@rsdo.org ou par téléphone au 514-830-1166 ou au 450‑510‑1931. \n\n\n\nGroupe de Vaudreuil-Dorion                                           Les mardis et jeudis à 10 h 30 * \nPoint de rencontre     Dans le stationnement de la rue Dumont\, derrière la Tour d’eau\, \nà côté de l’Opti-Centre Saint-Jean-Baptiste sis au 145\, boulevard Hardwood \nStationnement            Dans les stationnements voisins de la Tour d’eau \nResponsable               Pauline Debonville (450-510-1931) \n*   Plus tard à l’automne\, les marches débuteront à 13 h 30 et les participants en seront informés par courriel.\n\n\n\n\n\n\nGroupe de l’Île-Bizard                                                                Les lundis et jeudis à 9 h 30 \nPoint de rencontre     Complexe sportif Saint-Raphaël\, au stationnement près de l’entrée du parc \n750\, boulevard Jacques-Bizard \nStationnement            Au complexe sportif\, près du boulevard Jacques-Bizard \nResponsables             Carole Larivière (514-626-9306) et \nGisèle Talbot (514-620-6652)\n\n\n\n 
URL:https://www.rsdo.org/evenements/marches-hebdomadaires-vaudreuil-dorion-2/2022-09-22/
LOCATION:Québec
CATEGORIES:Ateliers
ATTACH;FMTTYPE=image/jpeg:https://www.rsdo.org/wp-content/uploads/2022/08/Marches-Automne-2022.jpg
END:VEVENT
BEGIN:VEVENT
DTSTART;TZID=America/New_York:20220922T143000
DTEND;TZID=America/New_York:20220922T160000
DTSTAMP:20260420T103639
CREATED:20220906T223442Z
LAST-MODIFIED:20220906T223512Z
UID:10000844-1663857000-1663862400@www.rsdo.org
SUMMARY:Atelier CRAM: Soirées Réconfort pour Endeuillés
DESCRIPTION:Activité gratuite ouverte à tous (non-membres bienvenus) \nInscription requise \nLes jeudis en p.m. ou en soirée \nLe Centre de Relation d’Aide de Montréal (CRAM) a développé une expertise pour soutenir les endeuillés et leurs proches dans leur processus de deuil ou de perte\, et pour former des aidants du deuil compétents. \nAnimées par Louise Racine\, TRA\, Thérapeute en Relation d’aide®\, ces soirées réconfort sont \nexclusivement offertes pour les deuils par décès\, à savoir : \n\nTout endeuillé par décès (récent ou pas)\nTout proche\, aidant naturel\, bénévole ou personnel qui écoute ou entoure l’endeuillé.\n\nDates \n22 septembre                    27 octobre                                          17 novembre                                          15 décembre \nde 14 h 30 à 16 h                   de 18 h 30 à 20 h                                               de 14 h 30 à 16 h                                               de 18 h 30 à 20 h \nVous pouvez participer à une ou plusieurs rencontres qui vous permettront de : \n\nBriser l’isolement\nÉchangez avec d’autres endeuillés\nComprendre le processus du deuil\nRecevoir du réconfort\n\nCes rencontres sont virtuelles via la plateforme Zoom et il est nécessaire de vous inscrire pour chacune des rencontres directement sur le site du CRAM à :  https://www.cramformation.com/activites-gratuites/soirees-reconfort-pour-endeuilles \nVous recevrez par la suite un courriel vous fournissant l’hyperlien qui vous permettra de participer aux rencontres. \nPour informations\, veuillez communiquer avec Sylvie Beaupré à sbeaupre01@hotmail.com ou par téléphone au 514-865-4377. \n  \n 
URL:https://www.rsdo.org/evenements/atelier-cram-soirees-reconfort-endeuilles/2022-09-22/
LOCATION:ZOOM
CATEGORIES:Cours
ATTACH;FMTTYPE=image/jpeg:https://www.rsdo.org/wp-content/uploads/2022/08/CRAM-Image-1-Automne-2022.jpg
END:VEVENT
BEGIN:VEVENT
DTSTART;TZID=America/New_York:20220922T190000
DTEND;TZID=America/New_York:20220922T210000
DTSTAMP:20260420T103639
CREATED:20190925T000726Z
LAST-MODIFIED:20190925T000726Z
UID:10001583-1663873200-1663880400@www.rsdo.org
SUMMARY:Réunion du conseil d'administration
DESCRIPTION:Une période de questions permet aux membres du RSDO de présenter des suggestions ou des idées pouvant enrichir ces soirées. Prendre note cependant que vous n’avez pas droit de vote.
URL:https://www.rsdo.org/evenements/reunion-conseil-dadministration-16/2022-09-22/
LOCATION:Centre communautaire Marcel Morin\, 14068\, boulevard Gouin Ouest\, Pierrefonds\, Québec\, H8Z 1Y1\, Canada
CATEGORIES:Réunions
ATTACH;FMTTYPE=image/jpeg:https://www.rsdo.org/wp-content/uploads/2018/01/Réunion-Silhouettes-Bulles-rondes-1.jpg
GEO:45.4956281;-73.8506691
X-APPLE-STRUCTURED-LOCATION;VALUE=URI;X-ADDRESS=Centre communautaire Marcel Morin 14068 boulevard Gouin Ouest Pierrefonds Québec H8Z 1Y1 Canada;X-APPLE-RADIUS=500;X-TITLE=14068\, boulevard Gouin Ouest:geo:-73.8506691,45.4956281
END:VEVENT
BEGIN:VEVENT
DTSTART;TZID=America/New_York:20220922T193000
DTEND;TZID=America/New_York:20220922T210000
DTSTAMP:20260420T103639
CREATED:20220826T033920Z
LAST-MODIFIED:20221027T011814Z
UID:10002172-1663875000-1663880400@www.rsdo.org
SUMMARY:Francine Michaud              La résilience pour profiter de chaque seconde
DESCRIPTION:Gratuit pour les membres | 5 $ pour les non-membres \nLa résilience c’est l’art de rebondir dans les moments difficiles de la vie. De tout transformer pour notre mieux être\, de trouver des pistes de solutions quand tout nous semble irrémédiable\, de transformer le laid en beau …. \nLa résilience c’est comment vivre ses deuils\, ses pertes\, ses difficultés\, les petites et grandes peines en regardant en soi et autour de soi et voir ce que la vie met sur notre chemin pour remplir les vides dans notre quotidien. \nC’est à travers mon parcours de vie atypique que je vous partage mes trucs et mes réflexions sur la vie; le tout supporté par un atelier sur la respiration et sur des propositions d’activités qui stimulent nos rebonds intérieurs. Des chansons viennent ponctuer les différentes étapes de la conférence. \nLA RÉSILIENCE POUR AIMER LA VIE se veut un moment de réflexion dans le rire\, l’émotion\, l’introspection et l’amour de soi. \nVoici une conférence interactive pour aider à stimuler le bonheur
URL:https://www.rsdo.org/evenements/andre-harvey-prendre-plaisir-a-vieillir-possible-y-arriver/
LOCATION:Centre communautaire Marcel Morin\, 14068\, boulevard Gouin Ouest\, Pierrefonds\, Québec\, H8Z 1Y1\, Canada
CATEGORIES:Conférences
ATTACH;FMTTYPE=image/jpeg:https://www.rsdo.org/wp-content/uploads/2022/10/Francine-Michaud-2022.09.22-e1666837065607.jpg
GEO:45.4956281;-73.8506691
X-APPLE-STRUCTURED-LOCATION;VALUE=URI;X-ADDRESS=Centre communautaire Marcel Morin 14068 boulevard Gouin Ouest Pierrefonds Québec H8Z 1Y1 Canada;X-APPLE-RADIUS=500;X-TITLE=14068\, boulevard Gouin Ouest:geo:-73.8506691,45.4956281
END:VEVENT
END:VCALENDAR