BEGIN:VCALENDAR
VERSION:2.0
PRODID:-//RSDO - ECPv6.15.20//NONSGML v1.0//EN
CALSCALE:GREGORIAN
METHOD:PUBLISH
X-WR-CALNAME:RSDO
X-ORIGINAL-URL:https://www.rsdo.org
X-WR-CALDESC:Évènements pour RSDO
REFRESH-INTERVAL;VALUE=DURATION:PT1H
X-Robots-Tag:noindex
X-PUBLISHED-TTL:PT1H
BEGIN:VTIMEZONE
TZID:America/New_York
BEGIN:DAYLIGHT
TZOFFSETFROM:-0500
TZOFFSETTO:-0400
TZNAME:EDT
DTSTART:20210314T070000
END:DAYLIGHT
BEGIN:STANDARD
TZOFFSETFROM:-0400
TZOFFSETTO:-0500
TZNAME:EST
DTSTART:20211107T060000
END:STANDARD
BEGIN:DAYLIGHT
TZOFFSETFROM:-0500
TZOFFSETTO:-0400
TZNAME:EDT
DTSTART:20220313T070000
END:DAYLIGHT
BEGIN:STANDARD
TZOFFSETFROM:-0400
TZOFFSETTO:-0500
TZNAME:EST
DTSTART:20221106T060000
END:STANDARD
BEGIN:DAYLIGHT
TZOFFSETFROM:-0500
TZOFFSETTO:-0400
TZNAME:EDT
DTSTART:20230312T070000
END:DAYLIGHT
BEGIN:STANDARD
TZOFFSETFROM:-0400
TZOFFSETTO:-0500
TZNAME:EST
DTSTART:20231105T060000
END:STANDARD
END:VTIMEZONE
BEGIN:VEVENT
DTSTART;TZID=America/New_York:20220908T093000
DTEND;TZID=America/New_York:20220908T093000
DTSTAMP:20260420T103218
CREATED:20220831T004735Z
LAST-MODIFIED:20220831T010609Z
UID:10002207-1662629400-1662629400@www.rsdo.org
SUMMARY:Marches hebdomadaires (L'Île-Bizard)
DESCRIPTION:Activité gratuite ouverte à tous (non-membres bienvenus) \nLe RSDO a deux points de rencontre (Vaudreuil-Dorion et Île-Bizard) pour les marches hebdomadaires qui sont ouvertes à toutes et à tous\, quel que soit votre niveau d’activité. \nLes responsables pour chacun des groupes communiquent avec les participants lors de changements ou d’annulations de l’activité. \nLes marches sont d’une durée de 60 à 90 minutes et nous demandons aux marcheurs de se présenter au point de rencontre au moins 10 minutes avant le départ. \nLes marches du Groupe Vaudreuil-Dorion se terminent souvent par une rencontre amicale au restaurant ou dans un café. \nPour informations générales\, veuillez communiquer avec Pauline Debonville à sociale@rsdo.org ou par téléphone au 514-830-1166 ou au 450‑510‑1931. \n  \n\n\n\nGroupe de l’Île-Bizard                                                                Les lundis et jeudis à 9 h 30 \nPoint de rencontre     Complexe sportif Saint-Raphaël\, au stationnement près de l’entrée du parc \n750\, boulevard Jacques-Bizard \nStationnement            Au complexe sportif\, près du boulevard Jacques-Bizard \nResponsables             Carole Larivière (514-626-9306) et \nGisèle Talbot (514-620-6652)\n\n\n\n\n\n\nGroupe de Vaudreuil-Dorion                                           Les mardis et jeudis à 10 h 30 * \nPoint de rencontre     Dans le stationnement de la rue Dumont\, derrière la Tour d’eau\, \nà côté de l’Opti-Centre Saint-Jean-Baptiste sis au 145\, boulevard Hardwood \nStationnement            Dans les stationnements voisins de la Tour d’eau \nResponsable               Pauline Debonville (450-510-1931) \n*   Plus tard à l’automne\, les marches débuteront à 13 h 30 et les participants en seront informés par courriel.
URL:https://www.rsdo.org/evenements/marches-hebdomadaires-ile-bizard-2/2022-09-08/
LOCATION:Québec
CATEGORIES:Ateliers
ATTACH;FMTTYPE=image/jpeg:https://www.rsdo.org/wp-content/uploads/2022/08/Marches-Automne-2022.jpg
END:VEVENT
BEGIN:VEVENT
DTSTART;TZID=America/New_York:20220908T093000
DTEND;TZID=America/New_York:20220908T120000
DTSTAMP:20260420T103218
CREATED:20220831T004225Z
LAST-MODIFIED:20220831T010424Z
UID:10002177-1662629400-1662638400@www.rsdo.org
SUMMARY:Marches hebdomadaires (Vaudreuil-Dorion)
DESCRIPTION:Activité gratuite ouverte à tous (non-membres bienvenus) \nLe RSDO a deux points de rencontre (Vaudreuil-Dorion et Île-Bizard) pour les marches hebdomadaires qui sont ouvertes à toutes et à tous\, quel que soit votre niveau d’activité. \nLes responsables pour chacun des groupes communiquent avec les participants lors de changements ou d’annulations de l’activité. \nLes marches sont d’une durée de 60 à 90 minutes et nous demandons aux marcheurs de se présenter au point de rencontre au moins 10 minutes avant le départ. \nLes marches du Groupe Vaudreuil-Dorion se terminent souvent par une rencontre amicale au restaurant ou dans un café. \nPour informations générales\, veuillez communiquer avec Pauline Debonville à sociale@rsdo.org ou par téléphone au 514-830-1166 ou au 450‑510‑1931. \n\n\n\nGroupe de Vaudreuil-Dorion                                           Les mardis et jeudis à 10 h 30 * \nPoint de rencontre     Dans le stationnement de la rue Dumont\, derrière la Tour d’eau\, \nà côté de l’Opti-Centre Saint-Jean-Baptiste sis au 145\, boulevard Hardwood \nStationnement            Dans les stationnements voisins de la Tour d’eau \nResponsable               Pauline Debonville (450-510-1931) \n*   Plus tard à l’automne\, les marches débuteront à 13 h 30 et les participants en seront informés par courriel.\n\n\n\n\n\n\nGroupe de l’Île-Bizard                                                                Les lundis et jeudis à 9 h 30 \nPoint de rencontre     Complexe sportif Saint-Raphaël\, au stationnement près de l’entrée du parc \n750\, boulevard Jacques-Bizard \nStationnement            Au complexe sportif\, près du boulevard Jacques-Bizard \nResponsables             Carole Larivière (514-626-9306) et \nGisèle Talbot (514-620-6652)\n\n\n\n 
URL:https://www.rsdo.org/evenements/marches-hebdomadaires-vaudreuil-dorion-2/2022-09-08/
LOCATION:Québec
CATEGORIES:Ateliers
ATTACH;FMTTYPE=image/jpeg:https://www.rsdo.org/wp-content/uploads/2022/08/Marches-Automne-2022.jpg
END:VEVENT
BEGIN:VEVENT
DTSTART;TZID=America/New_York:20220908T193000
DTEND;TZID=America/New_York:20220908T210000
DTSTAMP:20260420T103218
CREATED:20220826T031604Z
LAST-MODIFIED:20220826T031604Z
UID:10002171-1662665400-1662670800@www.rsdo.org
SUMMARY:Portes Ouvertes
DESCRIPTION:Le RSDO vous invite à sa soirée annuelle de Portes Ouvertes qui vous donnera l’occasion de revoir des membres et vous permettra de nouer des liens d’amitiés et de soutien avec de nouveaux membres. \nC’est également le moment idéal pour vous inscrire aux activités. \nAu programme \n\nPrésentation des membres du Conseil d’administration\nPrésentation de bénévoles\nPrésentation de la programmation pour l’année en cours\nInscriptions aux activités\nPrix de présence\n\n  \n\n\n\nEndroit    Centre communautaire Marcel-Morin \n                 14068\, boulevard Gouin Ouest \nPierrefonds \n  \n \n\n\n\n 
URL:https://www.rsdo.org/evenements/portes-ouvertes/
LOCATION:Québec
CATEGORIES:Ateliers
ATTACH;FMTTYPE=image/png:https://www.rsdo.org/wp-content/uploads/2022/08/Portes-Ouvertes-Affiche-Lettres-multicolores-e1661485732420.png
END:VEVENT
END:VCALENDAR