BEGIN:VCALENDAR
VERSION:2.0
PRODID:-//RSDO - ECPv6.15.20//NONSGML v1.0//EN
CALSCALE:GREGORIAN
METHOD:PUBLISH
X-WR-CALNAME:RSDO
X-ORIGINAL-URL:https://www.rsdo.org
X-WR-CALDESC:Évènements pour RSDO
REFRESH-INTERVAL;VALUE=DURATION:PT1H
X-Robots-Tag:noindex
X-PUBLISHED-TTL:PT1H
BEGIN:VTIMEZONE
TZID:America/New_York
BEGIN:DAYLIGHT
TZOFFSETFROM:-0500
TZOFFSETTO:-0400
TZNAME:EDT
DTSTART:20210314T070000
END:DAYLIGHT
BEGIN:STANDARD
TZOFFSETFROM:-0400
TZOFFSETTO:-0500
TZNAME:EST
DTSTART:20211107T060000
END:STANDARD
BEGIN:DAYLIGHT
TZOFFSETFROM:-0500
TZOFFSETTO:-0400
TZNAME:EDT
DTSTART:20220313T070000
END:DAYLIGHT
BEGIN:STANDARD
TZOFFSETFROM:-0400
TZOFFSETTO:-0500
TZNAME:EST
DTSTART:20221106T060000
END:STANDARD
BEGIN:DAYLIGHT
TZOFFSETFROM:-0500
TZOFFSETTO:-0400
TZNAME:EDT
DTSTART:20230312T070000
END:DAYLIGHT
BEGIN:STANDARD
TZOFFSETFROM:-0400
TZOFFSETTO:-0500
TZNAME:EST
DTSTART:20231105T060000
END:STANDARD
END:VTIMEZONE
BEGIN:VEVENT
DTSTART;TZID=America/New_York:20220827T170000
DTEND;TZID=America/New_York:20220827T210000
DTSTAMP:20260420T134708
CREATED:20220826T031008Z
LAST-MODIFIED:20220826T031124Z
UID:10002170-1661619600-1661634000@www.rsdo.org
SUMMARY:Party des Retrouvailles
DESCRIPTION:Party des retrouvailles : 27 août à 17h\nPAR CELINE DURAND · PUBLIÉ 25 AOÛT 2022 · ACTUALISÉ 25 AOÛT 2022 \n\n\n27 août 17h\, Salle Le Grenier\, 571 rue Cherrier\, Île-Bizard \nSouper et danse\, info : sociale@rsdo.org
URL:https://www.rsdo.org/evenements/party-des-retrouvailles-2/
LOCATION:Québec
CATEGORIES:Ateliers
END:VEVENT
END:VCALENDAR