BEGIN:VCALENDAR
VERSION:2.0
PRODID:-//RSDO - ECPv6.15.20//NONSGML v1.0//EN
CALSCALE:GREGORIAN
METHOD:PUBLISH
X-WR-CALNAME:RSDO
X-ORIGINAL-URL:https://www.rsdo.org
X-WR-CALDESC:Évènements pour RSDO
REFRESH-INTERVAL;VALUE=DURATION:PT1H
X-Robots-Tag:noindex
X-PUBLISHED-TTL:PT1H
BEGIN:VTIMEZONE
TZID:America/New_York
BEGIN:DAYLIGHT
TZOFFSETFROM:-0500
TZOFFSETTO:-0400
TZNAME:EDT
DTSTART:20210314T070000
END:DAYLIGHT
BEGIN:STANDARD
TZOFFSETFROM:-0400
TZOFFSETTO:-0500
TZNAME:EST
DTSTART:20211107T060000
END:STANDARD
BEGIN:DAYLIGHT
TZOFFSETFROM:-0500
TZOFFSETTO:-0400
TZNAME:EDT
DTSTART:20220313T070000
END:DAYLIGHT
BEGIN:STANDARD
TZOFFSETFROM:-0400
TZOFFSETTO:-0500
TZNAME:EST
DTSTART:20221106T060000
END:STANDARD
BEGIN:DAYLIGHT
TZOFFSETFROM:-0500
TZOFFSETTO:-0400
TZNAME:EDT
DTSTART:20230312T070000
END:DAYLIGHT
BEGIN:STANDARD
TZOFFSETFROM:-0400
TZOFFSETTO:-0500
TZNAME:EST
DTSTART:20231105T060000
END:STANDARD
END:VTIMEZONE
BEGIN:VEVENT
DTSTART;TZID=America/New_York:20220720T183000
DTEND;TZID=America/New_York:20220720T203000
DTSTAMP:20260421T031049
CREATED:20220618T162810Z
LAST-MODIFIED:20220618T162810Z
UID:10002167-1658341800-1658349000@www.rsdo.org
SUMMARY:Réunion du conseil d'administration
DESCRIPTION:Les membres du Conseil tiennent une réunion chaque mois et tous les membres peuvent y assister puisque qu’une période de questions leur permet de proposer des suggestions et de soumettre des idées pouvant enrichir la mission et les activités de l’organisme.  \n Veuillez cependant noter que les membres n’ont pas de droit de vote\, ce privilège étant réservé aux membres du Conseil.  \n  \n  \n  \n  \n  \n 
URL:https://www.rsdo.org/evenements/reunion-conseil-dadministration-38/
LOCATION:Salle paroissiale de l’église Sainte-Geneviève\, 16037 Boul Gouin O\, Sainte-Geneviève\, Québec\, H9H 1C7\, Canada
CATEGORIES:Réunions
ATTACH;FMTTYPE=image/jpeg:https://www.rsdo.org/wp-content/uploads/2018/01/Réunion-Silhouettes-Bulles-rondes-1.jpg
GEO:45.4802657;-73.8719786
X-APPLE-STRUCTURED-LOCATION;VALUE=URI;X-ADDRESS=Salle paroissiale de l’église Sainte-Geneviève 16037 Boul Gouin O Sainte-Geneviève Québec H9H 1C7 Canada;X-APPLE-RADIUS=500;X-TITLE=16037 Boul Gouin O:geo:-73.8719786,45.4802657
END:VEVENT
END:VCALENDAR