BEGIN:VCALENDAR
VERSION:2.0
PRODID:-//RSDO - ECPv6.15.20//NONSGML v1.0//EN
CALSCALE:GREGORIAN
METHOD:PUBLISH
X-ORIGINAL-URL:https://www.rsdo.org
X-WR-CALDESC:Évènements pour RSDO
REFRESH-INTERVAL;VALUE=DURATION:PT1H
X-Robots-Tag:noindex
X-PUBLISHED-TTL:PT1H
BEGIN:VTIMEZONE
TZID:America/New_York
BEGIN:DAYLIGHT
TZOFFSETFROM:-0500
TZOFFSETTO:-0400
TZNAME:EDT
DTSTART:20210314T070000
END:DAYLIGHT
BEGIN:STANDARD
TZOFFSETFROM:-0400
TZOFFSETTO:-0500
TZNAME:EST
DTSTART:20211107T060000
END:STANDARD
BEGIN:DAYLIGHT
TZOFFSETFROM:-0500
TZOFFSETTO:-0400
TZNAME:EDT
DTSTART:20220313T070000
END:DAYLIGHT
BEGIN:STANDARD
TZOFFSETFROM:-0400
TZOFFSETTO:-0500
TZNAME:EST
DTSTART:20221106T060000
END:STANDARD
BEGIN:DAYLIGHT
TZOFFSETFROM:-0500
TZOFFSETTO:-0400
TZNAME:EDT
DTSTART:20230312T070000
END:DAYLIGHT
BEGIN:STANDARD
TZOFFSETFROM:-0400
TZOFFSETTO:-0500
TZNAME:EST
DTSTART:20231105T060000
END:STANDARD
END:VTIMEZONE
BEGIN:VEVENT
DTSTART;TZID=America/New_York:20220504T193000
DTEND;TZID=America/New_York:20220504T210000
DTSTAMP:20260421T103450
CREATED:20220121T025346Z
LAST-MODIFIED:20220419T223553Z
UID:10000683-1651692600-1651698000@www.rsdo.org
SUMMARY:Manon Bédard - Un sourire vaut mille mots !
DESCRIPTION:Gratuit pour les membres / 10$ pour les non-membres \nVous avez sans doute entendu cette expression. Que nous le croyions ou pas\, il semble bien\, selon de nombreuses études\, qu’un sourire en vaut effectivement plusieurs ! Dans les faits\, il semble que plus nous sommes optimistes et plus nous sourions facilement\, plus le sourire serait contagieux. \nAlors me voilà\, moi Manon Bédard et mon sourire ! J’ai vu le jour à St‑Tite\, ville officielle du Festival Country. Bien sûr\, dès mon jeune âge\, j’embrasse le rythme entraînant du country qui fait vibrer mon cœur et mon âme. Rapidement\, non seulement dans mon patelin mais aussi par-delà les frontières\, je me fais remarquer pour mon rapide yodle\, mon optimisme et ma joie de vivre. Après presque 25 ans de carrière\, mes contacts privilégiés avec le public me rappellent chaque fois\, combien j’aime contribuer aux petits bonheurs du quotidien tout en essayant de me porter messagère d’espoir pour qui en ressent le besoin et ce\, avec le sourire ! C’est en performance que Manon vous transmettra sa joie de vivre !
URL:https://www.rsdo.org/evenements/5363/
LOCATION:Église Sainte-Geneviève\, 16037\, boul. Gouin\, Ste-Geneviève\, Québec\, H9H 1C7\, Canada
CATEGORIES:Conférences
ATTACH;FMTTYPE=image/jpeg:https://www.rsdo.org/wp-content/uploads/2022/01/Manon-Bédard.jpg
GEO:45.4802657;-73.8719786
X-APPLE-STRUCTURED-LOCATION;VALUE=URI;X-ADDRESS=Église Sainte-Geneviève 16037 boul. Gouin Ste-Geneviève Québec H9H 1C7 Canada;X-APPLE-RADIUS=500;X-TITLE=16037\, boul. Gouin:geo:-73.8719786,45.4802657
END:VEVENT
END:VCALENDAR