BEGIN:VCALENDAR
VERSION:2.0
PRODID:-//RSDO - ECPv6.15.20//NONSGML v1.0//EN
CALSCALE:GREGORIAN
METHOD:PUBLISH
X-WR-CALNAME:RSDO
X-ORIGINAL-URL:https://www.rsdo.org
X-WR-CALDESC:Évènements pour RSDO
REFRESH-INTERVAL;VALUE=DURATION:PT1H
X-Robots-Tag:noindex
X-PUBLISHED-TTL:PT1H
BEGIN:VTIMEZONE
TZID:America/New_York
BEGIN:DAYLIGHT
TZOFFSETFROM:-0500
TZOFFSETTO:-0400
TZNAME:EDT
DTSTART:20210314T070000
END:DAYLIGHT
BEGIN:STANDARD
TZOFFSETFROM:-0400
TZOFFSETTO:-0500
TZNAME:EST
DTSTART:20211107T060000
END:STANDARD
BEGIN:DAYLIGHT
TZOFFSETFROM:-0500
TZOFFSETTO:-0400
TZNAME:EDT
DTSTART:20220313T070000
END:DAYLIGHT
BEGIN:STANDARD
TZOFFSETFROM:-0400
TZOFFSETTO:-0500
TZNAME:EST
DTSTART:20221106T060000
END:STANDARD
BEGIN:DAYLIGHT
TZOFFSETFROM:-0500
TZOFFSETTO:-0400
TZNAME:EDT
DTSTART:20230312T070000
END:DAYLIGHT
BEGIN:STANDARD
TZOFFSETFROM:-0400
TZOFFSETTO:-0500
TZNAME:EST
DTSTART:20231105T060000
END:STANDARD
END:VTIMEZONE
BEGIN:VEVENT
DTSTART;TZID=America/New_York:20220406T193000
DTEND;TZID=America/New_York:20220406T210000
DTSTAMP:20260421T163821
CREATED:20220121T022836Z
LAST-MODIFIED:20220121T022936Z
UID:10000690-1649273400-1649278800@www.rsdo.org
SUMMARY:Stéphanie Julien - Des muscles\, des os et des articulations au top !
DESCRIPTION:Gratuit pour les membres / 10$ pour les non-membres \nStéphanie Julien est une naturopathe reconnue pour son dynamisme et sa passion pour la santé. Son rôle est d’évaluer les habitudes de vie\, les habitudes alimentaires\, la condition physique et la gestion de stress afin de suggérer des moyens et des outils qui vous permettront d’améliorer\, de retrouver ou de maintenir la santé.  www.stephaniejulien.com \nUn sur six\, c’est la proportion de ceux et celles qui souffrent de problèmes articulaires au Canada. Cette problématique semble apparaître chez les plus de 40 ans et se généralise après 65 ans. Mais à quoi est-elle due ? Cette conférence santé permet d’apprendre à connaître les moyens naturels pour soulager les douleurs au niveau des muscles et des articulations\, et pour bien entretenir sa masse osseuse et ainsi améliorer sa qualité de vie.
URL:https://www.rsdo.org/evenements/stephanie-julie-muscles-os-articulations-top/
LOCATION:ZOOM
CATEGORIES:Conférences
ATTACH;FMTTYPE=image/png:https://www.rsdo.org/wp-content/uploads/2022/01/Stéphanie-Julien-e1642523090261.png
END:VEVENT
END:VCALENDAR