BEGIN:VCALENDAR
VERSION:2.0
PRODID:-//RSDO - ECPv6.15.20//NONSGML v1.0//EN
CALSCALE:GREGORIAN
METHOD:PUBLISH
X-WR-CALNAME:RSDO
X-ORIGINAL-URL:https://www.rsdo.org
X-WR-CALDESC:Évènements pour RSDO
REFRESH-INTERVAL;VALUE=DURATION:PT1H
X-Robots-Tag:noindex
X-PUBLISHED-TTL:PT1H
BEGIN:VTIMEZONE
TZID:America/New_York
BEGIN:DAYLIGHT
TZOFFSETFROM:-0500
TZOFFSETTO:-0400
TZNAME:EDT
DTSTART:20210314T070000
END:DAYLIGHT
BEGIN:STANDARD
TZOFFSETFROM:-0400
TZOFFSETTO:-0500
TZNAME:EST
DTSTART:20211107T060000
END:STANDARD
BEGIN:DAYLIGHT
TZOFFSETFROM:-0500
TZOFFSETTO:-0400
TZNAME:EDT
DTSTART:20220313T070000
END:DAYLIGHT
BEGIN:STANDARD
TZOFFSETFROM:-0400
TZOFFSETTO:-0500
TZNAME:EST
DTSTART:20221106T060000
END:STANDARD
BEGIN:DAYLIGHT
TZOFFSETFROM:-0500
TZOFFSETTO:-0400
TZNAME:EDT
DTSTART:20230312T070000
END:DAYLIGHT
BEGIN:STANDARD
TZOFFSETFROM:-0400
TZOFFSETTO:-0500
TZNAME:EST
DTSTART:20231105T060000
END:STANDARD
END:VTIMEZONE
BEGIN:VEVENT
DTSTART;TZID=America/New_York:20220320T093000
DTEND;TZID=America/New_York:20220320T160000
DTSTAMP:20260421T150914
CREATED:20220302T231051Z
LAST-MODIFIED:20220302T231051Z
UID:10002131-1647768600-1647792000@www.rsdo.org
SUMMARY:Sculpture d'argile
DESCRIPTION:Activité gratuite exclusive aux membres \nInscription obligatoire | Maximum de 7 participants \nMonique Cantin animera ces ateliers qui s’adressent à tous les niveaux et vous feront découvrir la sculpture d’argile autodurcissante (sans cuisson). \nMonique possède un Baccalauréat Es-Art de Concordia\, et un Certificat en Arts visuels de Bishops.  Au cours de sa vie\, Monique aura touché à plusieurs médiums :  bricolage\, collage\, dessin\, peinture à l’eau\, gouache\, peinture sur soie et batik.  Des portraits à l’huile ont eu sa préférence\, elle en produira une centaine\, dont plusieurs sur commande. \nDepuis sa retraite en 2016\, elle vit en Estrie pour produire à temps plein. L’acrylique\, les techniques mixtes et la sculpture d’argile ont sa préférence. Artiste polyvalente\, son itinéraire va des portraits à l’huile\, à l’abstrait\, en passant par l’art décoratif et le Pop Art. \n  \nInscription :     Vous devez réserver votre place au plus tard le 14 mars pour l’une des dates ci-dessous: \nDates :         Samedi 19 mars 2022 ou Dimanche 20 mars 2022 de 9H30 à 16H \nEndroit :      Église Sainte-Geneviève | Salle communautaire (entrée sur le côté)                \nImportant :  Les participants doivent apporter lunch\, collations et breuvages ainsi qu’un contenant pour rapporter leur sculpture (bac à recyclage ou chaudière). Vous pourrez acheter un socle de bois pour votre masque au coût de 20 $. \nPour information et inscription\, veuillez communiquer avec Pauline Debonville à sociale@rsdo.org ou par téléphone au 450-510-1931 ou auprès du RSDO au 438‑390‑7736.
URL:https://www.rsdo.org/evenements/sculpture-dargile/2022-03-20/
LOCATION:Salle paroissiale de l’église Sainte-Geneviève\, 16037 Boul Gouin O\, Sainte-Geneviève\, Québec\, H9H 1C7\, Canada
CATEGORIES:Cours
ATTACH;FMTTYPE=image/jpeg:https://www.rsdo.org/wp-content/uploads/2022/03/Sculpture-Hiver-2022.jpg
GEO:45.4802657;-73.8719786
X-APPLE-STRUCTURED-LOCATION;VALUE=URI;X-ADDRESS=Salle paroissiale de l’église Sainte-Geneviève 16037 Boul Gouin O Sainte-Geneviève Québec H9H 1C7 Canada;X-APPLE-RADIUS=500;X-TITLE=16037 Boul Gouin O:geo:-73.8719786,45.4802657
END:VEVENT
END:VCALENDAR