BEGIN:VCALENDAR
VERSION:2.0
PRODID:-//RSDO - ECPv6.15.20//NONSGML v1.0//EN
CALSCALE:GREGORIAN
METHOD:PUBLISH
X-WR-CALNAME:RSDO
X-ORIGINAL-URL:https://www.rsdo.org
X-WR-CALDESC:Évènements pour RSDO
REFRESH-INTERVAL;VALUE=DURATION:PT1H
X-Robots-Tag:noindex
X-PUBLISHED-TTL:PT1H
BEGIN:VTIMEZONE
TZID:America/New_York
BEGIN:DAYLIGHT
TZOFFSETFROM:-0500
TZOFFSETTO:-0400
TZNAME:EDT
DTSTART:20210314T070000
END:DAYLIGHT
BEGIN:STANDARD
TZOFFSETFROM:-0400
TZOFFSETTO:-0500
TZNAME:EST
DTSTART:20211107T060000
END:STANDARD
BEGIN:DAYLIGHT
TZOFFSETFROM:-0500
TZOFFSETTO:-0400
TZNAME:EDT
DTSTART:20220313T070000
END:DAYLIGHT
BEGIN:STANDARD
TZOFFSETFROM:-0400
TZOFFSETTO:-0500
TZNAME:EST
DTSTART:20221106T060000
END:STANDARD
BEGIN:DAYLIGHT
TZOFFSETFROM:-0500
TZOFFSETTO:-0400
TZNAME:EDT
DTSTART:20230312T070000
END:DAYLIGHT
BEGIN:STANDARD
TZOFFSETFROM:-0400
TZOFFSETTO:-0500
TZNAME:EST
DTSTART:20231105T060000
END:STANDARD
END:VTIMEZONE
BEGIN:VEVENT
DTSTART;TZID=America/New_York:20220302T103000
DTEND;TZID=America/New_York:20220302T113000
DTSTAMP:20260421T062115
CREATED:20220302T223045Z
LAST-MODIFIED:20220302T223045Z
UID:10002105-1646217000-1646220600@www.rsdo.org
SUMMARY:Zumba
DESCRIPTION:Activité gratuite exclusive aux membres \nEssai gratuit d’un cours pour les non-membres \n  \nLa Zumba est un programme d’entraînement physique complet\, alliant tous les éléments de la remise en forme : cardio et préparation musculaire\, équilibre et flexibilité. \nLes chorégraphies s’inspirent principalement des danses latines\, mais aussi de styles variés comme la danse du ventre ou la Quebradita. \nLes sessions virtuelles seront animées par la dynamique Jiana Saad. \n  \nLes mercredis du 12 janvier au 30 mars 2022 (12 semaines)  de 10H30 à 11H30. \nVirtuellement avec la plateforme Zoom. L’hyperlien pour vous joindre à ces sessions vous sera communiqué en début d’année. \nPour information\, veuillez communiquer avec Sylvie Gagnon à gagnon.sylvie@hotmail.fr
URL:https://www.rsdo.org/evenements/zumba/2022-03-02/
LOCATION:Québec
CATEGORIES:Cours
ATTACH;FMTTYPE=image/jpeg:https://www.rsdo.org/wp-content/uploads/2020/12/Image-zumba.jpg
END:VEVENT
BEGIN:VEVENT
DTSTART;TZID=America/New_York:20220302T193000
DTEND;TZID=America/New_York:20220302T210000
DTSTAMP:20260421T062115
CREATED:20220118T164551Z
LAST-MODIFIED:20220225T213450Z
UID:10000691-1646249400-1646254800@www.rsdo.org
SUMMARY:Jean-Claude (JiCi) Lauzon - Parler pour exister
DESCRIPTION:Gratuit pour les membres / 10$ pour les non-membres \nJiCi Lauzon est un comédien et humoriste connu. Mais c’est aussi un conférencier. Titulaire d’une maîtrise en communication\, il vous livrera ses réflexions sur ses sujets fétiches : la conversation à l’ère du clip et des textos ainsi que l’importance de la voix humaine dans cette cacophonie médiatisée. \nIl vous parlera de la conversation en face-à-face par opposition à la conversation électronique et mettra en lumière les dix défauts de conversation qui datent du 18e siècle et qui sont aujourd’hui exacerbés par nos nouveaux outils de communication. \nLa voix est l’un de nos instruments les plus puissants et se trouve au cœur du processus de communication. Elle est aux humains ce que l’odorat est aux animaux. Peut-on être indifférent à cet extraordinaire instrument ? \nCette conférence aura lieu en présentiel et en Zoom.
URL:https://www.rsdo.org/evenements/jean-claude-jici-lauzon-parler-exister/
LOCATION:Salle paroissiale de l’église Sainte-Geneviève\, 16037 Boul Gouin O\, Sainte-Geneviève\, Québec\, H9H 1C7\, Canada
CATEGORIES:Conférences
ATTACH;FMTTYPE=image/jpeg:https://www.rsdo.org/wp-content/uploads/2022/01/JiCi-Lauzon.jpg
GEO:45.4802657;-73.8719786
X-APPLE-STRUCTURED-LOCATION;VALUE=URI;X-ADDRESS=Salle paroissiale de l’église Sainte-Geneviève 16037 Boul Gouin O Sainte-Geneviève Québec H9H 1C7 Canada;X-APPLE-RADIUS=500;X-TITLE=16037 Boul Gouin O:geo:-73.8719786,45.4802657
END:VEVENT
END:VCALENDAR