BEGIN:VCALENDAR
VERSION:2.0
PRODID:-//RSDO - ECPv6.15.20//NONSGML v1.0//EN
CALSCALE:GREGORIAN
METHOD:PUBLISH
X-ORIGINAL-URL:https://www.rsdo.org
X-WR-CALDESC:Évènements pour RSDO
REFRESH-INTERVAL;VALUE=DURATION:PT1H
X-Robots-Tag:noindex
X-PUBLISHED-TTL:PT1H
BEGIN:VTIMEZONE
TZID:America/New_York
BEGIN:DAYLIGHT
TZOFFSETFROM:-0500
TZOFFSETTO:-0400
TZNAME:EDT
DTSTART:20210314T070000
END:DAYLIGHT
BEGIN:STANDARD
TZOFFSETFROM:-0400
TZOFFSETTO:-0500
TZNAME:EST
DTSTART:20211107T060000
END:STANDARD
BEGIN:DAYLIGHT
TZOFFSETFROM:-0500
TZOFFSETTO:-0400
TZNAME:EDT
DTSTART:20220313T070000
END:DAYLIGHT
BEGIN:STANDARD
TZOFFSETFROM:-0400
TZOFFSETTO:-0500
TZNAME:EST
DTSTART:20221106T060000
END:STANDARD
BEGIN:DAYLIGHT
TZOFFSETFROM:-0500
TZOFFSETTO:-0400
TZNAME:EDT
DTSTART:20230312T070000
END:DAYLIGHT
BEGIN:STANDARD
TZOFFSETFROM:-0400
TZOFFSETTO:-0500
TZNAME:EST
DTSTART:20231105T060000
END:STANDARD
END:VTIMEZONE
BEGIN:VEVENT
DTSTART;TZID=America/New_York:20220218T130000
DTEND;TZID=America/New_York:20220218T150000
DTSTAMP:20260421T163957
CREATED:20220209T152922Z
LAST-MODIFIED:20220209T152922Z
UID:10000686-1645189200-1645196400@www.rsdo.org
SUMMARY:Cours informatique - Susan Parmenter
DESCRIPTION:Le cours informatique aura lieu 4 vendredis (11/18/25 février et 4 mars) de 13H00 à 15H00. Les sujets suivants seront couverts:\n\n1er cours (11 février) : les tablettes de type Ipad\n2e cours (18 février): le logiciel OUTLOOK\n3e cours (25 février) : le logiciel WORD de Microsoft\n4e cours (4 mars): FACEBOOK.\n\nMatériel requis :  tablette ou ordinateur (batterie chargée)\, mot de passe de la tablette\, souris et tapis à souris (pas pour le cours de tablette)\, extension (si besoin).\n\n\n\nENDROIT : Salle paroissiale de l’Église Sainte-Geneviève (entrée sur le côté droit de l’église juste à côté du cimetière)\n                   16 037 boul. Gouin Ouest\, Sainte-Geneviève
URL:https://www.rsdo.org/evenements/cours-informatique-susan-parmenter/2022-02-18/
LOCATION:Salle paroissiale de l’église Sainte-Geneviève\, 16037 Boul Gouin O\, Sainte-Geneviève\, Québec\, H9H 1C7\, Canada
CATEGORIES:Cours
GEO:45.4802657;-73.8719786
X-APPLE-STRUCTURED-LOCATION;VALUE=URI;X-ADDRESS=Salle paroissiale de l’église Sainte-Geneviève 16037 Boul Gouin O Sainte-Geneviève Québec H9H 1C7 Canada;X-APPLE-RADIUS=500;X-TITLE=16037 Boul Gouin O:geo:-73.8719786,45.4802657
END:VEVENT
END:VCALENDAR