BEGIN:VCALENDAR
VERSION:2.0
PRODID:-//RSDO - ECPv6.15.20//NONSGML v1.0//EN
CALSCALE:GREGORIAN
METHOD:PUBLISH
X-ORIGINAL-URL:https://www.rsdo.org
X-WR-CALDESC:Évènements pour RSDO
REFRESH-INTERVAL;VALUE=DURATION:PT1H
X-Robots-Tag:noindex
X-PUBLISHED-TTL:PT1H
BEGIN:VTIMEZONE
TZID:America/New_York
BEGIN:DAYLIGHT
TZOFFSETFROM:-0500
TZOFFSETTO:-0400
TZNAME:EDT
DTSTART:20210314T070000
END:DAYLIGHT
BEGIN:STANDARD
TZOFFSETFROM:-0400
TZOFFSETTO:-0500
TZNAME:EST
DTSTART:20211107T060000
END:STANDARD
BEGIN:DAYLIGHT
TZOFFSETFROM:-0500
TZOFFSETTO:-0400
TZNAME:EDT
DTSTART:20220313T070000
END:DAYLIGHT
BEGIN:STANDARD
TZOFFSETFROM:-0400
TZOFFSETTO:-0500
TZNAME:EST
DTSTART:20221106T060000
END:STANDARD
BEGIN:DAYLIGHT
TZOFFSETFROM:-0500
TZOFFSETTO:-0400
TZNAME:EDT
DTSTART:20230312T070000
END:DAYLIGHT
BEGIN:STANDARD
TZOFFSETFROM:-0400
TZOFFSETTO:-0500
TZNAME:EST
DTSTART:20231105T060000
END:STANDARD
END:VTIMEZONE
BEGIN:VEVENT
DTSTART;TZID=America/New_York:20220212T173000
DTEND;TZID=America/New_York:20220212T193000
DTSTAMP:20260421T151047
CREATED:20220211T034150Z
LAST-MODIFIED:20220211T034150Z
UID:10002071-1644687000-1644694200@www.rsdo.org
SUMMARY:Souper de groupe
DESCRIPTION:Ouvert à tous \nSouper samedi 12 février 2022 @ 17 h 30 \nJoignez-vous à nous pour cette activité où vous pourrez faire de nouvelles connaissances autour d’un bon repas. \nRestaurant Mama Bravo \n475\, Grand Boulevard \nVille de L’Île-Perrot  J7V 4X4 \nPour information\, veuillez communiquer avec Manon Rousseau au 514-425-6439.
URL:https://www.rsdo.org/evenements/souper-de-groupe/
LOCATION:Mama Bravo Pizza & Grill\, 475 Grand Boulevard\, L'Île-Perrot\, Quebec\, J7V 4X4\, Canada
CATEGORIES:Ateliers
GEO:45.3874236;-73.9651871
X-APPLE-STRUCTURED-LOCATION;VALUE=URI;X-ADDRESS=Mama Bravo Pizza & Grill 475 Grand Boulevard L'Île-Perrot Quebec J7V 4X4 Canada;X-APPLE-RADIUS=500;X-TITLE=475 Grand Boulevard:geo:-73.9651871,45.3874236
END:VEVENT
END:VCALENDAR