BEGIN:VCALENDAR
VERSION:2.0
PRODID:-//RSDO - ECPv6.15.20//NONSGML v1.0//EN
CALSCALE:GREGORIAN
METHOD:PUBLISH
X-WR-CALNAME:RSDO
X-ORIGINAL-URL:https://www.rsdo.org
X-WR-CALDESC:Évènements pour RSDO
REFRESH-INTERVAL;VALUE=DURATION:PT1H
X-Robots-Tag:noindex
X-PUBLISHED-TTL:PT1H
BEGIN:VTIMEZONE
TZID:America/New_York
BEGIN:DAYLIGHT
TZOFFSETFROM:-0500
TZOFFSETTO:-0400
TZNAME:EDT
DTSTART:20210314T070000
END:DAYLIGHT
BEGIN:STANDARD
TZOFFSETFROM:-0400
TZOFFSETTO:-0500
TZNAME:EST
DTSTART:20211107T060000
END:STANDARD
BEGIN:DAYLIGHT
TZOFFSETFROM:-0500
TZOFFSETTO:-0400
TZNAME:EDT
DTSTART:20220313T070000
END:DAYLIGHT
BEGIN:STANDARD
TZOFFSETFROM:-0400
TZOFFSETTO:-0500
TZNAME:EST
DTSTART:20221106T060000
END:STANDARD
BEGIN:DAYLIGHT
TZOFFSETFROM:-0500
TZOFFSETTO:-0400
TZNAME:EDT
DTSTART:20230312T070000
END:DAYLIGHT
BEGIN:STANDARD
TZOFFSETFROM:-0400
TZOFFSETTO:-0500
TZNAME:EST
DTSTART:20231105T060000
END:STANDARD
END:VTIMEZONE
BEGIN:VEVENT
DTSTART;TZID=America/New_York:20220119T103000
DTEND;TZID=America/New_York:20220119T113000
DTSTAMP:20260421T202958
CREATED:20220302T223045Z
LAST-MODIFIED:20220302T223045Z
UID:10002099-1642588200-1642591800@www.rsdo.org
SUMMARY:Zumba
DESCRIPTION:Activité gratuite exclusive aux membres \nEssai gratuit d’un cours pour les non-membres \n  \nLa Zumba est un programme d’entraînement physique complet\, alliant tous les éléments de la remise en forme : cardio et préparation musculaire\, équilibre et flexibilité. \nLes chorégraphies s’inspirent principalement des danses latines\, mais aussi de styles variés comme la danse du ventre ou la Quebradita. \nLes sessions virtuelles seront animées par la dynamique Jiana Saad. \n  \nLes mercredis du 12 janvier au 30 mars 2022 (12 semaines)  de 10H30 à 11H30. \nVirtuellement avec la plateforme Zoom. L’hyperlien pour vous joindre à ces sessions vous sera communiqué en début d’année. \nPour information\, veuillez communiquer avec Sylvie Gagnon à gagnon.sylvie@hotmail.fr
URL:https://www.rsdo.org/evenements/zumba/2022-01-19/
LOCATION:Québec
CATEGORIES:Cours
ATTACH;FMTTYPE=image/jpeg:https://www.rsdo.org/wp-content/uploads/2020/12/Image-zumba.jpg
END:VEVENT
BEGIN:VEVENT
DTSTART;TZID=America/New_York:20220119T193000
DTEND;TZID=America/New_York:20220119T210000
DTSTAMP:20260421T202958
CREATED:20220118T153956Z
LAST-MODIFIED:20220118T154557Z
UID:10002027-1642620600-1642626000@www.rsdo.org
SUMMARY:Marthe Laverdière - Le fameux pouce vert
DESCRIPTION:Gratuit pour les membres / 10$ pour les non-membres \nSes capsules Web ont été vues plus de 20 millions de fois\, et plus de 92 milles personnes sont abonnées à sa page Facebook ! Comment explique-t-elle un tel engouement ? Premièrement\, elle connaît profondément l’horticulture et en parle d’une manière toute personnelle et hilarante. Mais encore ? Marthe est vraie\, sincère\, authentique et sans artifices. Et ça\, c’est rafraîchissant ! Et les gens en redemandent !  www.marthelaverdiere.com \nAvec humour et aplomb\, Marthe raconte que l’horticulture correspond à une façon de vivre et n’a rien de magique. Cela dit\, pour arriver à quoi que ce soit\, il est essentiel de tenir compte d’un certain nombre de facteurs et avant toute chose\, assurez-vous que vous jardinez et jouez dans vos plantes pour vous et vous seuls. C’est ainsi que le vrai plaisir commence.
URL:https://www.rsdo.org/evenements/marthe-laverdiere-fameux-pouce-vert/
LOCATION:ZOOM
CATEGORIES:Conférences
ATTACH;FMTTYPE=image/jpeg:https://www.rsdo.org/wp-content/uploads/2022/01/marthe-laverdiere-800x1072-e1642118114751.jpg
END:VEVENT
END:VCALENDAR