BEGIN:VCALENDAR
VERSION:2.0
PRODID:-//RSDO - ECPv6.15.20//NONSGML v1.0//EN
CALSCALE:GREGORIAN
METHOD:PUBLISH
X-ORIGINAL-URL:https://www.rsdo.org
X-WR-CALDESC:Évènements pour RSDO
REFRESH-INTERVAL;VALUE=DURATION:PT1H
X-Robots-Tag:noindex
X-PUBLISHED-TTL:PT1H
BEGIN:VTIMEZONE
TZID:America/New_York
BEGIN:DAYLIGHT
TZOFFSETFROM:-0500
TZOFFSETTO:-0400
TZNAME:EDT
DTSTART:20210314T070000
END:DAYLIGHT
BEGIN:STANDARD
TZOFFSETFROM:-0400
TZOFFSETTO:-0500
TZNAME:EST
DTSTART:20211107T060000
END:STANDARD
BEGIN:DAYLIGHT
TZOFFSETFROM:-0500
TZOFFSETTO:-0400
TZNAME:EDT
DTSTART:20220313T070000
END:DAYLIGHT
BEGIN:STANDARD
TZOFFSETFROM:-0400
TZOFFSETTO:-0500
TZNAME:EST
DTSTART:20221106T060000
END:STANDARD
BEGIN:DAYLIGHT
TZOFFSETFROM:-0500
TZOFFSETTO:-0400
TZNAME:EDT
DTSTART:20230312T070000
END:DAYLIGHT
BEGIN:STANDARD
TZOFFSETFROM:-0400
TZOFFSETTO:-0500
TZNAME:EST
DTSTART:20231105T060000
END:STANDARD
END:VTIMEZONE
BEGIN:VEVENT
DTSTART;TZID=America/New_York:20220113T193000
DTEND;TZID=America/New_York:20220113T210000
DTSTAMP:20260421T222414
CREATED:20220113T234336Z
LAST-MODIFIED:20220205T145007Z
UID:10002026-1642102200-1642107600@www.rsdo.org
SUMMARY:Denis Fortier - Va prendre l’air ! Tout sur le pouvoir exceptionnel de la respiration
DESCRIPTION:Gratuit pour les membres / 10$ pour les non-membres \nPhysiothérapeute\, conférencier\, auteur\, chroniqueur et clinicien\, Denis Fortier pratique depuis plus de vingt-cinq ans en milieu privé et hospitalier et détient une maîtrise en pratiques de la réadaptation de l’Université de Sherbrooke. Il est l’auteur de plusieurs best-sellers et sa chaîne YouTube est suivie par plus de 250 000 personnes. Denis a récemment reçu le prix Excellence de l’Ordre professionnel de la physiothérapie du Québec. www.denisfortier.ca \nLa respiration est le point de rencontre entre la santé physique et mentale et la qualité de vie et Denis vous invitera à (re)découvrir comment utiliser la respiration pour : \n  diminuer les tensions musculaires                                                                         combattre le stress \n  trouver un sommeil réparateur                                                                         soulager la douleur \n  améliorer la mémoire                                                                         adopter une meilleure posture \n  développer une endurance cardiorespiratoire \nIl proposera des exercices pour mieux respirer\, que vous soyez sédentaire ou sportif\, et vous incitera à aller prendre l’air. Car mieux respirer conduit inévitablement à un sentiment de liberté et à une profonde sensation de bien-être.
URL:https://www.rsdo.org/evenements/va-prendre-lair-pouvoir-exceptionnel-de-respiration/
LOCATION:Québec
CATEGORIES:Conférences
ATTACH;FMTTYPE=image/png:https://www.rsdo.org/wp-content/uploads/2022/01/Denis-Fortier.png
END:VEVENT
END:VCALENDAR