BEGIN:VCALENDAR
VERSION:2.0
PRODID:-//RSDO - ECPv6.15.20//NONSGML v1.0//EN
CALSCALE:GREGORIAN
METHOD:PUBLISH
X-ORIGINAL-URL:https://www.rsdo.org
X-WR-CALDESC:Évènements pour RSDO
REFRESH-INTERVAL;VALUE=DURATION:PT1H
X-Robots-Tag:noindex
X-PUBLISHED-TTL:PT1H
BEGIN:VTIMEZONE
TZID:America/New_York
BEGIN:DAYLIGHT
TZOFFSETFROM:-0500
TZOFFSETTO:-0400
TZNAME:EDT
DTSTART:20210314T070000
END:DAYLIGHT
BEGIN:STANDARD
TZOFFSETFROM:-0400
TZOFFSETTO:-0500
TZNAME:EST
DTSTART:20211107T060000
END:STANDARD
BEGIN:DAYLIGHT
TZOFFSETFROM:-0500
TZOFFSETTO:-0400
TZNAME:EDT
DTSTART:20220313T070000
END:DAYLIGHT
BEGIN:STANDARD
TZOFFSETFROM:-0400
TZOFFSETTO:-0500
TZNAME:EST
DTSTART:20221106T060000
END:STANDARD
BEGIN:DAYLIGHT
TZOFFSETFROM:-0500
TZOFFSETTO:-0400
TZNAME:EDT
DTSTART:20230312T070000
END:DAYLIGHT
BEGIN:STANDARD
TZOFFSETFROM:-0400
TZOFFSETTO:-0500
TZNAME:EST
DTSTART:20231105T060000
END:STANDARD
END:VTIMEZONE
BEGIN:VEVENT
DTSTART;TZID=America/New_York:20220111T190000
DTEND;TZID=America/New_York:20220111T203000
DTSTAMP:20260421T212047
CREATED:20220302T214335Z
LAST-MODIFIED:20220302T214418Z
UID:10002073-1641927600-1641933000@www.rsdo.org
SUMMARY:CHŒUR DU RSDO
DESCRIPTION:Activité gratuite exclusive aux membres \nEssai gratuit d’une séance pour les non-membres \nAu RSDO\, on continue à briser l’isolement \nen chantant virtuellement ! \nLe directeur de chorale\, Jocelyn Bigras\, poursuit les rencontres de chant virtuellement\, vous permettant de pratiquer avec lui via vos écrans dans le confort de votre foyer.  À partir de chansons connues du répertoire qu’il propose\, Jocelyn vous accompagne au piano ou à l’accordéon. \nEn chantant avec lui\, mais chacun de votre côté\, nous avons quand même la sensation d’être entouré et d’être dans une action de groupe. \nÀ l’occasion\, des montages vidéo sont créés afin de partager l’enthousiasme de la chorale avec tous les membres du RSDO. \n  \nDates :             Les mardis du 11 janvier au 24 mai 2022 (20 semaines) de 19H à 20H30 \nComment :       Virtuellement avec la plateforme Zoom. L’hyperlien pour vous joindre à ces sessions vous sera transmis par courriel. \nPour information\, veuillez communiquer avec Sylvie Beaupré au 514-865-4377 ou à sbeaupre01@hotmail.com
URL:https://www.rsdo.org/evenements/choeur-du-rsdo/2022-01-11/
LOCATION:ZOOM
CATEGORIES:Cours
ATTACH;FMTTYPE=image/jpeg:https://www.rsdo.org/wp-content/uploads/2022/03/Choeur-RSDO-e1646257129683.jpg
END:VEVENT
END:VCALENDAR