BEGIN:VCALENDAR
VERSION:2.0
PRODID:-//RSDO - ECPv6.15.20//NONSGML v1.0//EN
CALSCALE:GREGORIAN
METHOD:PUBLISH
X-ORIGINAL-URL:https://www.rsdo.org
X-WR-CALDESC:Évènements pour RSDO
REFRESH-INTERVAL;VALUE=DURATION:PT1H
X-Robots-Tag:noindex
X-PUBLISHED-TTL:PT1H
BEGIN:VTIMEZONE
TZID:America/New_York
BEGIN:DAYLIGHT
TZOFFSETFROM:-0500
TZOFFSETTO:-0400
TZNAME:EDT
DTSTART:20200308T070000
END:DAYLIGHT
BEGIN:STANDARD
TZOFFSETFROM:-0400
TZOFFSETTO:-0500
TZNAME:EST
DTSTART:20201101T060000
END:STANDARD
BEGIN:DAYLIGHT
TZOFFSETFROM:-0500
TZOFFSETTO:-0400
TZNAME:EDT
DTSTART:20210314T070000
END:DAYLIGHT
BEGIN:STANDARD
TZOFFSETFROM:-0400
TZOFFSETTO:-0500
TZNAME:EST
DTSTART:20211107T060000
END:STANDARD
BEGIN:DAYLIGHT
TZOFFSETFROM:-0500
TZOFFSETTO:-0400
TZNAME:EDT
DTSTART:20220313T070000
END:DAYLIGHT
BEGIN:STANDARD
TZOFFSETFROM:-0400
TZOFFSETTO:-0500
TZNAME:EST
DTSTART:20221106T060000
END:STANDARD
END:VTIMEZONE
BEGIN:VEVENT
DTSTART;TZID=America/New_York:20211216T093000
DTEND;TZID=America/New_York:20211216T110000
DTSTAMP:20260422T190048
CREATED:20210606T001122Z
LAST-MODIFIED:20210909T230605Z
UID:10001908-1639647000-1639652400@www.rsdo.org
SUMMARY:Groupes de marche - Île-Bizard
DESCRIPTION:Pour la période estivale\, le RSDO a deux points de rencontre pour les marches hebdomadaires gratuites d’une durée de 60 à\n75 minutes qui sont ouvertes à tous\, quel que soit votre niveaud’activité. Nous demandons aux marcheurs de se présenter au\npoint de rencontre au moins 10 minutes avant le départ.\nLes responsables pour chacun des groupes communiquentavec les participants lors de changements du lieu de marche\nou d’annulations de l’activité pour cause de mauvais temps. \nDans le Parc nature de l’Île-Bizard\, les lundis et jeudis à 9 h 30\nPoint de rencontre et stationnement au Complexe sportif Saint-Raphaël\, près del’entrée du parc \nResponsable : Carole Larivière | Tél. 514 626-9306
URL:https://www.rsdo.org/evenements/groupes-de-marche-ile-bizard-2/2021-12-16/
LOCATION:Complexe sportif Saint-Raphaël\, 750\, boul. Jacques-Bizard\, H9C 2Y2\, Île-Bizard\, Québec\, H9C 2Y2\, Canada
CATEGORIES:Ateliers
ATTACH;FMTTYPE=image/jpeg:https://www.rsdo.org/wp-content/uploads/2018/06/Randonnée-parc-ïle-Bizard.jpg
GEO:45.5027065;-73.8776709
X-APPLE-STRUCTURED-LOCATION;VALUE=URI;X-ADDRESS=Complexe sportif Saint-Raphaël 750 boul. Jacques-Bizard H9C 2Y2 Île-Bizard Québec H9C 2Y2 Canada;X-APPLE-RADIUS=500;X-TITLE=750\, boul. Jacques-Bizard\, H9C 2Y2:geo:-73.8776709,45.5027065
END:VEVENT
BEGIN:VEVENT
DTSTART;TZID=America/New_York:20211216T103000
DTEND;TZID=America/New_York:20211216T120000
DTSTAMP:20260422T190048
CREATED:20210606T001631Z
LAST-MODIFIED:20210909T230705Z
UID:10001964-1639650600-1639656000@www.rsdo.org
SUMMARY:Groupes de marche - Vaudreuil-Dorion
DESCRIPTION:Pour la période estivale\, le RSDO a deux points de rencontre pour les marches hebdomadaires gratuites d’une durée de 60 à\n75 minutes qui sont ouvertes à tous\, quel que soit votre niveaud’activité. Nous demandons aux marcheurs de se présenter au\npoint de rencontre au moins 10 minutes avant le départ.\nLes responsables pour chacun des groupes communiquentavec les participants lors de changements du lieu de marche\nou d’annulations de l’activité pour cause de mauvais temps. \nÀ Vaudreuil-Dorion\, les mardis et jeudis à 10 h 30\nPoint de rencontre : Dans le stationnement de la rue Dumont\, derrière la Tour d’eau\nStationnement : Dans les stationnements voisins de la Tour d’eau \nResponsables : Pauline Debonville | Tél. 450 510-1931 et\nClaire Ménard | Tél. 450 218-0967
URL:https://www.rsdo.org/evenements/groupes-de-marche-vaudreuil-dorion-8/2021-12-16/
LOCATION:Tour d’eau Dorion\, Vaudeuil-Dorion\, J7V 1W9
CATEGORIES:Ateliers
ATTACH;FMTTYPE=image/jpeg:https://www.rsdo.org/wp-content/uploads/2018/06/Randonnée-pédestre-2.jpg
ORGANIZER;CN="Pauline Debonville":MAILTO:sociale@rsdo.org
END:VEVENT
BEGIN:VEVENT
DTSTART;TZID=America/New_York:20211216T190000
DTEND;TZID=America/New_York:20211216T203000
DTSTAMP:20260422T190048
CREATED:20211110T052502Z
LAST-MODIFIED:20211110T053503Z
UID:10002019-1639681200-1639686600@www.rsdo.org
SUMMARY:Noël seul
DESCRIPTION:Gratuit pour les membres / 10$ pour les non-membres \nStéphanie Laprise est intervenante sociale au niveau du bien-être et de la santé mentale depuis 1997 et formatrice et conférencière depuis 2006. Elle a fondé son entreprise à vocation sociale « Vivre à coup de coeur » en 2018. Elle offre des conférences\, des ateliers\, des formations\, des groupes de soutien et des consultations en individuel en plus d’être très présente et active sur les réseaux sociaux afin d’accompagner et de cheminer avec un maximum de personnes qui cherchent à vivre une vie authentique et intègre\, qui leur ressemble en tous points.
URL:https://www.rsdo.org/evenements/noel-seul/
LOCATION:ZOOM
CATEGORIES:Conférences
ATTACH;FMTTYPE=image/jpeg:https://www.rsdo.org/wp-content/uploads/2021/11/Stépahnie-Laprise-RSDO-du-2021.12.16.jpg
END:VEVENT
END:VCALENDAR