BEGIN:VCALENDAR
VERSION:2.0
PRODID:-//RSDO - ECPv6.15.20//NONSGML v1.0//EN
CALSCALE:GREGORIAN
METHOD:PUBLISH
X-WR-CALNAME:RSDO
X-ORIGINAL-URL:https://www.rsdo.org
X-WR-CALDESC:Évènements pour RSDO
REFRESH-INTERVAL;VALUE=DURATION:PT1H
X-Robots-Tag:noindex
X-PUBLISHED-TTL:PT1H
BEGIN:VTIMEZONE
TZID:America/New_York
BEGIN:DAYLIGHT
TZOFFSETFROM:-0500
TZOFFSETTO:-0400
TZNAME:EDT
DTSTART:20200308T070000
END:DAYLIGHT
BEGIN:STANDARD
TZOFFSETFROM:-0400
TZOFFSETTO:-0500
TZNAME:EST
DTSTART:20201101T060000
END:STANDARD
BEGIN:DAYLIGHT
TZOFFSETFROM:-0500
TZOFFSETTO:-0400
TZNAME:EDT
DTSTART:20210314T070000
END:DAYLIGHT
BEGIN:STANDARD
TZOFFSETFROM:-0400
TZOFFSETTO:-0500
TZNAME:EST
DTSTART:20211107T060000
END:STANDARD
BEGIN:DAYLIGHT
TZOFFSETFROM:-0500
TZOFFSETTO:-0400
TZNAME:EDT
DTSTART:20220313T070000
END:DAYLIGHT
BEGIN:STANDARD
TZOFFSETFROM:-0400
TZOFFSETTO:-0500
TZNAME:EST
DTSTART:20221106T060000
END:STANDARD
END:VTIMEZONE
BEGIN:VEVENT
DTSTART;TZID=America/New_York:20211118T093000
DTEND;TZID=America/New_York:20211118T110000
DTSTAMP:20260423T214122
CREATED:20210606T001122Z
LAST-MODIFIED:20210909T230605Z
UID:10001900-1637227800-1637233200@www.rsdo.org
SUMMARY:Groupes de marche - Île-Bizard
DESCRIPTION:Pour la période estivale\, le RSDO a deux points de rencontre pour les marches hebdomadaires gratuites d’une durée de 60 à\n75 minutes qui sont ouvertes à tous\, quel que soit votre niveaud’activité. Nous demandons aux marcheurs de se présenter au\npoint de rencontre au moins 10 minutes avant le départ.\nLes responsables pour chacun des groupes communiquentavec les participants lors de changements du lieu de marche\nou d’annulations de l’activité pour cause de mauvais temps. \nDans le Parc nature de l’Île-Bizard\, les lundis et jeudis à 9 h 30\nPoint de rencontre et stationnement au Complexe sportif Saint-Raphaël\, près del’entrée du parc \nResponsable : Carole Larivière | Tél. 514 626-9306
URL:https://www.rsdo.org/evenements/groupes-de-marche-ile-bizard-2/2021-11-18/
LOCATION:Complexe sportif Saint-Raphaël\, 750\, boul. Jacques-Bizard\, H9C 2Y2\, Île-Bizard\, Québec\, H9C 2Y2\, Canada
CATEGORIES:Ateliers
ATTACH;FMTTYPE=image/jpeg:https://www.rsdo.org/wp-content/uploads/2018/06/Randonnée-parc-ïle-Bizard.jpg
GEO:45.5027065;-73.8776709
X-APPLE-STRUCTURED-LOCATION;VALUE=URI;X-ADDRESS=Complexe sportif Saint-Raphaël 750 boul. Jacques-Bizard H9C 2Y2 Île-Bizard Québec H9C 2Y2 Canada;X-APPLE-RADIUS=500;X-TITLE=750\, boul. Jacques-Bizard\, H9C 2Y2:geo:-73.8776709,45.5027065
END:VEVENT
BEGIN:VEVENT
DTSTART;TZID=America/New_York:20211118T103000
DTEND;TZID=America/New_York:20211118T120000
DTSTAMP:20260423T214122
CREATED:20210606T001631Z
LAST-MODIFIED:20210909T230705Z
UID:10001956-1637231400-1637236800@www.rsdo.org
SUMMARY:Groupes de marche - Vaudreuil-Dorion
DESCRIPTION:Pour la période estivale\, le RSDO a deux points de rencontre pour les marches hebdomadaires gratuites d’une durée de 60 à\n75 minutes qui sont ouvertes à tous\, quel que soit votre niveaud’activité. Nous demandons aux marcheurs de se présenter au\npoint de rencontre au moins 10 minutes avant le départ.\nLes responsables pour chacun des groupes communiquentavec les participants lors de changements du lieu de marche\nou d’annulations de l’activité pour cause de mauvais temps. \nÀ Vaudreuil-Dorion\, les mardis et jeudis à 10 h 30\nPoint de rencontre : Dans le stationnement de la rue Dumont\, derrière la Tour d’eau\nStationnement : Dans les stationnements voisins de la Tour d’eau \nResponsables : Pauline Debonville | Tél. 450 510-1931 et\nClaire Ménard | Tél. 450 218-0967
URL:https://www.rsdo.org/evenements/groupes-de-marche-vaudreuil-dorion-8/2021-11-18/
LOCATION:Tour d’eau Dorion\, Vaudeuil-Dorion\, J7V 1W9
CATEGORIES:Ateliers
ATTACH;FMTTYPE=image/jpeg:https://www.rsdo.org/wp-content/uploads/2018/06/Randonnée-pédestre-2.jpg
ORGANIZER;CN="Pauline Debonville":MAILTO:sociale@rsdo.org
END:VEVENT
BEGIN:VEVENT
DTSTART;TZID=America/New_York:20211118T190000
DTEND;TZID=America/New_York:20211118T203000
DTSTAMP:20260423T214122
CREATED:20211003T170021Z
LAST-MODIFIED:20211003T170118Z
UID:10000666-1637262000-1637267400@www.rsdo.org
SUMMARY:Aliments contre le cancer
DESCRIPTION:Gratuit pour les membres / 5$ pour les non-membres \nAncienne psychologue scolaire et conseillère pédagogique avec plus de 30 ans d’expérience\, Susan est titulaire d’une maîtrise en Psychologie de l’éducation de l’Université McGill. Elle est également coach et éducatrice santé certifiée L.E.A.N.  \nCe qui l’anime profondément\, c’est d’aider les gens à atteindre leurs objectifs et réaliser leur but dans la vie.  Et pour elle\, cela passe par la compréhension du rôle que la nutrition joue dans le chemin de la réussite.  \n La présentation de Susan portera sur la découverte des aliments qui aident à combattre le cancer. Cette présentation se fonde sur les recherches en cours qui démontrent que la thérapie par l’alimentation est un élément essentiel de la prévention du cancer. Qu’est-ce qui se cache dans les aliments que vous mangez et qui incite vos cellules à rester en bonne santé ? Les aliments qui combattent le cancer sont facilement disponibles et peu coûteux. Susan vous proposera des recettes et des conseils pratiques pour soutenir votre système immunitaire dans votre parcours vers une santé optimale. 
URL:https://www.rsdo.org/evenements/aliments-contre-cancer/
LOCATION:ZOOM
CATEGORIES:Conférences
ATTACH;FMTTYPE=image/jpeg:https://www.rsdo.org/wp-content/uploads/2020/01/Susan-Campbell-Fournel.jpg
END:VEVENT
END:VCALENDAR