BEGIN:VCALENDAR
VERSION:2.0
PRODID:-//RSDO - ECPv6.15.20//NONSGML v1.0//EN
CALSCALE:GREGORIAN
METHOD:PUBLISH
X-ORIGINAL-URL:https://www.rsdo.org
X-WR-CALDESC:Évènements pour RSDO
REFRESH-INTERVAL;VALUE=DURATION:PT1H
X-Robots-Tag:noindex
X-PUBLISHED-TTL:PT1H
BEGIN:VTIMEZONE
TZID:America/New_York
BEGIN:DAYLIGHT
TZOFFSETFROM:-0500
TZOFFSETTO:-0400
TZNAME:EDT
DTSTART:20200308T070000
END:DAYLIGHT
BEGIN:STANDARD
TZOFFSETFROM:-0400
TZOFFSETTO:-0500
TZNAME:EST
DTSTART:20201101T060000
END:STANDARD
BEGIN:DAYLIGHT
TZOFFSETFROM:-0500
TZOFFSETTO:-0400
TZNAME:EDT
DTSTART:20210314T070000
END:DAYLIGHT
BEGIN:STANDARD
TZOFFSETFROM:-0400
TZOFFSETTO:-0500
TZNAME:EST
DTSTART:20211107T060000
END:STANDARD
BEGIN:DAYLIGHT
TZOFFSETFROM:-0500
TZOFFSETTO:-0400
TZNAME:EDT
DTSTART:20220313T070000
END:DAYLIGHT
BEGIN:STANDARD
TZOFFSETFROM:-0400
TZOFFSETTO:-0500
TZNAME:EST
DTSTART:20221106T060000
END:STANDARD
END:VTIMEZONE
BEGIN:VEVENT
DTSTART;TZID=America/New_York:20211003T100000
DTEND;TZID=America/New_York:20211003T110000
DTSTAMP:20260423T170126
CREATED:20210823T171202Z
LAST-MODIFIED:20211002T165522Z
UID:10000658-1633255200-1633258800@www.rsdo.org
SUMMARY:Qi Gong sur Zoom
DESCRIPTION:Pour suivre cet atelier\, il faut être membre du RSDO (un essai gratuit pour les non-membres)\n\nLe Qi Gong (prononcez tchi gong est un ensemble d’exercices énergétiques issus de la médecine traditionnelle chinoise et de la philosophie Taoïste.  Cette pratique rétablit la libre circulation de l’énergie dans les méridiens\, stimulant ainsi le potentiel naturel de guérison et la capacité de faire face au stress.  Les mouvements peuvent se faire debout ou assis ou si vous avez un tapis\, au sol. .  Ils sont doux\, fluides\, souples et faciles d’exécution\, ils améliorent la flexibilité\, la posture\, l’équilibre\, harmonisent les émotions\, apaisent l’esprit\, stimulent et fortifient tout le corps.  Cette pratique s’adresse à tout le monde et s’adapte à toutes les conditions.\nEmmenez votre chaise ou cousin.\nLe lien Zoom: https://us06web.zoom.us/j/84779125665?pwd=bFZwNE9adFdBb2ZtTFQ0MWFnVEs0Zz09\n\nAnimatrice : Luce Desgagné\, enseignante Qi Gong depuis 1998
URL:https://www.rsdo.org/evenements/qi-gong-plein-air-8/
LOCATION:Québec
CATEGORIES:Cours
ATTACH;FMTTYPE=image/jpeg:https://www.rsdo.org/wp-content/uploads/2019/09/Luce-Desgagnés.jpg
END:VEVENT
END:VCALENDAR