BEGIN:VCALENDAR
VERSION:2.0
PRODID:-//RSDO - ECPv6.15.20//NONSGML v1.0//EN
CALSCALE:GREGORIAN
METHOD:PUBLISH
X-ORIGINAL-URL:https://www.rsdo.org
X-WR-CALDESC:Évènements pour RSDO
REFRESH-INTERVAL;VALUE=DURATION:PT1H
X-Robots-Tag:noindex
X-PUBLISHED-TTL:PT1H
BEGIN:VTIMEZONE
TZID:America/New_York
BEGIN:DAYLIGHT
TZOFFSETFROM:-0500
TZOFFSETTO:-0400
TZNAME:EDT
DTSTART:20200308T070000
END:DAYLIGHT
BEGIN:STANDARD
TZOFFSETFROM:-0400
TZOFFSETTO:-0500
TZNAME:EST
DTSTART:20201101T060000
END:STANDARD
BEGIN:DAYLIGHT
TZOFFSETFROM:-0500
TZOFFSETTO:-0400
TZNAME:EDT
DTSTART:20210314T070000
END:DAYLIGHT
BEGIN:STANDARD
TZOFFSETFROM:-0400
TZOFFSETTO:-0500
TZNAME:EST
DTSTART:20211107T060000
END:STANDARD
BEGIN:DAYLIGHT
TZOFFSETFROM:-0500
TZOFFSETTO:-0400
TZNAME:EDT
DTSTART:20220313T070000
END:DAYLIGHT
BEGIN:STANDARD
TZOFFSETFROM:-0400
TZOFFSETTO:-0500
TZNAME:EST
DTSTART:20221106T060000
END:STANDARD
END:VTIMEZONE
BEGIN:VEVENT
DTSTART;TZID=America/New_York:20210906T093000
DTEND;TZID=America/New_York:20210906T110000
DTSTAMP:20260423T170124
CREATED:20210606T001122Z
LAST-MODIFIED:20210909T230605Z
UID:10001879-1630920600-1630926000@www.rsdo.org
SUMMARY:Groupes de marche - Île-Bizard
DESCRIPTION:Pour la période estivale\, le RSDO a deux points de rencontre pour les marches hebdomadaires gratuites d’une durée de 60 à\n75 minutes qui sont ouvertes à tous\, quel que soit votre niveaud’activité. Nous demandons aux marcheurs de se présenter au\npoint de rencontre au moins 10 minutes avant le départ.\nLes responsables pour chacun des groupes communiquentavec les participants lors de changements du lieu de marche\nou d’annulations de l’activité pour cause de mauvais temps. \nDans le Parc nature de l’Île-Bizard\, les lundis et jeudis à 9 h 30\nPoint de rencontre et stationnement au Complexe sportif Saint-Raphaël\, près del’entrée du parc \nResponsable : Carole Larivière | Tél. 514 626-9306
URL:https://www.rsdo.org/evenements/groupes-de-marche-ile-bizard-2/2021-09-06/
LOCATION:Complexe sportif Saint-Raphaël\, 750\, boul. Jacques-Bizard\, H9C 2Y2\, Île-Bizard\, Québec\, H9C 2Y2\, Canada
CATEGORIES:Ateliers
ATTACH;FMTTYPE=image/jpeg:https://www.rsdo.org/wp-content/uploads/2018/06/Randonnée-parc-ïle-Bizard.jpg
GEO:45.5027065;-73.8776709
X-APPLE-STRUCTURED-LOCATION;VALUE=URI;X-ADDRESS=Complexe sportif Saint-Raphaël 750 boul. Jacques-Bizard H9C 2Y2 Île-Bizard Québec H9C 2Y2 Canada;X-APPLE-RADIUS=500;X-TITLE=750\, boul. Jacques-Bizard\, H9C 2Y2:geo:-73.8776709,45.5027065
END:VEVENT
END:VCALENDAR