BEGIN:VCALENDAR
VERSION:2.0
PRODID:-//RSDO - ECPv6.15.20//NONSGML v1.0//EN
CALSCALE:GREGORIAN
METHOD:PUBLISH
X-ORIGINAL-URL:https://www.rsdo.org
X-WR-CALDESC:Évènements pour RSDO
REFRESH-INTERVAL;VALUE=DURATION:PT1H
X-Robots-Tag:noindex
X-PUBLISHED-TTL:PT1H
BEGIN:VTIMEZONE
TZID:America/New_York
BEGIN:DAYLIGHT
TZOFFSETFROM:-0500
TZOFFSETTO:-0400
TZNAME:EDT
DTSTART:20200308T070000
END:DAYLIGHT
BEGIN:STANDARD
TZOFFSETFROM:-0400
TZOFFSETTO:-0500
TZNAME:EST
DTSTART:20201101T060000
END:STANDARD
BEGIN:DAYLIGHT
TZOFFSETFROM:-0500
TZOFFSETTO:-0400
TZNAME:EDT
DTSTART:20210314T070000
END:DAYLIGHT
BEGIN:STANDARD
TZOFFSETFROM:-0400
TZOFFSETTO:-0500
TZNAME:EST
DTSTART:20211107T060000
END:STANDARD
BEGIN:DAYLIGHT
TZOFFSETFROM:-0500
TZOFFSETTO:-0400
TZNAME:EDT
DTSTART:20220313T070000
END:DAYLIGHT
BEGIN:STANDARD
TZOFFSETFROM:-0400
TZOFFSETTO:-0500
TZNAME:EST
DTSTART:20221106T060000
END:STANDARD
END:VTIMEZONE
BEGIN:VEVENT
DTSTART;TZID=America/New_York:20210905T100000
DTEND;TZID=America/New_York:20210905T110000
DTSTAMP:20260423T170221
CREATED:20210823T170145Z
LAST-MODIFIED:20210823T170145Z
UID:10000656-1630836000-1630839600@www.rsdo.org
SUMMARY:Qi Gong en plein air
DESCRIPTION:Pour suivre cet atelier\, il faut être membre du RSDO (un essai gratuit pour les non-membres)\n\nLe Qi Gong (prononcez tchi gong est un ensemble d’exercices énergétiques issus de la médecine traditionnelle chinoise et de la philosophie Taoïste.  Cette pratique rétablit la libre circulation de l’énergie dans les méridiens\, stimulant ainsi le potentiel naturel de guérison et la capacité de faire face au stress.  Les mouvements peuvent se faire debout ou assis ou si vous avez un tapis\, au sol. .  Ils sont doux\, fluides\, souples et faciles d’exécution\, ils améliorent la flexibilité\, la posture\, l’équilibre\, harmonisent les émotions\, apaisent l’esprit\, stimulent et fortifient tout le corps.  Cette pratique s’adresse à tout le monde et s’adapte à toutes les conditions.\nEmmenez votre chaise ou cousin.\nLe rendez-vous sera près d’un très grand saule pleurer à côté du stationnement.\n\nAnimatrice : Luce Desgagné\, enseignante Qi Gong depuis 1998\n 
URL:https://www.rsdo.org/evenements/qi-gong-plein-air-6/2021-09-05/
LOCATION:Parc Edgewater\, Pointe-Claire\, Québec\, H9S 4K6\, Canada
CATEGORIES:Cours
ATTACH;FMTTYPE=image/jpeg:https://www.rsdo.org/wp-content/uploads/2019/09/Luce-Desgagnés.jpg
END:VEVENT
BEGIN:VEVENT
DTSTART;TZID=America/New_York:20210905T170000
DTEND;TZID=America/New_York:20210905T193000
DTSTAMP:20260423T170221
CREATED:20210606T002314Z
LAST-MODIFIED:20210902T174204Z
UID:10001977-1630861200-1630870200@www.rsdo.org
SUMMARY:Pique-niques du dimanche
DESCRIPTION:Activité gratuite ouverte à tous\nTous les dimanches\, à compter de 17 h\, nous invitons les membres et leurs invités.es à se réunir à l’occasion d’un pique-nique amical.\nChacun apporte sa nourriture et ses breuvages\, une chaise ou une couverture pour un repas partagé en toute convivialité\, dans le parc Jacques-Cardinal à côté de l’Église Ste-Geneviève et devant le Château Pierrefonds\, tout en respectant les règles sanitaires. \nPour informations\, veuillez communiquer avec Georgianne Landry au 514-626-6176.
URL:https://www.rsdo.org/evenements/pique-niques-dimanche-3/2021-09-05/
LOCATION:Parc Jacques-Cardinal\, 16037\, boulevard Gouin Ouest\,\, Pierrefonds\, Québec\, H9H 2X3\, Canada
CATEGORIES:Ateliers
ATTACH;FMTTYPE=image/jpeg:https://www.rsdo.org/wp-content/uploads/2018/06/Pique-nique-7-1.jpg
GEO:45.4805517;-73.8725251
X-APPLE-STRUCTURED-LOCATION;VALUE=URI;X-ADDRESS=Parc Jacques-Cardinal 16037 boulevard Gouin Ouest Pierrefonds Québec H9H 2X3 Canada;X-APPLE-RADIUS=500;X-TITLE=16037\, boulevard Gouin Ouest\,:geo:-73.8725251,45.4805517
END:VEVENT
END:VCALENDAR