BEGIN:VCALENDAR
VERSION:2.0
PRODID:-//RSDO - ECPv6.15.20//NONSGML v1.0//EN
CALSCALE:GREGORIAN
METHOD:PUBLISH
X-ORIGINAL-URL:https://www.rsdo.org
X-WR-CALDESC:Évènements pour RSDO
REFRESH-INTERVAL;VALUE=DURATION:PT1H
X-Robots-Tag:noindex
X-PUBLISHED-TTL:PT1H
BEGIN:VTIMEZONE
TZID:America/New_York
BEGIN:DAYLIGHT
TZOFFSETFROM:-0500
TZOFFSETTO:-0400
TZNAME:EDT
DTSTART:20200308T070000
END:DAYLIGHT
BEGIN:STANDARD
TZOFFSETFROM:-0400
TZOFFSETTO:-0500
TZNAME:EST
DTSTART:20201101T060000
END:STANDARD
BEGIN:DAYLIGHT
TZOFFSETFROM:-0500
TZOFFSETTO:-0400
TZNAME:EDT
DTSTART:20210314T070000
END:DAYLIGHT
BEGIN:STANDARD
TZOFFSETFROM:-0400
TZOFFSETTO:-0500
TZNAME:EST
DTSTART:20211107T060000
END:STANDARD
BEGIN:DAYLIGHT
TZOFFSETFROM:-0500
TZOFFSETTO:-0400
TZNAME:EDT
DTSTART:20220313T070000
END:DAYLIGHT
BEGIN:STANDARD
TZOFFSETFROM:-0400
TZOFFSETTO:-0500
TZNAME:EST
DTSTART:20221106T060000
END:STANDARD
END:VTIMEZONE
BEGIN:VEVENT
DTSTART;TZID=America/New_York:20210831T103000
DTEND;TZID=America/New_York:20210831T120000
DTSTAMP:20260423T170106
CREATED:20210606T001631Z
LAST-MODIFIED:20210909T230705Z
UID:10001933-1630405800-1630411200@www.rsdo.org
SUMMARY:Groupes de marche - Vaudreuil-Dorion
DESCRIPTION:Pour la période estivale\, le RSDO a deux points de rencontre pour les marches hebdomadaires gratuites d’une durée de 60 à\n75 minutes qui sont ouvertes à tous\, quel que soit votre niveaud’activité. Nous demandons aux marcheurs de se présenter au\npoint de rencontre au moins 10 minutes avant le départ.\nLes responsables pour chacun des groupes communiquentavec les participants lors de changements du lieu de marche\nou d’annulations de l’activité pour cause de mauvais temps. \nÀ Vaudreuil-Dorion\, les mardis et jeudis à 10 h 30\nPoint de rencontre : Dans le stationnement de la rue Dumont\, derrière la Tour d’eau\nStationnement : Dans les stationnements voisins de la Tour d’eau \nResponsables : Pauline Debonville | Tél. 450 510-1931 et\nClaire Ménard | Tél. 450 218-0967
URL:https://www.rsdo.org/evenements/groupes-de-marche-vaudreuil-dorion-8/2021-08-31/
LOCATION:Tour d’eau Dorion\, Vaudeuil-Dorion\, J7V 1W9
CATEGORIES:Ateliers
ATTACH;FMTTYPE=image/jpeg:https://www.rsdo.org/wp-content/uploads/2018/06/Randonnée-pédestre-2.jpg
ORGANIZER;CN="Pauline Debonville":MAILTO:sociale@rsdo.org
END:VEVENT
END:VCALENDAR