BEGIN:VCALENDAR
VERSION:2.0
PRODID:-//RSDO - ECPv6.15.20//NONSGML v1.0//EN
CALSCALE:GREGORIAN
METHOD:PUBLISH
X-ORIGINAL-URL:https://www.rsdo.org
X-WR-CALDESC:Évènements pour RSDO
REFRESH-INTERVAL;VALUE=DURATION:PT1H
X-Robots-Tag:noindex
X-PUBLISHED-TTL:PT1H
BEGIN:VTIMEZONE
TZID:America/New_York
BEGIN:DAYLIGHT
TZOFFSETFROM:-0500
TZOFFSETTO:-0400
TZNAME:EDT
DTSTART:20200308T070000
END:DAYLIGHT
BEGIN:STANDARD
TZOFFSETFROM:-0400
TZOFFSETTO:-0500
TZNAME:EST
DTSTART:20201101T060000
END:STANDARD
BEGIN:DAYLIGHT
TZOFFSETFROM:-0500
TZOFFSETTO:-0400
TZNAME:EDT
DTSTART:20210314T070000
END:DAYLIGHT
BEGIN:STANDARD
TZOFFSETFROM:-0400
TZOFFSETTO:-0500
TZNAME:EST
DTSTART:20211107T060000
END:STANDARD
BEGIN:DAYLIGHT
TZOFFSETFROM:-0500
TZOFFSETTO:-0400
TZNAME:EDT
DTSTART:20220313T070000
END:DAYLIGHT
BEGIN:STANDARD
TZOFFSETFROM:-0400
TZOFFSETTO:-0500
TZNAME:EST
DTSTART:20221106T060000
END:STANDARD
END:VTIMEZONE
BEGIN:VEVENT
DTSTART;TZID=America/New_York:20210417T101500
DTEND;TZID=America/New_York:20210417T111500
DTSTAMP:20260424T004636
CREATED:20201227T013005Z
LAST-MODIFIED:20210103T201615Z
UID:10000607-1618654500-1618658100@www.rsdo.org
SUMMARY:Cours de yoga virtuel
DESCRIPTION:Cette activité gratuite est réservée aux membres et sera transmise virtuellement. \nEssai gratuit d’un cours pour les non-membres \nJosey Deroy\, instructrice de yoga depuis de nombreuses années\, poursuivra l’animation des cours de yoga pour le RSDO virtuellement. \nVoici le déroulement du cours:\n– Musculation bras et jambes: 10 minutes\n– Abs/core:10 minutes\n– yoga et étirement: 35 minutes\n– détente: 5 minutes\nPour votre confort au yoga\, prévoyez un tapis\, des blocs en mousse\, une serviette et une bouteille d’eau. \nUn lien sera envoyé à tous les membres avant chaque cours. \nPour information\, veuillez communiquer avec Chantal Mark au 514 696-9408.
URL:https://www.rsdo.org/evenements/cours-de-yoga-virtuel/2021-04-17/
LOCATION:ZOOM
CATEGORIES:Cours
ATTACH;FMTTYPE=image/jpeg:https://www.rsdo.org/wp-content/uploads/2018/09/download-1-1.jpg
ORGANIZER;CN="Josey Deroy":MAILTO:josey.yoga.fitness@gmail.com
END:VEVENT
BEGIN:VEVENT
DTSTART;TZID=America/New_York:20210417T130000
DTEND;TZID=America/New_York:20210417T160000
DTSTAMP:20260424T004636
CREATED:20210410T191752Z
LAST-MODIFIED:20210410T192037Z
UID:10001834-1618664400-1618675200@www.rsdo.org
SUMMARY:3e atelier virtuel de peinture
DESCRIPTION:Le RSDO offre à ses membres\, pour la troisième fois cette année\, un atelier de peinture\, gratuit et virtuel\, animé par Jeremy Costa\, le tout sur la plateforme ZOOM.\nMatériel nécessaire : nappe ou plastique pour votre table\, tablier\, guenille\, petit récipient d’eau (pour rincer les pinceaux).\n\nATTENTION : mettre votre portable\, tablette ou cellulaire surélevé  pour protéger votre équipement de l’eau.\n\n* Le matériel de peinture requis\, soit toile\, peinture et pinceaux\, sera fourni au besoin par le RSDO (si vous n’habitez pas trop loin\, par exemple Vaudreuil ou l’Ouest de l’Île).
URL:https://www.rsdo.org/evenements/3e-atelier-virtuel-de-peinture/
LOCATION:ZOOM
CATEGORIES:Cours
ATTACH;FMTTYPE=image/jpeg:https://www.rsdo.org/wp-content/uploads/2019/09/art-1027828_960_720.jpg
END:VEVENT
END:VCALENDAR