BEGIN:VCALENDAR
VERSION:2.0
PRODID:-//RSDO - ECPv6.15.20//NONSGML v1.0//EN
CALSCALE:GREGORIAN
METHOD:PUBLISH
X-ORIGINAL-URL:https://www.rsdo.org
X-WR-CALDESC:Évènements pour RSDO
REFRESH-INTERVAL;VALUE=DURATION:PT1H
X-Robots-Tag:noindex
X-PUBLISHED-TTL:PT1H
BEGIN:VTIMEZONE
TZID:America/New_York
BEGIN:DAYLIGHT
TZOFFSETFROM:-0500
TZOFFSETTO:-0400
TZNAME:EDT
DTSTART:20200308T070000
END:DAYLIGHT
BEGIN:STANDARD
TZOFFSETFROM:-0400
TZOFFSETTO:-0500
TZNAME:EST
DTSTART:20201101T060000
END:STANDARD
BEGIN:DAYLIGHT
TZOFFSETFROM:-0500
TZOFFSETTO:-0400
TZNAME:EDT
DTSTART:20210314T070000
END:DAYLIGHT
BEGIN:STANDARD
TZOFFSETFROM:-0400
TZOFFSETTO:-0500
TZNAME:EST
DTSTART:20211107T060000
END:STANDARD
BEGIN:DAYLIGHT
TZOFFSETFROM:-0500
TZOFFSETTO:-0400
TZNAME:EDT
DTSTART:20220313T070000
END:DAYLIGHT
BEGIN:STANDARD
TZOFFSETFROM:-0400
TZOFFSETTO:-0500
TZNAME:EST
DTSTART:20221106T060000
END:STANDARD
END:VTIMEZONE
BEGIN:VEVENT
DTSTART;TZID=America/New_York:20210408T190000
DTEND;TZID=America/New_York:20210408T210000
DTSTAMP:20260424T004638
CREATED:20201229T001142Z
LAST-MODIFIED:20210107T194328Z
UID:10001830-1617908400-1617915600@www.rsdo.org
SUMMARY:La Tanzanie
DESCRIPTION:Cette conférence sera transmise par ZOOM et le lien sera envoyé par courriel aux membres la veille de l’évènement. \nGratuit pour les membres | 5 $ pour les non-membres – pour informations\, veuillez communiquer avec conference@rsdo.org \nÀ l’âge de 17 ans\, Marie-Chantal Labelle fait son premier voyage solo au Costa Rica et ne s’est jamais arrêté de voyager depuis\, que ce soit en solo\, avec ses deux filles ou en couple. Elle a posé sa valise dans une quarantaine de pays :  Myanmar\, Vietnam\, Cambodge\, Laos\, Thaïlande\, Inde\, Népal\, Bhoutan\, Sri Lanka\, Chine\, Tibet\, Indonésie\, Malaisie\, Tanzanie\, Égypte\, Jordanie\, Turquie\, Chili\, Argentine et plusieurs pays d’Europe. Elle est retournée plusieurs fois dans certains pays qu’elle considère comme un deuxième chez soi comme l’Inde où elle a séjourné 23 fois ! Elle est l’auteure de deux guides de voyages et s’est jointe à l’équipe de Robert Bérubé chez les Routes du Monde où elle occupe le poste de Présidente. \nRobert Bérubé œuvre dans le domaine du voyage depuis plus de 40 ans. Après 14 années passées au Club Aventure Voyages\, il crée Karavaniers du Monde et par la suite\, donne naissance à l’agence de voyages Les Routes du Monde. Depuis plus de 22 ans\, il aide ses clients à structurer de grandes expériences de voyage. \nMarie-Chantal et Robert nous présenteront\, en image et commentaires\, la Tanzanie\, pays où on peut encore voir à quoi ressemblait la terre avant qu’on la recouvre d’asphalte et de béton. Ne ratez pas ce voyage en pleine nature. \n  \n 
URL:https://www.rsdo.org/evenements/la-tanzanie/
LOCATION:ZOOM
CATEGORIES:Conférences
ATTACH;FMTTYPE=image/png:https://www.rsdo.org/wp-content/uploads/2020/12/Marie-Chantal-Labelle-1.png
END:VEVENT
END:VCALENDAR