BEGIN:VCALENDAR
VERSION:2.0
PRODID:-//RSDO - ECPv6.15.20//NONSGML v1.0//EN
CALSCALE:GREGORIAN
METHOD:PUBLISH
X-WR-CALNAME:RSDO
X-ORIGINAL-URL:https://www.rsdo.org
X-WR-CALDESC:Évènements pour RSDO
REFRESH-INTERVAL;VALUE=DURATION:PT1H
X-Robots-Tag:noindex
X-PUBLISHED-TTL:PT1H
BEGIN:VTIMEZONE
TZID:America/New_York
BEGIN:DAYLIGHT
TZOFFSETFROM:-0500
TZOFFSETTO:-0400
TZNAME:EDT
DTSTART:20200308T070000
END:DAYLIGHT
BEGIN:STANDARD
TZOFFSETFROM:-0400
TZOFFSETTO:-0500
TZNAME:EST
DTSTART:20201101T060000
END:STANDARD
BEGIN:DAYLIGHT
TZOFFSETFROM:-0500
TZOFFSETTO:-0400
TZNAME:EDT
DTSTART:20210314T070000
END:DAYLIGHT
BEGIN:STANDARD
TZOFFSETFROM:-0400
TZOFFSETTO:-0500
TZNAME:EST
DTSTART:20211107T060000
END:STANDARD
BEGIN:DAYLIGHT
TZOFFSETFROM:-0500
TZOFFSETTO:-0400
TZNAME:EDT
DTSTART:20220313T070000
END:DAYLIGHT
BEGIN:STANDARD
TZOFFSETFROM:-0400
TZOFFSETTO:-0500
TZNAME:EST
DTSTART:20221106T060000
END:STANDARD
END:VTIMEZONE
BEGIN:VEVENT
DTSTART;TZID=America/New_York:20210318T110000
DTEND;TZID=America/New_York:20210318T120000
DTSTAMP:20260424T050920
CREATED:20201227T014725Z
LAST-MODIFIED:20201227T014725Z
UID:10000631-1616065200-1616068800@www.rsdo.org
SUMMARY:Cours de zumba virtuel
DESCRIPTION:Cette activité gratuite est réservée aux membres et sera transmise virtuellement. \nEssai gratuit d’un cours pour les non-membres \nLa Zumba est un programme d’entraînement physique complet\, alliant tous les éléments de la remise en forme : cardio et préparation musculaire\, équilibre et flexibilité. \nLes chorégraphies s’inspirent principalement des danses latines\, mais aussi de styles variés comme la danse du ventre ou la Quebradita. \nLes sessions virtuelles seront animées par la dynamique Jiana Saad. \nLe lien pour rejoindre le cours virtuellement sera transmis par courriel avant chaque cours aux membres. \nPour information et inscription\, veuillez communiquer avec Sylvie Gagnon à conference@rsdo.org \n  \n 
URL:https://www.rsdo.org/evenements/cours-de-zumba-virtuel/2021-03-18/
LOCATION:ZOOM
CATEGORIES:Cours
ATTACH;FMTTYPE=image/jpeg:https://www.rsdo.org/wp-content/uploads/2020/12/Image-zumba.jpg
END:VEVENT
BEGIN:VEVENT
DTSTART;TZID=America/New_York:20210318T190000
DTEND;TZID=America/New_York:20210318T210000
DTSTAMP:20260424T050920
CREATED:20201228T234155Z
LAST-MODIFIED:20201228T235618Z
UID:10001827-1616094000-1616101200@www.rsdo.org
SUMMARY:Le don de soi
DESCRIPTION:Cette conférence sera transmise par ZOOM et le lien sera envoyé par courriel aux membres la veille de l’évènement. \nGratuit pour les membres | 5 $ pour les non-membres – pour informations\, veuillez communiquer avec conference@rsdo.org \nPeggy Béland est entrepreneure\, auteure\, conférencière\, maman et bénévole. C’est le don de soi qui la fait vibrer. Depuis son premier bénévolat\, beaucoup d’eau a coulé sous les ponts. En fait\, son sentiment de bien-être s’est renforcé au quotidien par ce bénévolat de plus en plus prenant. \nVieux comme le monde\, le principe de donner et de recevoir n’a pourtant jamais été autant d’actualité. Après avoir atteint leurs buts\, un certain confort et une qualité de vie relative\, beaucoup constatent qu’un vide subsiste. Pourquoi ? Parce que ce monde nous pousse à l’individualisme\, que nos obligations professionnelles\, personnelles et financières sont de plus en plus exigeantes\, que notre vie trépidante passe trop vite. \nL’accès au niveau supérieur de l’être passe par le dévouement à son prochain\, à l’inconnu ou à la cause qui a besoin de nos talents ou de nos élans de générosité. Le don sans attente génère toujours un retour au centuple. On peut toujours faire une place dans son agenda occupé pour les gestes de générosité et même intégrer le don de soi à ses valeurs familiales ou à celles de son entreprise. Ces gestes engendrent fierté\, bien-être\, estime de soi\, positivisme\, bonheur et liens relationnels riches et nourrissants sur le plan humain et professionnel. \nPeggy nous livrera un guide détaillé vers la générosité et le don de soi\, doublé du témoignage de personnalités québécoises qui nous racontent ce que leurs actions ou initiatives auprès de leurs prochains ont changé\, autour d’eux et dans leur vie. Peut-être ne changera-t-il pas votre vie\, mais il l’améliorera assurément par les gestes qu’il vous incitera à poser en donnant ce qui n’a pas de prix et en recevant ce qui ne s’achète pas. \n  \n 
URL:https://www.rsdo.org/evenements/don-de-soi/
LOCATION:ZOOM
CATEGORIES:Conférences
ATTACH;FMTTYPE=image/png:https://www.rsdo.org/wp-content/uploads/2020/12/Peggy-Béland.png
END:VEVENT
END:VCALENDAR