BEGIN:VCALENDAR
VERSION:2.0
PRODID:-//RSDO - ECPv6.15.20//NONSGML v1.0//EN
CALSCALE:GREGORIAN
METHOD:PUBLISH
X-ORIGINAL-URL:https://www.rsdo.org
X-WR-CALDESC:Évènements pour RSDO
REFRESH-INTERVAL;VALUE=DURATION:PT1H
X-Robots-Tag:noindex
X-PUBLISHED-TTL:PT1H
BEGIN:VTIMEZONE
TZID:America/New_York
BEGIN:DAYLIGHT
TZOFFSETFROM:-0500
TZOFFSETTO:-0400
TZNAME:EDT
DTSTART:20200308T070000
END:DAYLIGHT
BEGIN:STANDARD
TZOFFSETFROM:-0400
TZOFFSETTO:-0500
TZNAME:EST
DTSTART:20201101T060000
END:STANDARD
BEGIN:DAYLIGHT
TZOFFSETFROM:-0500
TZOFFSETTO:-0400
TZNAME:EDT
DTSTART:20210314T070000
END:DAYLIGHT
BEGIN:STANDARD
TZOFFSETFROM:-0400
TZOFFSETTO:-0500
TZNAME:EST
DTSTART:20211107T060000
END:STANDARD
BEGIN:DAYLIGHT
TZOFFSETFROM:-0500
TZOFFSETTO:-0400
TZNAME:EDT
DTSTART:20220313T070000
END:DAYLIGHT
BEGIN:STANDARD
TZOFFSETFROM:-0400
TZOFFSETTO:-0500
TZNAME:EST
DTSTART:20221106T060000
END:STANDARD
END:VTIMEZONE
BEGIN:VEVENT
DTSTART;TZID=America/New_York:20210128T110000
DTEND;TZID=America/New_York:20210128T120000
DTSTAMP:20260424T201435
CREATED:20201227T014725Z
LAST-MODIFIED:20201227T014725Z
UID:10000617-1611831600-1611835200@www.rsdo.org
SUMMARY:Cours de zumba virtuel
DESCRIPTION:Cette activité gratuite est réservée aux membres et sera transmise virtuellement. \nEssai gratuit d’un cours pour les non-membres \nLa Zumba est un programme d’entraînement physique complet\, alliant tous les éléments de la remise en forme : cardio et préparation musculaire\, équilibre et flexibilité. \nLes chorégraphies s’inspirent principalement des danses latines\, mais aussi de styles variés comme la danse du ventre ou la Quebradita. \nLes sessions virtuelles seront animées par la dynamique Jiana Saad. \nLe lien pour rejoindre le cours virtuellement sera transmis par courriel avant chaque cours aux membres. \nPour information et inscription\, veuillez communiquer avec Sylvie Gagnon à conference@rsdo.org \n  \n 
URL:https://www.rsdo.org/evenements/cours-de-zumba-virtuel/2021-01-28/
LOCATION:ZOOM
CATEGORIES:Cours
ATTACH;FMTTYPE=image/jpeg:https://www.rsdo.org/wp-content/uploads/2020/12/Image-zumba.jpg
END:VEVENT
BEGIN:VEVENT
DTSTART;TZID=America/New_York:20210128T140000
DTEND;TZID=America/New_York:20210128T160000
DTSTAMP:20260424T201435
CREATED:20210107T201038Z
LAST-MODIFIED:20210322T223505Z
UID:10000646-1611842400-1611849600@www.rsdo.org
SUMMARY:Réunion du Conseil d'administration
DESCRIPTION:Depuis le début de la pandémie\, les réunions se tiennent de façon virtuelle. \nSi vous souhaitez y participer\, veuillez en informer Pauline Primeau par courriel à tresorier@rsdo.org. \nUne période de questions permet aux membres du RSDO de présenter des suggestions ou des idées pouvant enrichir la mission de l’organisme. Prendre note cependant que les membres n’ont pas de droit de vote.
URL:https://www.rsdo.org/evenements/reunion-conseil-dadministration-34/
LOCATION:ZOOM
CATEGORIES:Réunions
ATTACH;FMTTYPE=image/jpeg:https://www.rsdo.org/wp-content/uploads/2020/09/Réunion-virtuelle-1.jpg
END:VEVENT
BEGIN:VEVENT
DTSTART;TZID=America/New_York:20210128T190000
DTEND;TZID=America/New_York:20210128T210000
DTSTAMP:20260424T201435
CREATED:20190925T000726Z
LAST-MODIFIED:20190925T000726Z
UID:10001563-1611860400-1611867600@www.rsdo.org
SUMMARY:Réunion du conseil d'administration
DESCRIPTION:Une période de questions permet aux membres du RSDO de présenter des suggestions ou des idées pouvant enrichir ces soirées. Prendre note cependant que vous n’avez pas droit de vote.
URL:https://www.rsdo.org/evenements/reunion-conseil-dadministration-16/2021-01-28/
LOCATION:Centre communautaire Marcel Morin\, 14068\, boulevard Gouin Ouest\, Pierrefonds\, Québec\, H8Z 1Y1\, Canada
CATEGORIES:Réunions
ATTACH;FMTTYPE=image/jpeg:https://www.rsdo.org/wp-content/uploads/2018/01/Réunion-Silhouettes-Bulles-rondes-1.jpg
GEO:45.4956281;-73.8506691
X-APPLE-STRUCTURED-LOCATION;VALUE=URI;X-ADDRESS=Centre communautaire Marcel Morin 14068 boulevard Gouin Ouest Pierrefonds Québec H8Z 1Y1 Canada;X-APPLE-RADIUS=500;X-TITLE=14068\, boulevard Gouin Ouest:geo:-73.8506691,45.4956281
END:VEVENT
BEGIN:VEVENT
DTSTART;TZID=America/New_York:20210128T190000
DTEND;TZID=America/New_York:20210128T210000
DTSTAMP:20260424T201435
CREATED:20201227T213747Z
LAST-MODIFIED:20210126T004727Z
UID:10000637-1611860400-1611867600@www.rsdo.org
SUMMARY:Stress et santé - L'optimisme d'une volonté de mieux vivre
DESCRIPTION:Cette conférence sera transmise par ZOOM et le lien sera envoyé par courriel aux membres la veille de l’évènement. \nGratuit pour les membres | 10 $ pour les non-membres – pour informations\, veuillez communiquer avec conference@rsdo.org \nConférencier et formateur international\, auteur et ex-chargé de cours à l’Université d’Ottawa et à l’Université du Québec en Outaouais\, Carol Allain a donné annuellement\, depuis 1986\, plus de 200 conférences chaque année dans nombre d’entreprises\, institutions\, associations et organisations au Canada\, en France\, en Suisse\, en Belgique et autres pays. \nEn 2012\, il a publié « L’estime de soi\, comment composer avec le regard de l’autre porté sur soi » et le succès de son ouvrage « Le choc des générations :  Une histoire à partager\, un dialogue à construire » ne se dément pas puisqu’il s’est vendu à plus de 60 000 exemplaires et a été réédité 10 fois ! \nLa conférence de Carol Allain porte sur les changements des attentes\, de la vie et de la famille. La conciliation de nos exigences professionnelles et nos engagements personnels demandent des ajustements pour mieux faire face aux incertitudes. Il faut se renouveler\, s’adapter et toujours consentir à avancer.
URL:https://www.rsdo.org/evenements/sress-sante-loptimisme-dune-volonte-de-mieux-vivre/
LOCATION:ZOOM
CATEGORIES:Conférences
ATTACH;FMTTYPE=image/jpeg:https://www.rsdo.org/wp-content/uploads/2020/12/Carol-Alain-1.jpg
END:VEVENT
BEGIN:VEVENT
DTSTART;TZID=America/New_York:20210128T190000
DTEND;TZID=America/New_York:20210128T210000
DTSTAMP:20260424T201435
CREATED:20210107T195836Z
LAST-MODIFIED:20210107T195836Z
UID:10000650-1611860400-1611867600@www.rsdo.org
SUMMARY:Réunion du Conseil d'administration
DESCRIPTION:Depuis le début de la pandémie\, les réunions se tiennent de façon virtuelle. \nSi vous souhaitez y participer\, veuillez en informer Pauline Primeau par courriel à tresorier@rsdo.org. \nUne période de questions permet aux membres du RSDO de présenter des suggestions ou des idées pouvant enrichir la mission de l’organisme. Prendre note cependant que les membres n’ont pas de droit de vote. \n 
URL:https://www.rsdo.org/evenements/reunion-conseil-dadministration-29/
LOCATION:ZOOM
ATTACH;FMTTYPE=image/jpeg:https://www.rsdo.org/wp-content/uploads/2020/09/Réunion-virtuelle-1.jpg
END:VEVENT
END:VCALENDAR