BEGIN:VCALENDAR
VERSION:2.0
PRODID:-//RSDO - ECPv6.15.20//NONSGML v1.0//EN
CALSCALE:GREGORIAN
METHOD:PUBLISH
X-WR-CALNAME:RSDO
X-ORIGINAL-URL:https://www.rsdo.org
X-WR-CALDESC:Évènements pour RSDO
REFRESH-INTERVAL;VALUE=DURATION:PT1H
X-Robots-Tag:noindex
X-PUBLISHED-TTL:PT1H
BEGIN:VTIMEZONE
TZID:America/New_York
BEGIN:DAYLIGHT
TZOFFSETFROM:-0500
TZOFFSETTO:-0400
TZNAME:EDT
DTSTART:20190310T070000
END:DAYLIGHT
BEGIN:STANDARD
TZOFFSETFROM:-0400
TZOFFSETTO:-0500
TZNAME:EST
DTSTART:20191103T060000
END:STANDARD
BEGIN:DAYLIGHT
TZOFFSETFROM:-0500
TZOFFSETTO:-0400
TZNAME:EDT
DTSTART:20200308T070000
END:DAYLIGHT
BEGIN:STANDARD
TZOFFSETFROM:-0400
TZOFFSETTO:-0500
TZNAME:EST
DTSTART:20201101T060000
END:STANDARD
BEGIN:DAYLIGHT
TZOFFSETFROM:-0500
TZOFFSETTO:-0400
TZNAME:EDT
DTSTART:20210314T070000
END:DAYLIGHT
BEGIN:STANDARD
TZOFFSETFROM:-0400
TZOFFSETTO:-0500
TZNAME:EST
DTSTART:20211107T060000
END:STANDARD
END:VTIMEZONE
BEGIN:VEVENT
DTSTART;TZID=America/New_York:20201210T093000
DTEND;TZID=America/New_York:20201210T110000
DTSTAMP:20260424T211456
CREATED:20200928T220948Z
LAST-MODIFIED:20201115T010833Z
UID:10000510-1607592600-1607598000@www.rsdo.org
SUMMARY:Groupes de marche - Île-Bizard - Annulés - COVID 19
DESCRIPTION:En accord avec les directives de Santé Québec stipulant que les rassemblements extérieurs comme intérieurs sont interdits\, les groupes de marches sont annulés. \nLe RSDO a trois points de rencontre pour les marches hebdomadaires gratuites d’une durée de 60 à 75 minutes qui sont ouvertes à tous\, quel que soit votre niveau d’activité.  Nous demandons aux marcheurs de se présenter au point de rencontre au moins 10 minutes avant le départ. \nLes responsables pour chacun des groupes communiquent avec les participants lors de changements du lieu de marche ou d’annulations de l’activité pour cause de mauvais temps. \nÀ la fin de l’activité\, des marcheurs ont l’habitude de se rendre dans un établissement à proximité pour prendre un café ou un repas. \nPour informations générales\, veuillez communiquer avec Gisèle Talbot au 514 620-6652 \nPoint de rencontre :  Complexe sportif Saint-Raphaël; stationnement près de l’entrée du parc nature. \nResponsable :  Carole Larivière | Tél. 514 626-9306
URL:https://www.rsdo.org/evenements/marches-ile-bizard-2020-09-24/2020-12-10/
LOCATION:Complexe sportif Saint-Raphaël\, 750\, boul. Jacques-Bizard\, H9C 2Y2\, Île-Bizard\, Québec\, H9C 2Y2\, Canada
CATEGORIES:Ateliers
ATTACH;FMTTYPE=image/jpeg:https://www.rsdo.org/wp-content/uploads/2018/06/Randonnée-parc-ïle-Bizard.jpg
GEO:45.5027065;-73.8776709
X-APPLE-STRUCTURED-LOCATION;VALUE=URI;X-ADDRESS=Complexe sportif Saint-Raphaël 750 boul. Jacques-Bizard H9C 2Y2 Île-Bizard Québec H9C 2Y2 Canada;X-APPLE-RADIUS=500;X-TITLE=750\, boul. Jacques-Bizard\, H9C 2Y2:geo:-73.8776709,45.5027065
END:VEVENT
BEGIN:VEVENT
DTSTART;TZID=America/New_York:20201210T103000
DTEND;TZID=America/New_York:20201210T120000
DTSTAMP:20260424T211456
CREATED:20200928T222350Z
LAST-MODIFIED:20201115T010241Z
UID:10000557-1607596200-1607601600@www.rsdo.org
SUMMARY:Groupes de marche - Vaudreuil-Dorion - Annulés - COVID 19
DESCRIPTION:En accord avec les directives de Santé Québec stipulant que les rassemblements extérieurs comme intérieurs sont interdits\, les groupes de marches sont annulés. \nLe RSDO a trois points de rencontre pour les marches hebdomadaires gratuites d’une durée de 60 à 75 minutes qui sont ouvertes à tous\, quel que soit votre niveau d’activité.  Nous demandons aux marcheurs de se présenter au point de rencontre au moins 10 minutes avant le départ. \nLes responsables pour chacun des groupes communiquent avec les participants lors de changements du lieu de marche ou d’annulations de l’activité pour cause de mauvais temps. \nÀ la fin de l’activité\, des marcheurs ont l’habitude de se rendre dans un établissement à proximité pour prendre un café ou un repas. \nPour informations générales\, veuillez communiquer avec Gisèle Talbot au 514 620-6652 \nPoint de rencontre :   Dans le stationnement de la rue Dumont\, derrière la Tour d’eau \nStationnement :  Dans les stationnements voisins de la Tour d’eau \nResponsables :   Claire Ménard | Tél. 450 218-0967\, et \nPauline Debonville | Tél.  450 510-1931\, et \nViateur Bradley | Tél. 450 455-1014
URL:https://www.rsdo.org/evenements/groupes-de-marche-vaudreuil-dorion-7-2020-09-24/2020-12-10/
LOCATION:Tour d’eau Dorion\, Vaudeuil-Dorion\, J7V 1W9
CATEGORIES:Ateliers
ATTACH;FMTTYPE=image/jpeg:https://www.rsdo.org/wp-content/uploads/2018/06/Randonnée-pédestre-2.jpg
END:VEVENT
BEGIN:VEVENT
DTSTART;TZID=America/New_York:20201210T190000
DTEND;TZID=America/New_York:20201210T210000
DTSTAMP:20260424T211456
CREATED:20200928T234157Z
LAST-MODIFIED:20201206T164437Z
UID:10001810-1607626800-1607634000@www.rsdo.org
SUMMARY:Les mille merveilles de l'Inde
DESCRIPTION:Cette conférence sera transmise virtuellement.\nVous devez vous inscrire à conference@rsdo.org pour recevoir le lien.\nRobert Bérubé œuvre dans le domaine du voyage depuis plus de 40 ans.  Après 14 années passées au Club Aventure Voyages\, il crée Karavaniers du Monde et par la suite\, donne naissance à l’agence de voyages Les Routes du Monde.  Depuis plus de 22 ans\, il aide ses clients à structurer de grandes expériences de voyage. \nL’Inde\, c’est un milliard 250 millions d’habitants\, 55\,000 naissances par jour\, soit environ 35 à la minute.  C’est aussi 22 langues officielles et environ 1\,220 dialectes.  Pays que tous ont besoin et qui seul\, n’a besoin de personne.  En photos et en vidéos\, cette conférence vous en fera voir de toutes les couleurs\, tant en beautés qu’en émotions.  C’est un rendez-vous au cœur de cet indescriptible pays.
URL:https://www.rsdo.org/evenements/mille-merveilles-de-linde/
LOCATION:Le Grenier\, 571\, rue Cherrier\, Île-Bizard\, Québec\, H9E 1J7\, Canada
CATEGORIES:Conférences
ATTACH;FMTTYPE=image/jpeg:https://www.rsdo.org/wp-content/uploads/2019/12/Robert-Bérubé-4.jpg
GEO:45.4853816;-73.8807703
X-APPLE-STRUCTURED-LOCATION;VALUE=URI;X-ADDRESS=Le Grenier 571 rue Cherrier Île-Bizard Québec H9E 1J7 Canada;X-APPLE-RADIUS=500;X-TITLE=571\, rue Cherrier:geo:-73.8807703,45.4853816
END:VEVENT
END:VCALENDAR