BEGIN:VCALENDAR
VERSION:2.0
PRODID:-//RSDO - ECPv6.15.20//NONSGML v1.0//EN
CALSCALE:GREGORIAN
METHOD:PUBLISH
X-WR-CALNAME:RSDO
X-ORIGINAL-URL:https://www.rsdo.org
X-WR-CALDESC:Évènements pour RSDO
REFRESH-INTERVAL;VALUE=DURATION:PT1H
X-Robots-Tag:noindex
X-PUBLISHED-TTL:PT1H
BEGIN:VTIMEZONE
TZID:America/New_York
BEGIN:DAYLIGHT
TZOFFSETFROM:-0500
TZOFFSETTO:-0400
TZNAME:EDT
DTSTART:20190310T070000
END:DAYLIGHT
BEGIN:STANDARD
TZOFFSETFROM:-0400
TZOFFSETTO:-0500
TZNAME:EST
DTSTART:20191103T060000
END:STANDARD
BEGIN:DAYLIGHT
TZOFFSETFROM:-0500
TZOFFSETTO:-0400
TZNAME:EDT
DTSTART:20200308T070000
END:DAYLIGHT
BEGIN:STANDARD
TZOFFSETFROM:-0400
TZOFFSETTO:-0500
TZNAME:EST
DTSTART:20201101T060000
END:STANDARD
BEGIN:DAYLIGHT
TZOFFSETFROM:-0500
TZOFFSETTO:-0400
TZNAME:EDT
DTSTART:20210314T070000
END:DAYLIGHT
BEGIN:STANDARD
TZOFFSETFROM:-0400
TZOFFSETTO:-0500
TZNAME:EST
DTSTART:20211107T060000
END:STANDARD
END:VTIMEZONE
BEGIN:VEVENT
DTSTART;TZID=America/New_York:20201119T093000
DTEND;TZID=America/New_York:20201119T110000
DTSTAMP:20260424T211414
CREATED:20200928T220948Z
LAST-MODIFIED:20201115T010833Z
UID:10000504-1605778200-1605783600@www.rsdo.org
SUMMARY:Groupes de marche - Île-Bizard - Annulés - COVID 19
DESCRIPTION:En accord avec les directives de Santé Québec stipulant que les rassemblements extérieurs comme intérieurs sont interdits\, les groupes de marches sont annulés. \nLe RSDO a trois points de rencontre pour les marches hebdomadaires gratuites d’une durée de 60 à 75 minutes qui sont ouvertes à tous\, quel que soit votre niveau d’activité.  Nous demandons aux marcheurs de se présenter au point de rencontre au moins 10 minutes avant le départ. \nLes responsables pour chacun des groupes communiquent avec les participants lors de changements du lieu de marche ou d’annulations de l’activité pour cause de mauvais temps. \nÀ la fin de l’activité\, des marcheurs ont l’habitude de se rendre dans un établissement à proximité pour prendre un café ou un repas. \nPour informations générales\, veuillez communiquer avec Gisèle Talbot au 514 620-6652 \nPoint de rencontre :  Complexe sportif Saint-Raphaël; stationnement près de l’entrée du parc nature. \nResponsable :  Carole Larivière | Tél. 514 626-9306
URL:https://www.rsdo.org/evenements/marches-ile-bizard-2020-09-24/2020-11-19/
LOCATION:Complexe sportif Saint-Raphaël\, 750\, boul. Jacques-Bizard\, H9C 2Y2\, Île-Bizard\, Québec\, H9C 2Y2\, Canada
CATEGORIES:Ateliers
ATTACH;FMTTYPE=image/jpeg:https://www.rsdo.org/wp-content/uploads/2018/06/Randonnée-parc-ïle-Bizard.jpg
GEO:45.5027065;-73.8776709
X-APPLE-STRUCTURED-LOCATION;VALUE=URI;X-ADDRESS=Complexe sportif Saint-Raphaël 750 boul. Jacques-Bizard H9C 2Y2 Île-Bizard Québec H9C 2Y2 Canada;X-APPLE-RADIUS=500;X-TITLE=750\, boul. Jacques-Bizard\, H9C 2Y2:geo:-73.8776709,45.5027065
END:VEVENT
BEGIN:VEVENT
DTSTART;TZID=America/New_York:20201119T103000
DTEND;TZID=America/New_York:20201119T120000
DTSTAMP:20260424T211414
CREATED:20200928T222350Z
LAST-MODIFIED:20201115T010241Z
UID:10000551-1605781800-1605787200@www.rsdo.org
SUMMARY:Groupes de marche - Vaudreuil-Dorion - Annulés - COVID 19
DESCRIPTION:En accord avec les directives de Santé Québec stipulant que les rassemblements extérieurs comme intérieurs sont interdits\, les groupes de marches sont annulés. \nLe RSDO a trois points de rencontre pour les marches hebdomadaires gratuites d’une durée de 60 à 75 minutes qui sont ouvertes à tous\, quel que soit votre niveau d’activité.  Nous demandons aux marcheurs de se présenter au point de rencontre au moins 10 minutes avant le départ. \nLes responsables pour chacun des groupes communiquent avec les participants lors de changements du lieu de marche ou d’annulations de l’activité pour cause de mauvais temps. \nÀ la fin de l’activité\, des marcheurs ont l’habitude de se rendre dans un établissement à proximité pour prendre un café ou un repas. \nPour informations générales\, veuillez communiquer avec Gisèle Talbot au 514 620-6652 \nPoint de rencontre :   Dans le stationnement de la rue Dumont\, derrière la Tour d’eau \nStationnement :  Dans les stationnements voisins de la Tour d’eau \nResponsables :   Claire Ménard | Tél. 450 218-0967\, et \nPauline Debonville | Tél.  450 510-1931\, et \nViateur Bradley | Tél. 450 455-1014
URL:https://www.rsdo.org/evenements/groupes-de-marche-vaudreuil-dorion-7-2020-09-24/2020-11-19/
LOCATION:Tour d’eau Dorion\, Vaudeuil-Dorion\, J7V 1W9
CATEGORIES:Ateliers
ATTACH;FMTTYPE=image/jpeg:https://www.rsdo.org/wp-content/uploads/2018/06/Randonnée-pédestre-2.jpg
END:VEVENT
BEGIN:VEVENT
DTSTART;TZID=America/New_York:20201119T190000
DTEND;TZID=America/New_York:20201119T210000
DTSTAMP:20260424T211414
CREATED:20201104T220639Z
LAST-MODIFIED:20201104T220639Z
UID:10001821-1605812400-1605819600@www.rsdo.org
SUMMARY:Se révéler par l'art
DESCRIPTION:Cette conférence sera transmise par ZOOM.\nVous devez vous inscrire à conference@rsdo.org pour recevoir le lien\n\n »Également comédien et metteur en scène\, Simon Boulerice compte parmi les écrivains les plus prolifiques de sa génération. Jeanne Moreau a le sourire à l’envers fait partie de la sélection The White Ravens 2014 de la Bibliothèque internationale pour la jeunesse et lui a valu d’être finaliste du Prix Jeunesse des libraires du Québec. L’auteur a également été finaliste du Prix Espiègle et du Prix Alvine-Bélisle pour L’enfant mascara\, pour lequel il a été le gagnant du Combat aux mots 2017. » La maison Leméac.\nSimon Boulerice est également auteur de nombreux romans et pièces de théâtre et comédiens\, autant pour les adultes\, la jeunesse que pour les enfants.\n\nSimon Boulerice\, en partageant son parcours artistique\, dévoile à quel point l’art peut nous révéler.
URL:https://www.rsdo.org/evenements/se-reveler-lart/
LOCATION:Québec
CATEGORIES:Conférences
ATTACH;FMTTYPE=image/jpeg:https://www.rsdo.org/wp-content/uploads/2020/11/Simon-Boulerice-1.jpg
END:VEVENT
END:VCALENDAR