BEGIN:VCALENDAR
VERSION:2.0
PRODID:-//RSDO - ECPv6.15.20//NONSGML v1.0//EN
CALSCALE:GREGORIAN
METHOD:PUBLISH
X-ORIGINAL-URL:https://www.rsdo.org
X-WR-CALDESC:Évènements pour RSDO
REFRESH-INTERVAL;VALUE=DURATION:PT1H
X-Robots-Tag:noindex
X-PUBLISHED-TTL:PT1H
BEGIN:VTIMEZONE
TZID:America/New_York
BEGIN:DAYLIGHT
TZOFFSETFROM:-0500
TZOFFSETTO:-0400
TZNAME:EDT
DTSTART:20190310T070000
END:DAYLIGHT
BEGIN:STANDARD
TZOFFSETFROM:-0400
TZOFFSETTO:-0500
TZNAME:EST
DTSTART:20191103T060000
END:STANDARD
BEGIN:DAYLIGHT
TZOFFSETFROM:-0500
TZOFFSETTO:-0400
TZNAME:EDT
DTSTART:20200308T070000
END:DAYLIGHT
BEGIN:STANDARD
TZOFFSETFROM:-0400
TZOFFSETTO:-0500
TZNAME:EST
DTSTART:20201101T060000
END:STANDARD
BEGIN:DAYLIGHT
TZOFFSETFROM:-0500
TZOFFSETTO:-0400
TZNAME:EDT
DTSTART:20210314T070000
END:DAYLIGHT
BEGIN:STANDARD
TZOFFSETFROM:-0400
TZOFFSETTO:-0500
TZNAME:EST
DTSTART:20211107T060000
END:STANDARD
END:VTIMEZONE
BEGIN:VEVENT
DTSTART;TZID=America/New_York:20201022T093000
DTEND;TZID=America/New_York:20201022T110000
DTSTAMP:20260424T212935
CREATED:20200928T220948Z
LAST-MODIFIED:20201115T010833Z
UID:10000496-1603359000-1603364400@www.rsdo.org
SUMMARY:Groupes de marche - Île-Bizard - Annulés - COVID 19
DESCRIPTION:En accord avec les directives de Santé Québec stipulant que les rassemblements extérieurs comme intérieurs sont interdits\, les groupes de marches sont annulés. \nLe RSDO a trois points de rencontre pour les marches hebdomadaires gratuites d’une durée de 60 à 75 minutes qui sont ouvertes à tous\, quel que soit votre niveau d’activité.  Nous demandons aux marcheurs de se présenter au point de rencontre au moins 10 minutes avant le départ. \nLes responsables pour chacun des groupes communiquent avec les participants lors de changements du lieu de marche ou d’annulations de l’activité pour cause de mauvais temps. \nÀ la fin de l’activité\, des marcheurs ont l’habitude de se rendre dans un établissement à proximité pour prendre un café ou un repas. \nPour informations générales\, veuillez communiquer avec Gisèle Talbot au 514 620-6652 \nPoint de rencontre :  Complexe sportif Saint-Raphaël; stationnement près de l’entrée du parc nature. \nResponsable :  Carole Larivière | Tél. 514 626-9306
URL:https://www.rsdo.org/evenements/marches-ile-bizard-2020-09-24/2020-10-22/
LOCATION:Complexe sportif Saint-Raphaël\, 750\, boul. Jacques-Bizard\, H9C 2Y2\, Île-Bizard\, Québec\, H9C 2Y2\, Canada
CATEGORIES:Ateliers
ATTACH;FMTTYPE=image/jpeg:https://www.rsdo.org/wp-content/uploads/2018/06/Randonnée-parc-ïle-Bizard.jpg
GEO:45.5027065;-73.8776709
X-APPLE-STRUCTURED-LOCATION;VALUE=URI;X-ADDRESS=Complexe sportif Saint-Raphaël 750 boul. Jacques-Bizard H9C 2Y2 Île-Bizard Québec H9C 2Y2 Canada;X-APPLE-RADIUS=500;X-TITLE=750\, boul. Jacques-Bizard\, H9C 2Y2:geo:-73.8776709,45.5027065
END:VEVENT
BEGIN:VEVENT
DTSTART;TZID=America/New_York:20201022T103000
DTEND;TZID=America/New_York:20201022T120000
DTSTAMP:20260424T212935
CREATED:20200928T222350Z
LAST-MODIFIED:20201115T010241Z
UID:10000543-1603362600-1603368000@www.rsdo.org
SUMMARY:Groupes de marche - Vaudreuil-Dorion - Annulés - COVID 19
DESCRIPTION:En accord avec les directives de Santé Québec stipulant que les rassemblements extérieurs comme intérieurs sont interdits\, les groupes de marches sont annulés. \nLe RSDO a trois points de rencontre pour les marches hebdomadaires gratuites d’une durée de 60 à 75 minutes qui sont ouvertes à tous\, quel que soit votre niveau d’activité.  Nous demandons aux marcheurs de se présenter au point de rencontre au moins 10 minutes avant le départ. \nLes responsables pour chacun des groupes communiquent avec les participants lors de changements du lieu de marche ou d’annulations de l’activité pour cause de mauvais temps. \nÀ la fin de l’activité\, des marcheurs ont l’habitude de se rendre dans un établissement à proximité pour prendre un café ou un repas. \nPour informations générales\, veuillez communiquer avec Gisèle Talbot au 514 620-6652 \nPoint de rencontre :   Dans le stationnement de la rue Dumont\, derrière la Tour d’eau \nStationnement :  Dans les stationnements voisins de la Tour d’eau \nResponsables :   Claire Ménard | Tél. 450 218-0967\, et \nPauline Debonville | Tél.  450 510-1931\, et \nViateur Bradley | Tél. 450 455-1014
URL:https://www.rsdo.org/evenements/groupes-de-marche-vaudreuil-dorion-7-2020-09-24/2020-10-22/
LOCATION:Tour d’eau Dorion\, Vaudeuil-Dorion\, J7V 1W9
CATEGORIES:Ateliers
ATTACH;FMTTYPE=image/jpeg:https://www.rsdo.org/wp-content/uploads/2018/06/Randonnée-pédestre-2.jpg
END:VEVENT
BEGIN:VEVENT
DTSTART;TZID=America/New_York:20201022T190000
DTEND;TZID=America/New_York:20201022T210000
DTSTAMP:20260424T212935
CREATED:20190925T000726Z
LAST-MODIFIED:20190925T000726Z
UID:10001560-1603393200-1603400400@www.rsdo.org
SUMMARY:Réunion du conseil d'administration
DESCRIPTION:Une période de questions permet aux membres du RSDO de présenter des suggestions ou des idées pouvant enrichir ces soirées. Prendre note cependant que vous n’avez pas droit de vote.
URL:https://www.rsdo.org/evenements/reunion-conseil-dadministration-16/2020-10-22/
LOCATION:Centre communautaire Marcel Morin\, 14068\, boulevard Gouin Ouest\, Pierrefonds\, Québec\, H8Z 1Y1\, Canada
CATEGORIES:Réunions
ATTACH;FMTTYPE=image/jpeg:https://www.rsdo.org/wp-content/uploads/2018/01/Réunion-Silhouettes-Bulles-rondes-1.jpg
GEO:45.4956281;-73.8506691
X-APPLE-STRUCTURED-LOCATION;VALUE=URI;X-ADDRESS=Centre communautaire Marcel Morin 14068 boulevard Gouin Ouest Pierrefonds Québec H8Z 1Y1 Canada;X-APPLE-RADIUS=500;X-TITLE=14068\, boulevard Gouin Ouest:geo:-73.8506691,45.4956281
END:VEVENT
BEGIN:VEVENT
DTSTART;TZID=America/New_York:20201022T190000
DTEND;TZID=America/New_York:20201022T210000
DTSTAMP:20260424T212935
CREATED:20200107T170145Z
LAST-MODIFIED:20201019T200009Z
UID:10000409-1603393200-1603400400@www.rsdo.org
SUMMARY:Éloge de la bienveillance - Cultivez les saines habitudes de vie émotionnelles et relationnelles
DESCRIPTION:Suite aux directives de la Santé publique\, cette conférence sera transmise par ZOOM. \nL’inscription est donc nécessaire: conference@rsdo.org \nGratuit pour les membres | 5 $ pour les non-membres \nEn 2010\, c’est comme auteur que Jasmin Roy voit son premier livre\, Osti de fif\, se hisser au sommet des ventes. Cette même année\, il crée la Fondation Jasmin Roy qui a pour mission de lutter contre la discrimination\, l’intimidation et la violence faites aux jeunes en milieu scolaire\, tant au niveau primaire que secondaire. En 2018\, il lance un nouvel ouvrage intitulé  »Éloge de la bienveillance : Cultivez de saines habitudes de vie émotionnelles et relationnelles »\, qui s’adresse aux adultes désireux de mener une vie sereine\, donc heureuse\, en soi. \n Au cours de cette conférence\, Jasmin Roy aborde la question des méthodes pratiques qui vous permettront d’incorporer les saines habitudes de vie émotionnelles et relationnelles dans votre quotidien. Depuis quelques années\, des chercheurs abordent de plus en plus la notion des saines habitudes de vie émotionnelles et relationnelles\, un concept émergent qui doit désormais être intégré au spectre des saines habitudes de vie telles qu’on les connaît (activité physique et saine alimentation). Celles-ci auraient également une incidence positive sur notre santé globale et notre longévité.  La solitude\, quant à elle\, tue. Être seul accélèrerait le vieillissement du cerveau – il dépérirait plus tôt et plus vite. \nSujets abordés : La bienveillance : un mode de vie\, l’alphabétisation des émotions et des besoins\, comment stimuler l’hormone du bonheur\, l’art de la maîtrise de soi\, abécédaire émotionnel (Apprendre à lire les émotions des autres)\, la contagion émotionnelle\, réguler son empreinte émotionnelle\, l’hygiène émotionnelle et relationnelle\, l’empathie\, la mixologie sociale\, l’approche collaborative\, la gratitude relationnelle.
URL:https://www.rsdo.org/evenements/eloge-de-bienveillance-cultivez-saines-habitudes-de-vie-emotionnelles-relationnelles/
LOCATION:ZOOM
CATEGORIES:Conférences
ATTACH;FMTTYPE=image/jpeg:https://www.rsdo.org/wp-content/uploads/2019/12/Jasmin-Roy-3.jpg
END:VEVENT
END:VCALENDAR