BEGIN:VCALENDAR
VERSION:2.0
PRODID:-//RSDO - ECPv6.15.20//NONSGML v1.0//EN
CALSCALE:GREGORIAN
METHOD:PUBLISH
X-ORIGINAL-URL:https://www.rsdo.org
X-WR-CALDESC:Évènements pour RSDO
REFRESH-INTERVAL;VALUE=DURATION:PT1H
X-Robots-Tag:noindex
X-PUBLISHED-TTL:PT1H
BEGIN:VTIMEZONE
TZID:America/New_York
BEGIN:DAYLIGHT
TZOFFSETFROM:-0500
TZOFFSETTO:-0400
TZNAME:EDT
DTSTART:20190310T070000
END:DAYLIGHT
BEGIN:STANDARD
TZOFFSETFROM:-0400
TZOFFSETTO:-0500
TZNAME:EST
DTSTART:20191103T060000
END:STANDARD
BEGIN:DAYLIGHT
TZOFFSETFROM:-0500
TZOFFSETTO:-0400
TZNAME:EDT
DTSTART:20200308T070000
END:DAYLIGHT
BEGIN:STANDARD
TZOFFSETFROM:-0400
TZOFFSETTO:-0500
TZNAME:EST
DTSTART:20201101T060000
END:STANDARD
BEGIN:DAYLIGHT
TZOFFSETFROM:-0500
TZOFFSETTO:-0400
TZNAME:EDT
DTSTART:20210314T070000
END:DAYLIGHT
BEGIN:STANDARD
TZOFFSETFROM:-0400
TZOFFSETTO:-0500
TZNAME:EST
DTSTART:20211107T060000
END:STANDARD
END:VTIMEZONE
BEGIN:VEVENT
DTSTART;TZID=America/New_York:20200917T093000
DTEND;TZID=America/New_York:20200917T110000
DTSTAMP:20260424T231053
CREATED:20200928T220948Z
LAST-MODIFIED:20200928T221322Z
UID:10000485-1600335000-1600340400@www.rsdo.org
SUMMARY:Groupes de marche - Île-Bizard
DESCRIPTION:Le RSDO a trois points de rencontre pour les marches hebdomadaires gratuites d’une durée de 60 à 75 minutes qui sont ouvertes à tous\, quel que soit votre niveau d’activité.  Nous demandons aux marcheurs de se présenter au point de rencontre au moins 10 minutes avant le départ. \nLes responsables pour chacun des groupes communiquent avec les participants lors de changements du lieu de marche ou d’annulations de l’activité pour cause de mauvais temps. \nÀ la fin de l’activité\, des marcheurs ont l’habitude de se rendre dans un établissement à proximité pour prendre un café ou un repas. \nPour informations générales\, veuillez communiquer avec Gisèle Talbot au 514 620-6652 \nPoint de rencontre :  Complexe sportif Saint-Raphaël; stationnement près de l’entrée du parc nature. \nResponsable :  Carole Larivière | Tél. 514 626-9306
URL:https://www.rsdo.org/evenements/marches-ile-bizard/2020-09-17/
LOCATION:Complexe sportif Saint-Raphaël\, 750\, boul. Jacques-Bizard\, H9C 2Y2\, Île-Bizard\, Québec\, H9C 2Y2\, Canada
CATEGORIES:Ateliers
ATTACH;FMTTYPE=image/jpeg:https://www.rsdo.org/wp-content/uploads/2018/06/Randonnée-parc-ïle-Bizard.jpg
GEO:45.5027065;-73.8776709
X-APPLE-STRUCTURED-LOCATION;VALUE=URI;X-ADDRESS=Complexe sportif Saint-Raphaël 750 boul. Jacques-Bizard H9C 2Y2 Île-Bizard Québec H9C 2Y2 Canada;X-APPLE-RADIUS=500;X-TITLE=750\, boul. Jacques-Bizard\, H9C 2Y2:geo:-73.8776709,45.5027065
END:VEVENT
BEGIN:VEVENT
DTSTART;TZID=America/New_York:20200917T103000
DTEND;TZID=America/New_York:20200917T120000
DTSTAMP:20260424T231053
CREATED:20200928T222350Z
LAST-MODIFIED:20200928T222350Z
UID:10000532-1600338600-1600344000@www.rsdo.org
SUMMARY:Groupes de marche - Vaudreuil-Dorion
DESCRIPTION:Le RSDO a trois points de rencontre pour les marches hebdomadaires gratuites d’une durée de 60 à 75 minutes qui sont ouvertes à tous\, quel que soit votre niveau d’activité.  Nous demandons aux marcheurs de se présenter au point de rencontre au moins 10 minutes avant le départ. \nLes responsables pour chacun des groupes communiquent avec les participants lors de changements du lieu de marche ou d’annulations de l’activité pour cause de mauvais temps. \nÀ la fin de l’activité\, des marcheurs ont l’habitude de se rendre dans un établissement à proximité pour prendre un café ou un repas. \nPour informations générales\, veuillez communiquer avec Gisèle Talbot au 514 620-6652 \nPoint de rencontre :   Dans le stationnement de la rue Dumont\, derrière la Tour d’eau \nStationnement :  Dans les stationnements voisins de la Tour d’eau \nResponsables :   Claire Ménard | Tél. 450 218-0967\, et \nPauline Debonville | Tél.  450 510-1931\, et \nViateur Bradley | Tél. 450 455-1014
URL:https://www.rsdo.org/evenements/groupes-de-marche-vaudreuil-dorion-7/2020-09-17/
LOCATION:Tour d’eau Dorion\, Vaudeuil-Dorion\, J7V 1W9
CATEGORIES:Ateliers
ATTACH;FMTTYPE=image/jpeg:https://www.rsdo.org/wp-content/uploads/2018/06/Randonnée-pédestre-2.jpg
END:VEVENT
BEGIN:VEVENT
DTSTART;TZID=America/New_York:20200917T193000
DTEND;TZID=America/New_York:20200917T213000
DTSTAMP:20260424T231053
CREATED:20200908T234704Z
LAST-MODIFIED:20200909T010116Z
UID:10001780-1600371000-1600378200@www.rsdo.org
SUMMARY:L'humour
DESCRIPTION:Le coût de cette conférence est de 5$ pour les non-membres. \nÉric Belley\, éducateur-spécialisé au début des années 1990\, ne pouvait se douter que son parcours professionnel serait si surprenant.  \nUne rencontre déterminante lui fera gravir rapidement tous les échelons du Festival Juste pour rire pour y atteindre en 11 ans les postes de vice-président télévision/programmation et directeur général. De 2011 à 2015\, il a été producteur délégué et au contenu du Gala Artis\, en 2016 producteur au contenu du gala des Oliviers. Gérant de Adib Alkhalidey. Plusieurs mises scène et shows télé à son actif. Bref\, il oeuvre dans le milieu culturel depuis plus de 25 ans. Aujourd’hui il est VP au contenu du groupe Comédiha. \nL’humour est un remède pour passer à travers bien des maux. Très utile quand vient le temps de désamorcer des situations malaisantes mais oh! combien réconfortant pour faire face aux épreuves de la vie. L’humour est rassembleur\, l’humour fait du bien et ses effets vont bien au-delà des rires. L’humour est un vecteur d’émotions.  Si on s’en servait pour rendre nos vies meilleures?  \nMais avons-nous un bon sens de l’humour? Avons-nous un sens de l’humour réconfortant ou dérangeant? Cette conférence peut vous aider à identifier les bons et les mauvais comportements humoristiques mais surtout apporter des solutions. \nFaire rire au quotidien est un art qu’il faut comprendre et apprendre. \nVeuillez prendre note que les mesures sanitaires et de distanciation doivent être respectées et que le port du masque sera obligatoire pendant chaque déplacement dans la salle. \n 
URL:https://www.rsdo.org/evenements/lhumour/
LOCATION:Le Grenier\, 571\, rue Cherrier\, Île-Bizard\, Québec\, H9E 1J7\, Canada
CATEGORIES:Conférences
ATTACH;FMTTYPE=image/png:https://www.rsdo.org/wp-content/uploads/2020/09/Conférencier-Éric-Belley-.png
GEO:45.4853816;-73.8807703
X-APPLE-STRUCTURED-LOCATION;VALUE=URI;X-ADDRESS=Le Grenier 571 rue Cherrier Île-Bizard Québec H9E 1J7 Canada;X-APPLE-RADIUS=500;X-TITLE=571\, rue Cherrier:geo:-73.8807703,45.4853816
END:VEVENT
END:VCALENDAR