BEGIN:VCALENDAR
VERSION:2.0
PRODID:-//RSDO - ECPv6.15.20//NONSGML v1.0//EN
CALSCALE:GREGORIAN
METHOD:PUBLISH
X-ORIGINAL-URL:https://www.rsdo.org
X-WR-CALDESC:Évènements pour RSDO
REFRESH-INTERVAL;VALUE=DURATION:PT1H
X-Robots-Tag:noindex
X-PUBLISHED-TTL:PT1H
BEGIN:VTIMEZONE
TZID:America/New_York
BEGIN:DAYLIGHT
TZOFFSETFROM:-0500
TZOFFSETTO:-0400
TZNAME:EDT
DTSTART:20190310T070000
END:DAYLIGHT
BEGIN:STANDARD
TZOFFSETFROM:-0400
TZOFFSETTO:-0500
TZNAME:EST
DTSTART:20191103T060000
END:STANDARD
BEGIN:DAYLIGHT
TZOFFSETFROM:-0500
TZOFFSETTO:-0400
TZNAME:EDT
DTSTART:20200308T070000
END:DAYLIGHT
BEGIN:STANDARD
TZOFFSETFROM:-0400
TZOFFSETTO:-0500
TZNAME:EST
DTSTART:20201101T060000
END:STANDARD
BEGIN:DAYLIGHT
TZOFFSETFROM:-0500
TZOFFSETTO:-0400
TZNAME:EDT
DTSTART:20210314T070000
END:DAYLIGHT
BEGIN:STANDARD
TZOFFSETFROM:-0400
TZOFFSETTO:-0500
TZNAME:EST
DTSTART:20211107T060000
END:STANDARD
END:VTIMEZONE
BEGIN:VEVENT
DTSTART;TZID=America/New_York:20200915T103000
DTEND;TZID=America/New_York:20200915T120000
DTSTAMP:20260424T231050
CREATED:20200928T222350Z
LAST-MODIFIED:20200928T222350Z
UID:10000531-1600165800-1600171200@www.rsdo.org
SUMMARY:Groupes de marche - Vaudreuil-Dorion
DESCRIPTION:Le RSDO a trois points de rencontre pour les marches hebdomadaires gratuites d’une durée de 60 à 75 minutes qui sont ouvertes à tous\, quel que soit votre niveau d’activité.  Nous demandons aux marcheurs de se présenter au point de rencontre au moins 10 minutes avant le départ. \nLes responsables pour chacun des groupes communiquent avec les participants lors de changements du lieu de marche ou d’annulations de l’activité pour cause de mauvais temps. \nÀ la fin de l’activité\, des marcheurs ont l’habitude de se rendre dans un établissement à proximité pour prendre un café ou un repas. \nPour informations générales\, veuillez communiquer avec Gisèle Talbot au 514 620-6652 \nPoint de rencontre :   Dans le stationnement de la rue Dumont\, derrière la Tour d’eau \nStationnement :  Dans les stationnements voisins de la Tour d’eau \nResponsables :   Claire Ménard | Tél. 450 218-0967\, et \nPauline Debonville | Tél.  450 510-1931\, et \nViateur Bradley | Tél. 450 455-1014
URL:https://www.rsdo.org/evenements/groupes-de-marche-vaudreuil-dorion-7/2020-09-15/
LOCATION:Tour d’eau Dorion\, Vaudeuil-Dorion\, J7V 1W9
CATEGORIES:Ateliers
ATTACH;FMTTYPE=image/jpeg:https://www.rsdo.org/wp-content/uploads/2018/06/Randonnée-pédestre-2.jpg
END:VEVENT
BEGIN:VEVENT
DTSTART;TZID=America/New_York:20200915T190000
DTEND;TZID=America/New_York:20200915T210000
DTSTAMP:20260424T231050
CREATED:20200928T235049Z
LAST-MODIFIED:20200928T235741Z
UID:10001811-1600196400-1600203600@www.rsdo.org
SUMMARY:Réunion du conseil d'administration
DESCRIPTION:Depuis le début de la pandémie\, les réunions se tiennent de façon virtuelle.  Nous avons toutefois espoir de trouver une salle qui nous permettra de tenir les réunions dans un endroit où nous pourrons respecter les mesures de distanciation reliées à la COVID-19.  Cet endroit vous sera confirmé au moment opportun. \nNormalement\, une période de questions permet aux membres du RSDO de présenter des suggestions ou des idées pouvant enrichir la mission de l’organisme. Prendre note cependant que les membres n’ont pas de droit de vote. \n  \n 
URL:https://www.rsdo.org/evenements/reunion-conseil-dadministration-25/
LOCATION:Québec
CATEGORIES:Réunions
ATTACH;FMTTYPE=image/jpeg:https://www.rsdo.org/wp-content/uploads/2020/09/Réunion-virtuelle-1.jpg
END:VEVENT
END:VCALENDAR