BEGIN:VCALENDAR
VERSION:2.0
PRODID:-//RSDO - ECPv6.15.20//NONSGML v1.0//EN
CALSCALE:GREGORIAN
METHOD:PUBLISH
X-ORIGINAL-URL:https://www.rsdo.org
X-WR-CALDESC:Évènements pour RSDO
REFRESH-INTERVAL;VALUE=DURATION:PT1H
X-Robots-Tag:noindex
X-PUBLISHED-TTL:PT1H
BEGIN:VTIMEZONE
TZID:America/New_York
BEGIN:DAYLIGHT
TZOFFSETFROM:-0500
TZOFFSETTO:-0400
TZNAME:EDT
DTSTART:20190310T070000
END:DAYLIGHT
BEGIN:STANDARD
TZOFFSETFROM:-0400
TZOFFSETTO:-0500
TZNAME:EST
DTSTART:20191103T060000
END:STANDARD
BEGIN:DAYLIGHT
TZOFFSETFROM:-0500
TZOFFSETTO:-0400
TZNAME:EDT
DTSTART:20200308T070000
END:DAYLIGHT
BEGIN:STANDARD
TZOFFSETFROM:-0400
TZOFFSETTO:-0500
TZNAME:EST
DTSTART:20201101T060000
END:STANDARD
BEGIN:DAYLIGHT
TZOFFSETFROM:-0500
TZOFFSETTO:-0400
TZNAME:EDT
DTSTART:20210314T070000
END:DAYLIGHT
BEGIN:STANDARD
TZOFFSETFROM:-0400
TZOFFSETTO:-0500
TZNAME:EST
DTSTART:20211107T060000
END:STANDARD
END:VTIMEZONE
BEGIN:VEVENT
DTSTART;TZID=America/New_York:20200826T190000
DTEND;TZID=America/New_York:20200826T203000
DTSTAMP:20260424T213027
CREATED:20200703T205810Z
LAST-MODIFIED:20200716T174911Z
UID:10000441-1598468400-1598473800@www.rsdo.org
SUMMARY:Chorale virtuelle estivale
DESCRIPTION:Pour les membres seulement.\nLe RSDO offre des ateliers de chorale virtuels tous les mercredi soirs avec l’application gratuite ZOOM pour les mois de juillet et août 2020 avec le directeur/accompagnateur Jocelyn Bigras.\nÀ noter qu’il n’y aura pas de chorale les 5 et 12 août.\nRenseignements: Pauline Primeau au 514-465-3428 
URL:https://www.rsdo.org/evenements/chorale-virtuelle-estivale/2020-08-26/
LOCATION:Québec
CATEGORIES:Cours
END:VEVENT
END:VCALENDAR