BEGIN:VCALENDAR
VERSION:2.0
PRODID:-//RSDO - ECPv6.15.20//NONSGML v1.0//EN
CALSCALE:GREGORIAN
METHOD:PUBLISH
X-WR-CALNAME:RSDO
X-ORIGINAL-URL:https://www.rsdo.org
X-WR-CALDESC:Évènements pour RSDO
REFRESH-INTERVAL;VALUE=DURATION:PT1H
X-Robots-Tag:noindex
X-PUBLISHED-TTL:PT1H
BEGIN:VTIMEZONE
TZID:America/New_York
BEGIN:DAYLIGHT
TZOFFSETFROM:-0500
TZOFFSETTO:-0400
TZNAME:EDT
DTSTART:20190310T070000
END:DAYLIGHT
BEGIN:STANDARD
TZOFFSETFROM:-0400
TZOFFSETTO:-0500
TZNAME:EST
DTSTART:20191103T060000
END:STANDARD
BEGIN:DAYLIGHT
TZOFFSETFROM:-0500
TZOFFSETTO:-0400
TZNAME:EDT
DTSTART:20200308T070000
END:DAYLIGHT
BEGIN:STANDARD
TZOFFSETFROM:-0400
TZOFFSETTO:-0500
TZNAME:EST
DTSTART:20201101T060000
END:STANDARD
BEGIN:DAYLIGHT
TZOFFSETFROM:-0500
TZOFFSETTO:-0400
TZNAME:EDT
DTSTART:20210314T070000
END:DAYLIGHT
BEGIN:STANDARD
TZOFFSETFROM:-0400
TZOFFSETTO:-0500
TZNAME:EST
DTSTART:20211107T060000
END:STANDARD
END:VTIMEZONE
BEGIN:VEVENT
DTSTART;TZID=America/New_York:20200507T193000
DTEND;TZID=America/New_York:20200507T213000
DTSTAMP:20260424T181623
CREATED:20200107T231910Z
LAST-MODIFIED:20200921T234115Z
UID:10001762-1588879800-1588887000@www.rsdo.org
SUMMARY:Les plantes\, amies de nos nerfs
DESCRIPTION:Dû à la pandémie\, cette conférence a été annulée. \nLe coût de cette conférence est de 10 $ pour les non-membres. \nAnny Schneider est une herboriste – thérapeute senior réputée et auteure de cinq livres. Elle compte parmi les herboristes les plus réputés du Québec.  C’est une communicatrice passionnée des plantes qui soignent des êtres humains au cœur et à l’esprit ouverts. \n Les plantes nous ont nourris et soignés durant des millénaires. Aujourd’hui encore\, ici comme partout sur la planète\, elles sont toujours là pour prendre soin de notre santé physique et mentale. Lesquelles sont les plus utiles et comment les consommer adéquatement pour prendre soin de nos nerfs. \n 
URL:https://www.rsdo.org/evenements/plantes-amies-de-nos-nerfs/
LOCATION:Centre communautaire Marcel Morin\, 14068\, boulevard Gouin Ouest\, Pierrefonds\, Québec\, H8Z 1Y1\, Canada
CATEGORIES:Conférences
ATTACH;FMTTYPE=image/jpeg:https://www.rsdo.org/wp-content/uploads/2020/01/Anny-Schneider-2.jpg
GEO:45.4956281;-73.8506691
X-APPLE-STRUCTURED-LOCATION;VALUE=URI;X-ADDRESS=Centre communautaire Marcel Morin 14068 boulevard Gouin Ouest Pierrefonds Québec H8Z 1Y1 Canada;X-APPLE-RADIUS=500;X-TITLE=14068\, boulevard Gouin Ouest:geo:-73.8506691,45.4956281
END:VEVENT
END:VCALENDAR