BEGIN:VCALENDAR
VERSION:2.0
PRODID:-//RSDO - ECPv6.15.20//NONSGML v1.0//EN
CALSCALE:GREGORIAN
METHOD:PUBLISH
X-ORIGINAL-URL:https://www.rsdo.org
X-WR-CALDESC:Évènements pour RSDO
REFRESH-INTERVAL;VALUE=DURATION:PT1H
X-Robots-Tag:noindex
X-PUBLISHED-TTL:PT1H
BEGIN:VTIMEZONE
TZID:America/New_York
BEGIN:DAYLIGHT
TZOFFSETFROM:-0500
TZOFFSETTO:-0400
TZNAME:EDT
DTSTART:20190310T070000
END:DAYLIGHT
BEGIN:STANDARD
TZOFFSETFROM:-0400
TZOFFSETTO:-0500
TZNAME:EST
DTSTART:20191103T060000
END:STANDARD
BEGIN:DAYLIGHT
TZOFFSETFROM:-0500
TZOFFSETTO:-0400
TZNAME:EDT
DTSTART:20200308T070000
END:DAYLIGHT
BEGIN:STANDARD
TZOFFSETFROM:-0400
TZOFFSETTO:-0500
TZNAME:EST
DTSTART:20201101T060000
END:STANDARD
BEGIN:DAYLIGHT
TZOFFSETFROM:-0500
TZOFFSETTO:-0400
TZNAME:EDT
DTSTART:20210314T070000
END:DAYLIGHT
BEGIN:STANDARD
TZOFFSETFROM:-0400
TZOFFSETTO:-0500
TZNAME:EST
DTSTART:20211107T060000
END:STANDARD
END:VTIMEZONE
BEGIN:VEVENT
DTSTART;TZID=America/New_York:20200312T093000
DTEND;TZID=America/New_York:20200312T103000
DTSTAMP:20260424T182101
CREATED:20200103T175623Z
LAST-MODIFIED:20200103T175757Z
UID:10001712-1584005400-1584009000@www.rsdo.org
SUMMARY:Groupes de marche - Dollard-des-Ormeaux
DESCRIPTION:Nous avons 3 points de rencontre pour les marches régulières d’une durée d’une heure pour tous les niveaux. Rendez-vous dix minutes à l’avance. S’il y a des changements de lieu de marche\, des annulations ou des informations de resto\, les personnes chargées des renseignements pour chaque groupe communiqueront avec vous par courriel; les intéressé(e)s\, laissez-leur vos coordonnées. Les personnes ressources pour chaque lieu de départ ne garantissent pas leur présence à chaque jour indiqué.  Amenez un(e) ami(e). Veuillez noter que pour la période de l’hiver\, il y a des changements. Un avis vous sera communiqué pour les autres changements applicables au 1er mai. \nDollard-des-Ormeaux : \nDates :   Les lundis et jeudis jusqu’au 1er mai. \nRenseignements :      Carole L. – tél. 514 626-9306. \nInformations générales : Gisèle T. – tél. 514-620-6652
URL:https://www.rsdo.org/evenements/groupes-de-marche-dollard-ormeaux/2020-03-12/
LOCATION:Parc du Centenaire William Groove\, 3000rue Lake\, Dollard-des-Ormeaux\, H9B 2M1\, Canada
CATEGORIES:Ateliers
ATTACH;FMTTYPE=image/jpeg:https://www.rsdo.org/wp-content/uploads/2019/01/Parc-Centenaire-Hiver.jpg
GEO:45.4889505;-73.8189336
X-APPLE-STRUCTURED-LOCATION;VALUE=URI;X-ADDRESS=Parc du Centenaire William Groove 3000rue Lake Dollard-des-Ormeaux H9B 2M1 Canada;X-APPLE-RADIUS=500;X-TITLE=3000rue Lake:geo:-73.8189336,45.4889505
END:VEVENT
BEGIN:VEVENT
DTSTART;TZID=America/New_York:20200312T133000
DTEND;TZID=America/New_York:20200312T143000
DTSTAMP:20260424T182101
CREATED:20200103T174903Z
LAST-MODIFIED:20200103T182947Z
UID:10001678-1584019800-1584023400@www.rsdo.org
SUMMARY:Groupes de marche - Vaudreuil-Dorion
DESCRIPTION:Nous avons 3 points de rencontre pour les marches régulières d’une durée d’une heure pour tous les niveaux. Rendez-vous dix minutes à l’avance. S’il y a des changements de lieu de marche\, des annulations ou des informations de resto\, les personnes chargées des renseignements pour chaque groupe communiqueront avec vous par courriel; les intéressé(e)s\, laissez-leur vos coordonnées. Les personnes ressources pour chaque lieu de départ ne garantissent pas leur présence à chaque jour indiqué.  Amenez un(e) ami(e). Veuillez noter que pour la période de l’hiver\, il y a des changements. Un avis vous sera communiqué pour les autres changements applicables au 1er mai. \nVaudreuil-Dorion : \nDates : Les mardis et jeudis  jusqu’au 1er mai \nSi la température ne permet pas une marche extérieure sécuritaire\, nous irons marcher au Centre d’achat de Pincourt. Même lieu de rencontre en face de l’Opti-Centre. \nPossibilité d’aller au resto après les marches; lieu décidé sur place. \nStationnement :  Stationnement du fond\, en face de l’Opti-Centre. \nRenseignements :   Claire M. – tél. 450 218-0967 \nPauline D. – tél. 450 510-1931 \nViateur B. – tél. 450 455-1014 \nInformations générales : Gisèle T. – tél. 514-620-6652
URL:https://www.rsdo.org/evenements/groupes-de-marche-vaudreuil-dorion-5/2020-03-12/
LOCATION:Opti-Centre St-Jean-Baptiste\, 145\, Harwood\, Vaudreuil-Dorion\, Québec\, J7V 1Y3\, Canada
CATEGORIES:Ateliers
ATTACH;FMTTYPE=image/jpeg:https://www.rsdo.org/wp-content/uploads/2020/01/Dorion-neige.jpg
GEO:45.3836495;-74.0116336
X-APPLE-STRUCTURED-LOCATION;VALUE=URI;X-ADDRESS=Opti-Centre St-Jean-Baptiste 145 Harwood Vaudreuil-Dorion Québec J7V 1Y3 Canada;X-APPLE-RADIUS=500;X-TITLE=145\, Harwood:geo:-74.0116336,45.3836495
END:VEVENT
BEGIN:VEVENT
DTSTART;TZID=America/New_York:20200312T193000
DTEND;TZID=America/New_York:20200312T213000
DTSTAMP:20260424T182102
CREATED:20200107T214727Z
LAST-MODIFIED:20200107T214813Z
UID:10000416-1584041400-1584048600@www.rsdo.org
SUMMARY:La cyber-hygiène au quotidien
DESCRIPTION:Le coût de cette conférence est de 20 $ pour les non-membres. \nC’est au cours de sa carrière militaire avec le Royal 22e Régiment que Capitaine(ret) Waterhouse a troqué le fusil pour le clavier afin de devenir un des premiers cyber-soldat au pays. Il est nommé le premier Officier de Sécurité des Systèmes d’Information de la base de Montréal puis du Collège Militaire Royal de Saint-Jean. Monsieur Waterhouse a poursuivi sa quête du savoir au sein de l’entreprise privée\, a partagé son expérience militaire et d’art oratoire avec le mouvement jeunesse des cadets du Canada et démarre son entreprise de service conseil: INFOSECSW. Il continue à partager sa passion et son expérience à titre de chargé de cours à l’Université de Sherbrooke au microprogramme de 2e cycle en sécurité informatique – volet prévention et il est invité à partager son expérience avec les comités de la Chambre des Communes du Canada et du Gouvernement du Québec ainsi que dans les médias d’information. \nDe par son expérience sur le terrain et comme consultant\, il est en mesure de nous transmettre sa passion en sécurité informatique.  Monsieur Waterhouse est d’ailleurs fréquemment sollicité par les différents médias d’information canadiens afin d’apporter une analyse critique des nouvelles en technologie et d’apporter «du gros bon sens à la sécurité de l’information».  Il saura nous outiller pour savoir comment développer de saines habitudes de cyber-sécurité au quotidien. \n  \n 
URL:https://www.rsdo.org/evenements/cyber-hygiene-quotidien/
LOCATION:Centre communautaire Marcel Morin\, 14068\, boulevard Gouin Ouest\, Pierrefonds\, Québec\, H8Z 1Y1\, Canada
CATEGORIES:Conférences
ATTACH;FMTTYPE=image/jpeg:https://www.rsdo.org/wp-content/uploads/2020/01/Steve-Waterhouse-2.jpg
GEO:45.4956281;-73.8506691
X-APPLE-STRUCTURED-LOCATION;VALUE=URI;X-ADDRESS=Centre communautaire Marcel Morin 14068 boulevard Gouin Ouest Pierrefonds Québec H8Z 1Y1 Canada;X-APPLE-RADIUS=500;X-TITLE=14068\, boulevard Gouin Ouest:geo:-73.8506691,45.4956281
END:VEVENT
END:VCALENDAR