BEGIN:VCALENDAR
VERSION:2.0
PRODID:-//RSDO - ECPv6.15.20//NONSGML v1.0//EN
CALSCALE:GREGORIAN
METHOD:PUBLISH
X-ORIGINAL-URL:https://www.rsdo.org
X-WR-CALDESC:Évènements pour RSDO
REFRESH-INTERVAL;VALUE=DURATION:PT1H
X-Robots-Tag:noindex
X-PUBLISHED-TTL:PT1H
BEGIN:VTIMEZONE
TZID:America/New_York
BEGIN:DAYLIGHT
TZOFFSETFROM:-0500
TZOFFSETTO:-0400
TZNAME:EDT
DTSTART:20190310T070000
END:DAYLIGHT
BEGIN:STANDARD
TZOFFSETFROM:-0400
TZOFFSETTO:-0500
TZNAME:EST
DTSTART:20191103T060000
END:STANDARD
BEGIN:DAYLIGHT
TZOFFSETFROM:-0500
TZOFFSETTO:-0400
TZNAME:EDT
DTSTART:20200308T070000
END:DAYLIGHT
BEGIN:STANDARD
TZOFFSETFROM:-0400
TZOFFSETTO:-0500
TZNAME:EST
DTSTART:20201101T060000
END:STANDARD
BEGIN:DAYLIGHT
TZOFFSETFROM:-0500
TZOFFSETTO:-0400
TZNAME:EDT
DTSTART:20210314T070000
END:DAYLIGHT
BEGIN:STANDARD
TZOFFSETFROM:-0400
TZOFFSETTO:-0500
TZNAME:EST
DTSTART:20211107T060000
END:STANDARD
END:VTIMEZONE
BEGIN:VEVENT
DTSTART;TZID=America/New_York:20200113T093000
DTEND;TZID=America/New_York:20200113T103000
DTSTAMP:20260425T085244
CREATED:20200103T175623Z
LAST-MODIFIED:20200103T175757Z
UID:10001695-1578907800-1578911400@www.rsdo.org
SUMMARY:Groupes de marche - Dollard-des-Ormeaux
DESCRIPTION:Nous avons 3 points de rencontre pour les marches régulières d’une durée d’une heure pour tous les niveaux. Rendez-vous dix minutes à l’avance. S’il y a des changements de lieu de marche\, des annulations ou des informations de resto\, les personnes chargées des renseignements pour chaque groupe communiqueront avec vous par courriel; les intéressé(e)s\, laissez-leur vos coordonnées. Les personnes ressources pour chaque lieu de départ ne garantissent pas leur présence à chaque jour indiqué.  Amenez un(e) ami(e). Veuillez noter que pour la période de l’hiver\, il y a des changements. Un avis vous sera communiqué pour les autres changements applicables au 1er mai. \nDollard-des-Ormeaux : \nDates :   Les lundis et jeudis jusqu’au 1er mai. \nRenseignements :      Carole L. – tél. 514 626-9306. \nInformations générales : Gisèle T. – tél. 514-620-6652
URL:https://www.rsdo.org/evenements/groupes-de-marche-dollard-ormeaux/2020-01-13/
LOCATION:Parc du Centenaire William Groove\, 3000rue Lake\, Dollard-des-Ormeaux\, H9B 2M1\, Canada
CATEGORIES:Ateliers
ATTACH;FMTTYPE=image/jpeg:https://www.rsdo.org/wp-content/uploads/2019/01/Parc-Centenaire-Hiver.jpg
GEO:45.4889505;-73.8189336
X-APPLE-STRUCTURED-LOCATION;VALUE=URI;X-ADDRESS=Parc du Centenaire William Groove 3000rue Lake Dollard-des-Ormeaux H9B 2M1 Canada;X-APPLE-RADIUS=500;X-TITLE=3000rue Lake:geo:-73.8189336,45.4889505
END:VEVENT
END:VCALENDAR