BEGIN:VCALENDAR
VERSION:2.0
PRODID:-//RSDO - ECPv6.15.20//NONSGML v1.0//EN
CALSCALE:GREGORIAN
METHOD:PUBLISH
X-WR-CALNAME:RSDO
X-ORIGINAL-URL:https://www.rsdo.org
X-WR-CALDESC:Évènements pour RSDO
REFRESH-INTERVAL;VALUE=DURATION:PT1H
X-Robots-Tag:noindex
X-PUBLISHED-TTL:PT1H
BEGIN:VTIMEZONE
TZID:America/New_York
BEGIN:DAYLIGHT
TZOFFSETFROM:-0500
TZOFFSETTO:-0400
TZNAME:EDT
DTSTART:20180311T070000
END:DAYLIGHT
BEGIN:STANDARD
TZOFFSETFROM:-0400
TZOFFSETTO:-0500
TZNAME:EST
DTSTART:20181104T060000
END:STANDARD
BEGIN:DAYLIGHT
TZOFFSETFROM:-0500
TZOFFSETTO:-0400
TZNAME:EDT
DTSTART:20190310T070000
END:DAYLIGHT
BEGIN:STANDARD
TZOFFSETFROM:-0400
TZOFFSETTO:-0500
TZNAME:EST
DTSTART:20191103T060000
END:STANDARD
BEGIN:DAYLIGHT
TZOFFSETFROM:-0500
TZOFFSETTO:-0400
TZNAME:EDT
DTSTART:20200308T070000
END:DAYLIGHT
BEGIN:STANDARD
TZOFFSETFROM:-0400
TZOFFSETTO:-0500
TZNAME:EST
DTSTART:20201101T060000
END:STANDARD
END:VTIMEZONE
BEGIN:VEVENT
DTSTART;TZID=America/New_York:20191107T093000
DTEND;TZID=America/New_York:20191107T103000
DTSTAMP:20260425T181226
CREATED:20190929T232425Z
LAST-MODIFIED:20190929T234348Z
UID:10000331-1573119000-1573122600@www.rsdo.org
SUMMARY:Groupes de marche - Parc nature de l’Île-Bizard
DESCRIPTION:Nous avons 3 points de rencontre pour les marches régulières gratuites d’une durée de une heure pour tous les niveaux. Rendez-vous 10 minutes avant le départ. S’il y a changements de lieu de marche\, des annulations ou des informations de resto\, les personnes chargées des renseignements pour chaque groupe communiqueront avec vous ; les intéressé(e)s\, laissez-leur vos coordonnées. Les personnes ressources pour chaque lieu de départ ne garantissent pas leur présence à chaque jour indiqué ; amenez un(e) ami(e). \nRencontre : dans le stationnement du Complexe sportif Saint-Raphaël\,  près de l’entrée du parc. \nStationnement : Au Complexe sportif\, places près du boulevard Jacques-Bizard. \nRenseignements : Carole L. – tél. 514 626-9306. \nInformations générales : Gisèle T. 514-620-6652
URL:https://www.rsdo.org/evenements/groupes-de-marche-parc-nature-de-lile-bizard-4/2019-11-07/
LOCATION:Complexe sportif Saint-Raphaël\, 750\, boul. Jacques-Bizard\, H9C 2Y2\, Île-Bizard\, Québec\, H9C 2Y2\, Canada
CATEGORIES:Ateliers
ATTACH;FMTTYPE=image/jpeg:https://www.rsdo.org/wp-content/uploads/2018/06/Randonnée-parc-ïle-Bizard.jpg
GEO:45.5027065;-73.8776709
X-APPLE-STRUCTURED-LOCATION;VALUE=URI;X-ADDRESS=Complexe sportif Saint-Raphaël 750 boul. Jacques-Bizard H9C 2Y2 Île-Bizard Québec H9C 2Y2 Canada;X-APPLE-RADIUS=500;X-TITLE=750\, boul. Jacques-Bizard\, H9C 2Y2:geo:-73.8776709,45.5027065
END:VEVENT
BEGIN:VEVENT
DTSTART;TZID=America/New_York:20191107T133000
DTEND;TZID=America/New_York:20191107T143000
DTSTAMP:20260425T181227
CREATED:20190929T232916Z
LAST-MODIFIED:20190929T234139Z
UID:10000362-1573133400-1573137000@www.rsdo.org
SUMMARY:Groupes de marche - Vaudreuil-Dorion
DESCRIPTION:Nous avons 3 points de rencontre pour les marches régulières gratuites d’une durée de une heure pour tous les niveaux. Rendez-vous 10 minutes avant le départ. S’il y a changements de lieu de marche\, des annulations ou des informations de resto\, les personnes chargées des renseignements pour chaque groupe communiqueront avec vous ; les intéressé(e)s\, laissez-leur vos coordonnées. Les personnes ressources pour chaque lieu de départ ne garantissent pas leur présence à chaque jour indiqué ; amenez un(e) ami(e). \nRencontre : Opti-Centre Saint-Jean-Baptiste\, 145 Harwood\, J7V 1Y3. \nPossibilité d’aller au resto après la marche. \nPossibilité de changement de parcours mais même heure et même point de rencontre \nStationnement : Rencontre au stationnement du fond\, en face de l’Opti-Centre. \nRenseignements : Claire M. – tél. 450 218-0967\, Pauline D. – tél. 450 510-1931\, ou Viateur B. – tél. 450 455-1014 \nInformations générales : Gisèle T. 514-620-6652
URL:https://www.rsdo.org/evenements/groupes-de-marche-vaudreuil-dorion-4/2019-11-07/
LOCATION:Opti-Centre St-Jean-Baptiste\, 145\, Harwood\, Vaudreuil-Dorion\, Québec\, J7V 1Y3\, Canada
CATEGORIES:Ateliers
ATTACH;FMTTYPE=image/jpeg:https://www.rsdo.org/wp-content/uploads/2018/06/Randonnée-pédestre-2.jpg
GEO:45.3836495;-74.0116336
X-APPLE-STRUCTURED-LOCATION;VALUE=URI;X-ADDRESS=Opti-Centre St-Jean-Baptiste 145 Harwood Vaudreuil-Dorion Québec J7V 1Y3 Canada;X-APPLE-RADIUS=500;X-TITLE=145\, Harwood:geo:-74.0116336,45.3836495
END:VEVENT
BEGIN:VEVENT
DTSTART;TZID=America/New_York:20191107T193000
DTEND;TZID=America/New_York:20191107T213000
DTSTAMP:20260425T181227
CREATED:20190929T223701Z
LAST-MODIFIED:20190929T223902Z
UID:10000392-1573155000-1573162200@www.rsdo.org
SUMMARY:Sur le chemin de Compostelle: une expérience unique
DESCRIPTION:Dany Couture:  »Passionné de la randonnée pédestre\, j’ai marché sur les chemins de Compostelle en France\, en Espagne et en Italie à trois reprises depuis 1 an. Ces expériences m’ont procuré une grande joie et une liberté d’être dans le moment présent qui m’amène aujourd’hui à vouloir partager avec tous ceux qui veulent entreprendre de marcher sur les chemins de Compostelle et passer enfin du rêve à la réalité. \nPasser du rêve à la réalité\, c’est ce que j’ai fait en 2018 après plusieurs années où je remettais constamment à plus tard mon rêve de marcher sur les chemins de Compostelle et ce pour toutes sortes de bonnes raisons. \nCette conférence s’adresse à tous ceux qui aimeraient marcher sur les chemins de Compostelle un jour\, à tous ceux qui sont passionnés par les voyages et la marche et tous ceux qui aimeraient apprendre à voyager léger. \nVous en apprendrez un peu plus sur les chemins de Compostelle\, vous développerez votre goût de voyager en toute simplicité et vous allez découvrir une alternative de voyager différemment. \nJe vous partagerai mon expérience vécue sur le chemin\, par des anecdotes parfois drôles mais aussi par des moments spirituels d’une grande intensité. Le chemin\, c’est un dépassement de soi\, autant physique que spirituel qui nous amène à être libre dans l’instant présent. Le chemin\, c’est aussi les rencontres que nous faisons tout au long des kilomètres franchis. Parfois courtes mais étant d’une richesse incroyable. Le chemin\, c’est d’être à l’écoute de ce qui se présente tout simplement. Au plaisir de vous rencontrer ! »
URL:https://www.rsdo.org/evenements/chemin-de-compostelle-experience-unique/
LOCATION:Centre communautaire Marcel Morin\, 14068\, boulevard Gouin Ouest\, Pierrefonds\, Québec\, H8Z 1Y1\, Canada
CATEGORIES:Conférences
ATTACH;FMTTYPE=image/jpeg:https://www.rsdo.org/wp-content/uploads/2019/09/Denis-Fortier-2.jpg
GEO:45.4956281;-73.8506691
X-APPLE-STRUCTURED-LOCATION;VALUE=URI;X-ADDRESS=Centre communautaire Marcel Morin 14068 boulevard Gouin Ouest Pierrefonds Québec H8Z 1Y1 Canada;X-APPLE-RADIUS=500;X-TITLE=14068\, boulevard Gouin Ouest:geo:-73.8506691,45.4956281
END:VEVENT
END:VCALENDAR