BEGIN:VCALENDAR
VERSION:2.0
PRODID:-//RSDO - ECPv6.15.20//NONSGML v1.0//EN
CALSCALE:GREGORIAN
METHOD:PUBLISH
X-WR-CALNAME:RSDO
X-ORIGINAL-URL:https://www.rsdo.org
X-WR-CALDESC:Évènements pour RSDO
REFRESH-INTERVAL;VALUE=DURATION:PT1H
X-Robots-Tag:noindex
X-PUBLISHED-TTL:PT1H
BEGIN:VTIMEZONE
TZID:America/New_York
BEGIN:DAYLIGHT
TZOFFSETFROM:-0500
TZOFFSETTO:-0400
TZNAME:EDT
DTSTART:20180311T070000
END:DAYLIGHT
BEGIN:STANDARD
TZOFFSETFROM:-0400
TZOFFSETTO:-0500
TZNAME:EST
DTSTART:20181104T060000
END:STANDARD
BEGIN:DAYLIGHT
TZOFFSETFROM:-0500
TZOFFSETTO:-0400
TZNAME:EDT
DTSTART:20190310T070000
END:DAYLIGHT
BEGIN:STANDARD
TZOFFSETFROM:-0400
TZOFFSETTO:-0500
TZNAME:EST
DTSTART:20191103T060000
END:STANDARD
BEGIN:DAYLIGHT
TZOFFSETFROM:-0500
TZOFFSETTO:-0400
TZNAME:EDT
DTSTART:20200308T070000
END:DAYLIGHT
BEGIN:STANDARD
TZOFFSETFROM:-0400
TZOFFSETTO:-0500
TZNAME:EST
DTSTART:20201101T060000
END:STANDARD
END:VTIMEZONE
BEGIN:VEVENT
DTSTART;TZID=America/New_York:20191019T100000
DTEND;TZID=America/New_York:20191019T113000
DTSTAMP:20260425T181207
CREATED:20190903T000724Z
LAST-MODIFIED:20190903T000724Z
UID:10001537-1571479200-1571484600@www.rsdo.org
SUMMARY:Cours de conditionnement physique et de yoga
DESCRIPTION:Pour suivre ce cours\, il faut être membre du RSDO sauf pour le 1er cours. \nLe RSDO vous offre gratuitement un cours de yoga d’une heure combiné avec le conditionnement physique d’une durée de 30 minutes. Vous avez le choix de faire l’un ou l’autre ou les deux. \nHoraire :  conditionnement physique de 10 h à 10 h 30;  yoga de 10 h 30 à 11 h 30. \nInstructrice : Josey Deroy \nPour votre confort au yoga\, apportez un tapis\, des blocs en mousse\, serviette et bouteille d’eau. \nPour le conditionnement physique\, des espadrilles et des poids de 2 à 5 kg. \nRenseignements : Chantal 514-696-9408 ou RSDO 438-390-7736
URL:https://www.rsdo.org/evenements/cours-de-conditionnement-physique-de-yoga-4/2019-10-19/
LOCATION:Chalet Roxboro\, 10 11 rue\, Roxboro\, Quebec\, H8Y 2P3\, Canada
CATEGORIES:Cours
ATTACH;FMTTYPE=image/jpeg:https://www.rsdo.org/wp-content/uploads/2018/09/download-1-1.jpg
GEO:45.5053201;-73.8030777
X-APPLE-STRUCTURED-LOCATION;VALUE=URI;X-ADDRESS=Chalet Roxboro 10 11 rue Roxboro Quebec H8Y 2P3 Canada;X-APPLE-RADIUS=500;X-TITLE=10 11 rue:geo:-73.8030777,45.5053201
END:VEVENT
BEGIN:VEVENT
DTSTART;TZID=America/New_York:20191019T110000
DTEND;TZID=America/New_York:20191019T120000
DTSTAMP:20260425T181207
CREATED:20190929T233922Z
LAST-MODIFIED:20190929T234003Z
UID:10000381-1571482800-1571486400@www.rsdo.org
SUMMARY:Groupes de marches - Lachine
DESCRIPTION:Nous avons 3 points de rencontre pour les marches régulières gratuites d’une durée de une heure pour tous les niveaux. Rendez-vous 10 minutes avant le départ. S’il y a changements de lieu de marche\, des annulations ou des informations de resto\, les personnes chargées des renseignements pour chaque groupe communiqueront avec vous ; les intéressé(e)s\, laissez-leur vos coordonnées. Les personnes ressources pour chaque lieu de départ ne garantissent pas leur présence à chaque jour indiqué ; amenez un(e) ami(e). \nRencontre : Sur le boul. Saint-Joseph à Lachine\, près de la 32 ème avenue\, devant le Dairy Queen\, sur le bord de l’eau. \nPossibilité d’aller au resto à 12 h 15 (lieux variables à proximité). Possibilité d’aller parfois marcher ailleurs\, mais même heure et même point de rencontre et possibilité de covoiturage. Informations mises sur Facebook\, site rass.lachine. \nStationnement : Sur les rues avoisinantes où le stationnement est permis \nRenseignements : Nancy S. – tél. 438 403-2919. \nInformations générales : Gisèle T. 514-620-6652 \n 
URL:https://www.rsdo.org/evenements/groupes-de-marches-lachine/2019-10-19/
LOCATION:Dairy Queen Lachine\, 3210\, boul. Saint-Joseph\, Lachine\, Québec\, H8T 1P4\, Canada
CATEGORIES:Ateliers
ATTACH;FMTTYPE=image/jpeg:https://www.rsdo.org/wp-content/uploads/2018/06/Randonnée-Lachine.jpg
GEO:45.4338847;-73.6923329
X-APPLE-STRUCTURED-LOCATION;VALUE=URI;X-ADDRESS=Dairy Queen Lachine 3210 boul. Saint-Joseph Lachine Québec H8T 1P4 Canada;X-APPLE-RADIUS=500;X-TITLE=3210\, boul. Saint-Joseph:geo:-73.6923329,45.4338847
END:VEVENT
BEGIN:VEVENT
DTSTART;TZID=America/New_York:20191019T130000
DTEND;TZID=America/New_York:20191019T153000
DTSTAMP:20260425T181207
CREATED:20190902T233002Z
LAST-MODIFIED:20190902T233002Z
UID:10001516-1571490000-1571499000@www.rsdo.org
SUMMARY:À travers toute forme de deuil...se raconter...et s'observer
DESCRIPTION:Pour suivre cet atelier il faut être membre du RSDO. \nNous vivons plusieurs formes de deuil au cours de notre vie. Deuil d’un être cher\, d’une maison\, d’un conjoint suite à une séparation\, etc. Et il est parfois difficile de trouver ses repères après de tels bouleversements. Nous vous proposons un atelier de deux rencontres en lien avec le deuil. \nÀ qui s’adresse l’atelier ? \nÀ toute personne vivant un deuil. Perte d’un être cher\, une séparation ou un deuil dû à un changement important de vie et qui cherche une façon créative et constructive de se déposer\, sortir de l’isolement\, de revenir vers soi et de faire un petit pas de plus…vers la réconciliation. \nCes ateliers ne sont pas des thérapies proprement dites\, mais faisant\, à travers la création et mes interventions vous pourrez trouver des outils thérapeutiques qui vous serviront dans plusieurs domaines de votre vie. J’affectionne un environnement convivial\, chaleureux\, sans obligation et sans jugement. \nEspérant vous procurer un espace de détente\, de réflexion\, d’échange et de créativité\, dans le respect de votre chemin personnel. \nCoût : Gratuit pour les membres. \nAnimatrice : Josée King\, thérapeute en soin énergétique. \nParticipants : Minimum 8 personnes\, maximum 20 personnes. \nRenseignements : Sylvie Gagnon 514 850-1243.
URL:https://www.rsdo.org/evenements/a-travers-toute-forme-de-deuil-se-raconter-sobserver-2/
LOCATION:Le Grenier\, 571\, rue Cherrier\, Île-Bizard\, Québec\, H9E 1J7\, Canada
CATEGORIES:Cours
ATTACH;FMTTYPE=image/jpeg:https://www.rsdo.org/wp-content/uploads/2019/09/heart-700141__340.jpg
ORGANIZER;CN="Sylvie Gagnon":MAILTO:conference@rsdo.org
GEO:45.4853816;-73.8807703
X-APPLE-STRUCTURED-LOCATION;VALUE=URI;X-ADDRESS=Le Grenier 571 rue Cherrier Île-Bizard Québec H9E 1J7 Canada;X-APPLE-RADIUS=500;X-TITLE=571\, rue Cherrier:geo:-73.8807703,45.4853816
END:VEVENT
END:VCALENDAR