BEGIN:VCALENDAR
VERSION:2.0
PRODID:-//RSDO - ECPv6.15.20//NONSGML v1.0//EN
CALSCALE:GREGORIAN
METHOD:PUBLISH
X-WR-CALNAME:RSDO
X-ORIGINAL-URL:https://www.rsdo.org
X-WR-CALDESC:Évènements pour RSDO
REFRESH-INTERVAL;VALUE=DURATION:PT1H
X-Robots-Tag:noindex
X-PUBLISHED-TTL:PT1H
BEGIN:VTIMEZONE
TZID:America/New_York
BEGIN:DAYLIGHT
TZOFFSETFROM:-0500
TZOFFSETTO:-0400
TZNAME:EDT
DTSTART:20180311T070000
END:DAYLIGHT
BEGIN:STANDARD
TZOFFSETFROM:-0400
TZOFFSETTO:-0500
TZNAME:EST
DTSTART:20181104T060000
END:STANDARD
BEGIN:DAYLIGHT
TZOFFSETFROM:-0500
TZOFFSETTO:-0400
TZNAME:EDT
DTSTART:20190310T070000
END:DAYLIGHT
BEGIN:STANDARD
TZOFFSETFROM:-0400
TZOFFSETTO:-0500
TZNAME:EST
DTSTART:20191103T060000
END:STANDARD
BEGIN:DAYLIGHT
TZOFFSETFROM:-0500
TZOFFSETTO:-0400
TZNAME:EDT
DTSTART:20200308T070000
END:DAYLIGHT
BEGIN:STANDARD
TZOFFSETFROM:-0400
TZOFFSETTO:-0500
TZNAME:EST
DTSTART:20201101T060000
END:STANDARD
END:VTIMEZONE
BEGIN:VEVENT
DTSTART;TZID=America/New_York:20191006T090000
DTEND;TZID=America/New_York:20191006T160000
DTSTAMP:20260425T181228
CREATED:20190902T224111Z
LAST-MODIFIED:20190902T224111Z
UID:10000310-1570352400-1570377600@www.rsdo.org
SUMMARY:Canneberges en fête
DESCRIPTION:De la fin septembre à la mi-octobre\, le Centre d’interprétation de la canneberge (CIC) déroule son tapis de fruits rouges pour le plus grand plaisir des visiteurs provenant des quatre coins du Québec. En groupe\, seul ou en famille\, venez apprendre le fonctionnement d’une récolte de canneberges et en savoir plus   sur ce petit fruit. Accompagné d’un guide\, vous aurez le privilège de visiter une cannebergière pour voir l’immensité des champs. Complétez votre visite en parcourant notre salle d’interprétation. Boutique et dégustations couronneront cette fête de la canneberge ! \nTransport: Départ à 9 h du stationnement de l’hôtel Holiday Inn \nRetour : Départ de St-Louis de Blandford à 16 H \nCoût : Transport par autobus de luxe\, visite et dîner 74 $ taxes et service inclus (minimum 35 personnes) \nDate limite  pour  réservation  et   paiement  avant   le   20   septembre   2019.   Aucun   remboursement ne sera effectué après le 20 septembre 2019. Renseignements\, réservation et  paiement  auprès  de Pauline D. 450 510-1931.
URL:https://www.rsdo.org/evenements/canneberges-en-fete/
LOCATION:Centre d’interprétation de canneberge
CATEGORIES:Ateliers
ATTACH;FMTTYPE=image/jpeg:https://www.rsdo.org/wp-content/uploads/2019/09/Canneberges-en-fête.jpg
ORGANIZER;CN="Pauline Debonville":MAILTO:sociale@rsdo.org
END:VEVENT
END:VCALENDAR