BEGIN:VCALENDAR
VERSION:2.0
PRODID:-//RSDO - ECPv6.15.20//NONSGML v1.0//EN
CALSCALE:GREGORIAN
METHOD:PUBLISH
X-ORIGINAL-URL:https://www.rsdo.org
X-WR-CALDESC:Évènements pour RSDO
REFRESH-INTERVAL;VALUE=DURATION:PT1H
X-Robots-Tag:noindex
X-PUBLISHED-TTL:PT1H
BEGIN:VTIMEZONE
TZID:America/New_York
BEGIN:DAYLIGHT
TZOFFSETFROM:-0500
TZOFFSETTO:-0400
TZNAME:EDT
DTSTART:20180311T070000
END:DAYLIGHT
BEGIN:STANDARD
TZOFFSETFROM:-0400
TZOFFSETTO:-0500
TZNAME:EST
DTSTART:20181104T060000
END:STANDARD
BEGIN:DAYLIGHT
TZOFFSETFROM:-0500
TZOFFSETTO:-0400
TZNAME:EDT
DTSTART:20190310T070000
END:DAYLIGHT
BEGIN:STANDARD
TZOFFSETFROM:-0400
TZOFFSETTO:-0500
TZNAME:EST
DTSTART:20191103T060000
END:STANDARD
BEGIN:DAYLIGHT
TZOFFSETFROM:-0500
TZOFFSETTO:-0400
TZNAME:EDT
DTSTART:20200308T070000
END:DAYLIGHT
BEGIN:STANDARD
TZOFFSETFROM:-0400
TZOFFSETTO:-0500
TZNAME:EST
DTSTART:20201101T060000
END:STANDARD
END:VTIMEZONE
BEGIN:VEVENT
DTSTART;TZID=America/New_York:20190504T100000
DTEND;TZID=America/New_York:20190914T103000
DTSTAMP:20260425T201331
CREATED:20190105T202858Z
LAST-MODIFIED:20190105T202858Z
UID:10001312-1556964000-1568457000@www.rsdo.org
SUMMARY:Cours de conditionnement physique et de yoga
DESCRIPTION:Pour suivre ce cours\, il faut être membre du RSDO. Première participation gratuite. \nLe RSDO offre à ses membres le cours de conditionnement physique d’une durée de 30 minutes combiné avec le cours de yoga d’une durée d’une heure. Vous avez le choix de faire l’un ou l’autre ou les deux. \nHeure :                        10 h à 10 h 30\, conditionnement physique. \n10 h 30 à 11 h 30\, yoga. \nInstructrice :                Josey Deroy \nVeuillez apporter pour le conditionnement physique\, des espadrilles et des poids de 2 à 5 kg et pour votre confort au yoga un tapis\, des blocs en mousse\, une serviette et une bouteille d’eau. \nRenseignements : Chantal au 514 696-9408 ou le RSDO au 438 390-7736.
URL:https://www.rsdo.org/evenements/cours-de-conditionnement-physique-de-yoga-3/2019-05-04/
LOCATION:Chalet Roxboro\, 10 11 rue\, Roxboro\, Quebec\, H8Y 2P3\, Canada
CATEGORIES:Cours
ATTACH;FMTTYPE=image/jpeg:https://www.rsdo.org/wp-content/uploads/2018/09/download-1-1.jpg
ORGANIZER;CN="Josey Deroy":MAILTO:josey.yoga.fitness@gmail.com
GEO:45.5053201;-73.8030777
X-APPLE-STRUCTURED-LOCATION;VALUE=URI;X-ADDRESS=Chalet Roxboro 10 11 rue Roxboro Quebec H8Y 2P3 Canada;X-APPLE-RADIUS=500;X-TITLE=10 11 rue:geo:-73.8030777,45.5053201
END:VEVENT
BEGIN:VEVENT
DTSTART;TZID=America/New_York:20190511T100000
DTEND;TZID=America/New_York:20190921T103000
DTSTAMP:20260425T201331
CREATED:20190105T202858Z
LAST-MODIFIED:20190105T202858Z
UID:10001313-1557568800-1569061800@www.rsdo.org
SUMMARY:Cours de conditionnement physique et de yoga
DESCRIPTION:Pour suivre ce cours\, il faut être membre du RSDO. Première participation gratuite. \nLe RSDO offre à ses membres le cours de conditionnement physique d’une durée de 30 minutes combiné avec le cours de yoga d’une durée d’une heure. Vous avez le choix de faire l’un ou l’autre ou les deux. \nHeure :                        10 h à 10 h 30\, conditionnement physique. \n10 h 30 à 11 h 30\, yoga. \nInstructrice :                Josey Deroy \nVeuillez apporter pour le conditionnement physique\, des espadrilles et des poids de 2 à 5 kg et pour votre confort au yoga un tapis\, des blocs en mousse\, une serviette et une bouteille d’eau. \nRenseignements : Chantal au 514 696-9408 ou le RSDO au 438 390-7736.
URL:https://www.rsdo.org/evenements/cours-de-conditionnement-physique-de-yoga-3/2019-05-11/
LOCATION:Chalet Roxboro\, 10 11 rue\, Roxboro\, Quebec\, H8Y 2P3\, Canada
CATEGORIES:Cours
ATTACH;FMTTYPE=image/jpeg:https://www.rsdo.org/wp-content/uploads/2018/09/download-1-1.jpg
ORGANIZER;CN="Josey Deroy":MAILTO:josey.yoga.fitness@gmail.com
GEO:45.5053201;-73.8030777
X-APPLE-STRUCTURED-LOCATION;VALUE=URI;X-ADDRESS=Chalet Roxboro 10 11 rue Roxboro Quebec H8Y 2P3 Canada;X-APPLE-RADIUS=500;X-TITLE=10 11 rue:geo:-73.8030777,45.5053201
END:VEVENT
BEGIN:VEVENT
DTSTART;TZID=America/New_York:20190518T100000
DTEND;TZID=America/New_York:20190928T103000
DTSTAMP:20260425T201331
CREATED:20190105T202858Z
LAST-MODIFIED:20190105T202858Z
UID:10001314-1558173600-1569666600@www.rsdo.org
SUMMARY:Cours de conditionnement physique et de yoga
DESCRIPTION:Pour suivre ce cours\, il faut être membre du RSDO. Première participation gratuite. \nLe RSDO offre à ses membres le cours de conditionnement physique d’une durée de 30 minutes combiné avec le cours de yoga d’une durée d’une heure. Vous avez le choix de faire l’un ou l’autre ou les deux. \nHeure :                        10 h à 10 h 30\, conditionnement physique. \n10 h 30 à 11 h 30\, yoga. \nInstructrice :                Josey Deroy \nVeuillez apporter pour le conditionnement physique\, des espadrilles et des poids de 2 à 5 kg et pour votre confort au yoga un tapis\, des blocs en mousse\, une serviette et une bouteille d’eau. \nRenseignements : Chantal au 514 696-9408 ou le RSDO au 438 390-7736.
URL:https://www.rsdo.org/evenements/cours-de-conditionnement-physique-de-yoga-3/2019-05-18/
LOCATION:Chalet Roxboro\, 10 11 rue\, Roxboro\, Quebec\, H8Y 2P3\, Canada
CATEGORIES:Cours
ATTACH;FMTTYPE=image/jpeg:https://www.rsdo.org/wp-content/uploads/2018/09/download-1-1.jpg
ORGANIZER;CN="Josey Deroy":MAILTO:josey.yoga.fitness@gmail.com
GEO:45.5053201;-73.8030777
X-APPLE-STRUCTURED-LOCATION;VALUE=URI;X-ADDRESS=Chalet Roxboro 10 11 rue Roxboro Quebec H8Y 2P3 Canada;X-APPLE-RADIUS=500;X-TITLE=10 11 rue:geo:-73.8030777,45.5053201
END:VEVENT
BEGIN:VEVENT
DTSTART;TZID=America/New_York:20190525T100000
DTEND;TZID=America/New_York:20191005T103000
DTSTAMP:20260425T201331
CREATED:20190105T202858Z
LAST-MODIFIED:20190105T202858Z
UID:10001315-1558778400-1570271400@www.rsdo.org
SUMMARY:Cours de conditionnement physique et de yoga
DESCRIPTION:Pour suivre ce cours\, il faut être membre du RSDO. Première participation gratuite. \nLe RSDO offre à ses membres le cours de conditionnement physique d’une durée de 30 minutes combiné avec le cours de yoga d’une durée d’une heure. Vous avez le choix de faire l’un ou l’autre ou les deux. \nHeure :                        10 h à 10 h 30\, conditionnement physique. \n10 h 30 à 11 h 30\, yoga. \nInstructrice :                Josey Deroy \nVeuillez apporter pour le conditionnement physique\, des espadrilles et des poids de 2 à 5 kg et pour votre confort au yoga un tapis\, des blocs en mousse\, une serviette et une bouteille d’eau. \nRenseignements : Chantal au 514 696-9408 ou le RSDO au 438 390-7736.
URL:https://www.rsdo.org/evenements/cours-de-conditionnement-physique-de-yoga-3/2019-05-25/
LOCATION:Chalet Roxboro\, 10 11 rue\, Roxboro\, Quebec\, H8Y 2P3\, Canada
CATEGORIES:Cours
ATTACH;FMTTYPE=image/jpeg:https://www.rsdo.org/wp-content/uploads/2018/09/download-1-1.jpg
ORGANIZER;CN="Josey Deroy":MAILTO:josey.yoga.fitness@gmail.com
GEO:45.5053201;-73.8030777
X-APPLE-STRUCTURED-LOCATION;VALUE=URI;X-ADDRESS=Chalet Roxboro 10 11 rue Roxboro Quebec H8Y 2P3 Canada;X-APPLE-RADIUS=500;X-TITLE=10 11 rue:geo:-73.8030777,45.5053201
END:VEVENT
BEGIN:VEVENT
DTSTART;TZID=America/New_York:20190914T100000
DTEND;TZID=America/New_York:20190914T113000
DTSTAMP:20260425T201332
CREATED:20190903T000724Z
LAST-MODIFIED:20190903T000724Z
UID:10001532-1568455200-1568460600@www.rsdo.org
SUMMARY:Cours de conditionnement physique et de yoga
DESCRIPTION:Pour suivre ce cours\, il faut être membre du RSDO sauf pour le 1er cours. \nLe RSDO vous offre gratuitement un cours de yoga d’une heure combiné avec le conditionnement physique d’une durée de 30 minutes. Vous avez le choix de faire l’un ou l’autre ou les deux. \nHoraire :  conditionnement physique de 10 h à 10 h 30;  yoga de 10 h 30 à 11 h 30. \nInstructrice : Josey Deroy \nPour votre confort au yoga\, apportez un tapis\, des blocs en mousse\, serviette et bouteille d’eau. \nPour le conditionnement physique\, des espadrilles et des poids de 2 à 5 kg. \nRenseignements : Chantal 514-696-9408 ou RSDO 438-390-7736
URL:https://www.rsdo.org/evenements/cours-de-conditionnement-physique-de-yoga-4/2019-09-14/
LOCATION:Chalet Roxboro\, 10 11 rue\, Roxboro\, Quebec\, H8Y 2P3\, Canada
CATEGORIES:Cours
ATTACH;FMTTYPE=image/jpeg:https://www.rsdo.org/wp-content/uploads/2018/09/download-1-1.jpg
GEO:45.5053201;-73.8030777
X-APPLE-STRUCTURED-LOCATION;VALUE=URI;X-ADDRESS=Chalet Roxboro 10 11 rue Roxboro Quebec H8Y 2P3 Canada;X-APPLE-RADIUS=500;X-TITLE=10 11 rue:geo:-73.8030777,45.5053201
END:VEVENT
BEGIN:VEVENT
DTSTART;TZID=America/New_York:20190914T110000
DTEND;TZID=America/New_York:20190914T120000
DTSTAMP:20260425T201332
CREATED:20190929T233922Z
LAST-MODIFIED:20190929T234003Z
UID:10000376-1568458800-1568462400@www.rsdo.org
SUMMARY:Groupes de marches - Lachine
DESCRIPTION:Nous avons 3 points de rencontre pour les marches régulières gratuites d’une durée de une heure pour tous les niveaux. Rendez-vous 10 minutes avant le départ. S’il y a changements de lieu de marche\, des annulations ou des informations de resto\, les personnes chargées des renseignements pour chaque groupe communiqueront avec vous ; les intéressé(e)s\, laissez-leur vos coordonnées. Les personnes ressources pour chaque lieu de départ ne garantissent pas leur présence à chaque jour indiqué ; amenez un(e) ami(e). \nRencontre : Sur le boul. Saint-Joseph à Lachine\, près de la 32 ème avenue\, devant le Dairy Queen\, sur le bord de l’eau. \nPossibilité d’aller au resto à 12 h 15 (lieux variables à proximité). Possibilité d’aller parfois marcher ailleurs\, mais même heure et même point de rencontre et possibilité de covoiturage. Informations mises sur Facebook\, site rass.lachine. \nStationnement : Sur les rues avoisinantes où le stationnement est permis \nRenseignements : Nancy S. – tél. 438 403-2919. \nInformations générales : Gisèle T. 514-620-6652 \n 
URL:https://www.rsdo.org/evenements/groupes-de-marches-lachine/2019-09-14/
LOCATION:Dairy Queen Lachine\, 3210\, boul. Saint-Joseph\, Lachine\, Québec\, H8T 1P4\, Canada
CATEGORIES:Ateliers
ATTACH;FMTTYPE=image/jpeg:https://www.rsdo.org/wp-content/uploads/2018/06/Randonnée-Lachine.jpg
GEO:45.4338847;-73.6923329
X-APPLE-STRUCTURED-LOCATION;VALUE=URI;X-ADDRESS=Dairy Queen Lachine 3210 boul. Saint-Joseph Lachine Québec H8T 1P4 Canada;X-APPLE-RADIUS=500;X-TITLE=3210\, boul. Saint-Joseph:geo:-73.6923329,45.4338847
END:VEVENT
BEGIN:VEVENT
DTSTART;TZID=America/New_York:20190914T123000
DTEND;TZID=America/New_York:20190914T193000
DTSTAMP:20260425T201332
CREATED:20190902T182857Z
LAST-MODIFIED:20190902T183009Z
UID:10000309-1568464200-1568489400@www.rsdo.org
SUMMARY:Sortie dans le Vieux-Port de Montréal et croisièreà bord du bateau-mouche
DESCRIPTION:Prenez 60 minutes pour découvrir Montréal et le Vieux-Port comme vous ne l’avez jamais vue. Au rythme du Saint-Laurent\, profitez d’une vue imprenable sur les monuments phares de cette ville séduisante et savourez le luxe d’un bateau lumineux et confortable. \nDépart : 12 h 30 de Pointe-Claire en autobus scolaire du stationnement de l’hôtel Holiday Inn  \nS.V.P. arrivez 15 minutes avant le départ de l’autobus \nEmbarquement sur le bateau : 14 h 15 – la durée de la croisière est d’une heure \nCoût : Autobus et bateau mouche 33 $ par personne taxes incluses. (minimum de 30 personnes) \nTemps libre : Souper et activités dans le Vieux-Port ou le vieux Montréal. \nHeure de retour :Départ du vieux Port vers 19 h 30. \nRenseignements\, réservation et paiement avant le 7 septembre 2019 auprès de Pauline Debonville au    450 510-1931\, cellulaire 514 830-1166 ou Claire Ménard 450 218-0967 (aucun remboursement après le 8 septembre 2019).
URL:https://www.rsdo.org/evenements/sortie-vieux-port-de-montreal-croisierea-bord-bateau-mouche/
LOCATION:Vieux-Port de Montréal
CATEGORIES:Ateliers
ATTACH;FMTTYPE=image/jpeg:https://www.rsdo.org/wp-content/uploads/2019/09/Vieux-Port.jpg
ORGANIZER;CN="Pauline Debonville":MAILTO:sociale@rsdo.org
END:VEVENT
END:VCALENDAR